Workbook

Sheet Decade_Top5
A1: Most successful clubs of each decade, adjusted for market size, start-up status and payroll
A2: Ranked by wins per 162 games above expectation (Decade_Index). Raw column shows the unadjusted win% vs league. Payroll-adjusted rows exist for 1990-2025 (see Payroll_Sources for 2017-2025 definitions). Min. 5 seasons in the period.
A4: Period | B4: Rank | C4: Franchise | D4: Adjusted: wins/162 above expectation | E4: Raw: wins/162 vs league | F4: Postseason apps | G4: WS titles
A5: 1900s | B5: 1 | C5: =IFERROR(INDEX(Decade_Index!$B$25:$B$534,MATCH($A5&"|"&$B5,Decade_Index!$P$25:$P$534,0)),"") -> PIT | D5: =IFERROR(INDEX(Decade_Index!$J$25:$J$534,MATCH($A5&"|"&$B5,Decade_Index!$P$25:$P$534,0)),"") -> 25.580417 | E5: =IFERROR(INDEX(Decade_Index!$K$25:$K$534,MATCH($A5&"|"&$B5,Decade_Index!$P$25:$P$534,0)),"") -> 23.143594 | F5: =IFERROR(INDEX(Decade_Index!$L$25:$L$534,MATCH($A5&"|"&$B5,Decade_Index!$P$25:$P$534,0)),"") -> 4 | G5: =IFERROR(INDEX(Decade_Index!$M$25:$M$534,MATCH($A5&"|"&$B5,Decade_Index!$P$25:$P$534,0)),"") -> 1
A6: 1900s | B6: 2 | C6: =IFERROR(INDEX(Decade_Index!$B$25:$B$534,MATCH($A6&"|"&$B6,Decade_Index!$P$25:$P$534,0)),"") -> CHC | D6: =IFERROR(INDEX(Decade_Index!$J$25:$J$534,MATCH($A6&"|"&$B6,Decade_Index!$P$25:$P$534,0)),"") -> 12.774184 | E6: =IFERROR(INDEX(Decade_Index!$K$25:$K$534,MATCH($A6&"|"&$B6,Decade_Index!$P$25:$P$534,0)),"") -> 17.335566 | F6: =IFERROR(INDEX(Decade_Index!$L$25:$L$534,MATCH($A6&"|"&$B6,Decade_Index!$P$25:$P$534,0)),"") -> 3 | G6: =IFERROR(INDEX(Decade_Index!$M$25:$M$534,MATCH($A6&"|"&$B6,Decade_Index!$P$25:$P$534,0)),"") -> 2
A7: 1900s | B7: 3 | C7: =IFERROR(INDEX(Decade_Index!$B$25:$B$534,MATCH($A7&"|"&$B7,Decade_Index!$P$25:$P$534,0)),"") -> BOS | D7: =IFERROR(INDEX(Decade_Index!$J$25:$J$534,MATCH($A7&"|"&$B7,Decade_Index!$P$25:$P$534,0)),"") -> 8.6916831 | E7: =IFERROR(INDEX(Decade_Index!$K$25:$K$534,MATCH($A7&"|"&$B7,Decade_Index!$P$25:$P$534,0)),"") -> 3.7570385 | F7: =IFERROR(INDEX(Decade_Index!$L$25:$L$534,MATCH($A7&"|"&$B7,Decade_Index!$P$25:$P$534,0)),"") -> 2 | G7: =IFERROR(INDEX(Decade_Index!$M$25:$M$534,MATCH($A7&"|"&$B7,Decade_Index!$P$25:$P$534,0)),"") -> 1
A8: 1900s | B8: 4 | C8: =IFERROR(INDEX(Decade_Index!$B$25:$B$534,MATCH($A8&"|"&$B8,Decade_Index!$P$25:$P$534,0)),"") -> OAK | D8: =IFERROR(INDEX(Decade_Index!$J$25:$J$534,MATCH($A8&"|"&$B8,Decade_Index!$P$25:$P$534,0)),"") -> 8.2660127 | E8: =IFERROR(INDEX(Decade_Index!$K$25:$K$534,MATCH($A8&"|"&$B8,Decade_Index!$P$25:$P$534,0)),"") -> 10.270572 | F8: =IFERROR(INDEX(Decade_Index!$L$25:$L$534,MATCH($A8&"|"&$B8,Decade_Index!$P$25:$P$534,0)),"") -> 2 | G8: =IFERROR(INDEX(Decade_Index!$M$25:$M$534,MATCH($A8&"|"&$B8,Decade_Index!$P$25:$P$534,0)),"") -> 0
A9: 1900s | B9: 5 | C9: =IFERROR(INDEX(Decade_Index!$B$25:$B$534,MATCH($A9&"|"&$B9,Decade_Index!$P$25:$P$534,0)),"") -> DET | D9: =IFERROR(INDEX(Decade_Index!$J$25:$J$534,MATCH($A9&"|"&$B9,Decade_Index!$P$25:$P$534,0)),"") -> 6.207089 | E9: =IFERROR(INDEX(Decade_Index!$K$25:$K$534,MATCH($A9&"|"&$B9,Decade_Index!$P$25:$P$534,0)),"") -> 2.7128186 | F9: =IFERROR(INDEX(Decade_Index!$L$25:$L$534,MATCH($A9&"|"&$B9,Decade_Index!$P$25:$P$534,0)),"") -> 3 | G9: =IFERROR(INDEX(Decade_Index!$M$25:$M$534,MATCH($A9&"|"&$B9,Decade_Index!$P$25:$P$534,0)),"") -> 0
A10: 1910s | B10: 1 | C10: =IFERROR(INDEX(Decade_Index!$B$25:$B$534,MATCH($A10&"|"&$B10,Decade_Index!$P$25:$P$534,0)),"") -> BOS | D10: =IFERROR(INDEX(Decade_Index!$J$25:$J$534,MATCH($A10&"|"&$B10,Decade_Index!$P$25:$P$534,0)),"") -> 16.015153 | E10: =IFERROR(INDEX(Decade_Index!$K$25:$K$534,MATCH($A10&"|"&$B10,Decade_Index!$P$25:$P$534,0)),"") -> 12.645468 | F10: =IFERROR(INDEX(Decade_Index!$L$25:$L$534,MATCH($A10&"|"&$B10,Decade_Index!$P$25:$P$534,0)),"") -> 4 | G10: =IFERROR(INDEX(Decade_Index!$M$25:$M$534,MATCH($A10&"|"&$B10,Decade_Index!$P$25:$P$534,0)),"") -> 4
A11: 1910s | B11: 2 | C11: =IFERROR(INDEX(Decade_Index!$B$25:$B$534,MATCH($A11&"|"&$B11,Decade_Index!$P$25:$P$534,0)),"") -> SFG | D11: =IFERROR(INDEX(Decade_Index!$J$25:$J$534,MATCH($A11&"|"&$B11,Decade_Index!$P$25:$P$534,0)),"") -> 11.375039 | E11: =IFERROR(INDEX(Decade_Index!$K$25:$K$534,MATCH($A11&"|"&$B11,Decade_Index!$P$25:$P$534,0)),"") -> 15.882285 | F11: =IFERROR(INDEX(Decade_Index!$L$25:$L$534,MATCH($A11&"|"&$B11,Decade_Index!$P$25:$P$534,0)),"") -> 4 | G11: =IFERROR(INDEX(Decade_Index!$M$25:$M$534,MATCH($A11&"|"&$B11,Decade_Index!$P$25:$P$534,0)),"") -> 0
A12: 1910s | B12: 3 | C12: =IFERROR(INDEX(Decade_Index!$B$25:$B$534,MATCH($A12&"|"&$B12,Decade_Index!$P$25:$P$534,0)),"") -> CHC | D12: =IFERROR(INDEX(Decade_Index!$J$25:$J$534,MATCH($A12&"|"&$B12,Decade_Index!$P$25:$P$534,0)),"") -> 6.0609866 | E12: =IFERROR(INDEX(Decade_Index!$K$25:$K$534,MATCH($A12&"|"&$B12,Decade_Index!$P$25:$P$534,0)),"") -> 8.8086363 | F12: =IFERROR(INDEX(Decade_Index!$L$25:$L$534,MATCH($A12&"|"&$B12,Decade_Index!$P$25:$P$534,0)),"") -> 2 | G12: =IFERROR(INDEX(Decade_Index!$M$25:$M$534,MATCH($A12&"|"&$B12,Decade_Index!$P$25:$P$534,0)),"") -> 0
A13: 1910s | B13: 4 | C13: =IFERROR(INDEX(Decade_Index!$B$25:$B$534,MATCH($A13&"|"&$B13,Decade_Index!$P$25:$P$534,0)),"") -> DET | D13: =IFERROR(INDEX(Decade_Index!$J$25:$J$534,MATCH($A13&"|"&$B13,Decade_Index!$P$25:$P$534,0)),"") -> 4.7147464 | E13: =IFERROR(INDEX(Decade_Index!$K$25:$K$534,MATCH($A13&"|"&$B13,Decade_Index!$P$25:$P$534,0)),"") -> 4.4368793 | F13: =IFERROR(INDEX(Decade_Index!$L$25:$L$534,MATCH($A13&"|"&$B13,Decade_Index!$P$25:$P$534,0)),"") -> 0 | G13: =IFERROR(INDEX(Decade_Index!$M$25:$M$534,MATCH($A13&"|"&$B13,Decade_Index!$P$25:$P$534,0)),"") -> 0
A14: 1910s | B14: 5 | C14: =IFERROR(INDEX(Decade_Index!$B$25:$B$534,MATCH($A14&"|"&$B14,Decade_Index!$P$25:$P$534,0)),"") -> MIN | D14: =IFERROR(INDEX(Decade_Index!$J$25:$J$534,MATCH($A14&"|"&$B14,Decade_Index!$P$25:$P$534,0)),"") -> 4.0319582 | E14: =IFERROR(INDEX(Decade_Index!$K$25:$K$534,MATCH($A14&"|"&$B14,Decade_Index!$P$25:$P$534,0)),"") -> 0.97937004 | F14: =IFERROR(INDEX(Decade_Index!$L$25:$L$534,MATCH($A14&"|"&$B14,Decade_Index!$P$25:$P$534,0)),"") -> 0 | G14: =IFERROR(INDEX(Decade_Index!$M$25:$M$534,MATCH($A14&"|"&$B14,Decade_Index!$P$25:$P$534,0)),"") -> 0
A15: 1920s | B15: 1 | C15: =IFERROR(INDEX(Decade_Index!$B$25:$B$534,MATCH($A15&"|"&$B15,Decade_Index!$P$25:$P$534,0)),"") -> PIT | D15: =IFERROR(INDEX(Decade_Index!$J$25:$J$534,MATCH($A15&"|"&$B15,Decade_Index!$P$25:$P$534,0)),"") -> 13.465974 | E15: =IFERROR(INDEX(Decade_Index!$K$25:$K$534,MATCH($A15&"|"&$B15,Decade_Index!$P$25:$P$534,0)),"") -> 11.681886 | F15: =IFERROR(INDEX(Decade_Index!$L$25:$L$534,MATCH($A15&"|"&$B15,Decade_Index!$P$25:$P$534,0)),"") -> 2 | G15: =IFERROR(INDEX(Decade_Index!$M$25:$M$534,MATCH($A15&"|"&$B15,Decade_Index!$P$25:$P$534,0)),"") -> 1
A16: 1920s | B16: 2 | C16: =IFERROR(INDEX(Decade_Index!$B$25:$B$534,MATCH($A16&"|"&$B16,Decade_Index!$P$25:$P$534,0)),"") -> NYY | D16: =IFERROR(INDEX(Decade_Index!$J$25:$J$534,MATCH($A16&"|"&$B16,Decade_Index!$P$25:$P$534,0)),"") -> 11.74974 | E16: =IFERROR(INDEX(Decade_Index!$K$25:$K$534,MATCH($A16&"|"&$B16,Decade_Index!$P$25:$P$534,0)),"") -> 17.474024 | F16: =IFERROR(INDEX(Decade_Index!$L$25:$L$534,MATCH($A16&"|"&$B16,Decade_Index!$P$25:$P$534,0)),"") -> 6 | G16: =IFERROR(INDEX(Decade_Index!$M$25:$M$534,MATCH($A16&"|"&$B16,Decade_Index!$P$25:$P$534,0)),"") -> 3
... A89: 2020s payroll-adj | B89: 5 | C89: =IFERROR(INDEX(Decade_Index!$B$25:$B$534,MATCH($A89&"|"&$B89,Decade_Index!$P$25:$P$534,0)),"") -> HOU | D89: =IFERROR(INDEX(Decade_Index!$J$25:$J$534,MATCH($A89&"|"&$B89,Decade_Index!$P$25:$P$534,0)),"") -> 6.7644528 | E89: =IFERROR(INDEX(Decade_Index!$K$25:$K$534,MATCH($A89&"|"&$B89,Decade_Index!$P$25:$P$534,0)),"") -> 9.8096601 | F89: =IFERROR(INDEX(Decade_Index!$L$25:$L$534,MATCH($A89&"|"&$B89,Decade_Index!$P$25:$P$534,0)),"") -> 5 | G89: =IFERROR(INDEX(Decade_Index!$M$25:$M$534,MATCH($A89&"|"&$B89,Decade_Index!$P$25:$P$534,0)),"") -> 1

Sheet Decade_Index
A1: Decade index: wins above what a club's market, start-up status and payroll predict
A2: For each period, win% vs the league average is regressed on relative market size and an expansion first-10-seasons flag (all periods), and, for 1990-2016, relative payroll. Index = (average actual - average predicted) x 162 = wins per 162 games above expectation. Clubs need at least 5 seasons in the period. Payroll covers 1985-2025 (Lahman Salaries to 2016; press-reported payrolls 2017-2025, see Payroll_Sources); the 1980s cannot be payroll-adjusted.
A4: Period | B4: Start | C4: End | D4: First row | E4: Last row | F4: Model | G4: Size coef | H4: Expansion first-10 coef | I4: Payroll coef | J4: Intercept
A5: 1900s | B5: 1900 | C5: 1909 | D5: 2 | E5: 143 | F5: =SLOPE(Market_Panel!$M$2:$M$143,Market_Panel!$Z$2:$Z$143) -> 0.051208442 | G5: 0 | H5: 0 | I5: =INTERCEPT(Market_Panel!$M$2:$M$143,Market_Panel!$Z$2:$Z$143) -> -2.9105511e-18 | J5: Market size only
A6: 1910s | B6: 1910 | C6: 1919 | D6: 144 | E6: 303 | F6: =SLOPE(Market_Panel!$M$144:$M$303,Market_Panel!$Z$144:$Z$303) -> 0.030759975 | G6: 0 | H6: 0 | I6: =INTERCEPT(Market_Panel!$M$144:$M$303,Market_Panel!$Z$144:$Z$303) -> -5.6327207e-18 | J6: Market size only
A7: 1920s | B7: 1920 | C7: 1929 | D7: 304 | E7: 463 | F7: =SLOPE(Market_Panel!$M$304:$M$463,Market_Panel!$Z$304:$Z$463) -> 0.038813383 | G7: 0 | H7: 0 | I7: =INTERCEPT(Market_Panel!$M$304:$M$463,Market_Panel!$Z$304:$Z$463) -> -8.6736174e-18 | J7: Market size only
A8: 1930s | B8: 1930 | C8: 1939 | D8: 464 | E8: 623 | F8: =SLOPE(Market_Panel!$M$464:$M$623,Market_Panel!$Z$464:$Z$623) -> 0.044878731 | G8: 0 | H8: 0 | I8: =INTERCEPT(Market_Panel!$M$464:$M$623,Market_Panel!$Z$464:$Z$623) -> -6.6102803e-18 | J8: Market size only
A9: 1940s | B9: 1940 | C9: 1949 | D9: 624 | E9: 783 | F9: =SLOPE(Market_Panel!$M$624:$M$783,Market_Panel!$Z$624:$Z$783) -> 0.0081355809 | G9: 0 | H9: 0 | I9: =INTERCEPT(Market_Panel!$M$624:$M$783,Market_Panel!$Z$624:$Z$783) -> 1.5354926e-18 | J9: Market size only
A10: 1950s | B10: 1950 | C10: 1959 | D10: 784 | E10: 943 | F10: =SLOPE(Market_Panel!$M$784:$M$943,Market_Panel!$Z$784:$Z$943) -> 0.046577811 | G10: 0 | H10: 0 | I10: =INTERCEPT(Market_Panel!$M$784:$M$943,Market_Panel!$Z$784:$Z$943) -> -9.3081165e-18 | J10: Market size only
A11: 1960s | B11: 1960 | C11: 1969 | D11: 944 | E11: 1141 | F11: =INDEX(LINEST(Market_Panel!$M$944:$M$1141,Market_Panel!$Z$944:$AA$1141),1,2) -> 0.0035490325 | G11: =INDEX(LINEST(Market_Panel!$M$944:$M$1141,Market_Panel!$Z$944:$AA$1141),1,1) -> -0.10034199 | H11: 0 | I11: =INDEX(LINEST(Market_Panel!$M$944:$M$1141,Market_Panel!$Z$944:$AA$1141),1,3) -> 0.019257553 | J11: Market + expansion first-10
A12: 1970s | B12: 1970 | C12: 1979 | D12: 1142 | E12: 1387 | F12: =INDEX(LINEST(Market_Panel!$M$1142:$M$1387,Market_Panel!$Z$1142:$AA$1387),1,2) -> -0.0081553666 | G12: =INDEX(LINEST(Market_Panel!$M$1142:$M$1387,Market_Panel!$Z$1142:$AA$1387),1,1) -> -0.061723904 | H12: 0 | I12: =INDEX(LINEST(Market_Panel!$M$1142:$M$1387,Market_Panel!$Z$1142:$AA$1387),1,3) -> 0.012043689 | J12: Market + expansion first-10
A13: 1980s | B13: 1980 | C13: 1989 | D13: 1388 | E13: 1647 | F13: =INDEX(LINEST(Market_Panel!$M$1388:$M$1647,Market_Panel!$Z$1388:$AA$1647),1,2) -> 0.014060468 | G13: =INDEX(LINEST(Market_Panel!$M$1388:$M$1647,Market_Panel!$Z$1388:$AA$1647),1,1) -> -0.037336307 | H13: 0 | I13: =INDEX(LINEST(Market_Panel!$M$1388:$M$1647,Market_Panel!$Z$1388:$AA$1647),1,3) -> 0.0020104165 | J13: Market + expansion first-10
A14: 1990s | B14: 1990 | C14: 1999 | D14: 1648 | E14: 1925 | F14: =INDEX(LINEST(Market_Panel!$M$1648:$M$1925,Market_Panel!$Z$1648:$AA$1925),1,2) -> 0.002066921 | G14: =INDEX(LINEST(Market_Panel!$M$1648:$M$1925,Market_Panel!$Z$1648:$AA$1925),1,1) -> -0.041715288 | H14: 0 | I14: =INDEX(LINEST(Market_Panel!$M$1648:$M$1925,Market_Panel!$Z$1648:$AA$1925),1,3) -> 0.0027009898 | J14: Market + expansion first-10
A15: 2000s | B15: 2000 | C15: 2009 | D15: 1926 | E15: 2225 | F15: =INDEX(LINEST(Market_Panel!$M$1926:$M$2225,Market_Panel!$Z$1926:$AA$2225),1,2) -> 0.01792551 | G15: =INDEX(LINEST(Market_Panel!$M$1926:$M$2225,Market_Panel!$Z$1926:$AA$2225),1,1) -> -0.039463634 | H15: 0 | I15: =INDEX(LINEST(Market_Panel!$M$1926:$M$2225,Market_Panel!$Z$1926:$AA$2225),1,3) -> 0.0028939998 | J15: Market + expansion first-10
A16: 2010s | B16: 2010 | C16: 2019 | D16: 2226 | E16: 2525 | F16: =SLOPE(Market_Panel!$M$2226:$M$2525,Market_Panel!$Z$2226:$Z$2525) -> 0.0047971914 | G16: 0 | H16: 0 | I16: =INTERCEPT(Market_Panel!$M$2226:$M$2525,Market_Panel!$Z$2226:$Z$2525) -> -1.0749188e-17 | J16: Market size only
A17: 2020s | B17: 2020 | C17: 2025 | D17: 2526 | E17: 2705 | F17: =SLOPE(Market_Panel!$M$2526:$M$2705,Market_Panel!$Z$2526:$Z$2705) -> 0.020994858 | G17: 0 | H17: 0 | I17: =INTERCEPT(Market_Panel!$M$2526:$M$2705,Market_Panel!$Z$2526:$Z$2705) -> 1.6450156e-17 | J17: Market size only
A18: 1990s payroll-adj | B18: 1990 | C18: 1999 | D18: 1648 | E18: 1925 | F18: =INDEX(LINEST(Market_Panel!$M$1648:$M$1925,Market_Panel!$AB$1648:$AD$1925),1,3) -> -0.0045365493 | G18: =INDEX(LINEST(Market_Panel!$M$1648:$M$1925,Market_Panel!$AB$1648:$AD$1925),1,1) -> -0.035523891 | H18: =INDEX(LINEST(Market_Panel!$M$1648:$M$1925,Market_Panel!$AB$1648:$AD$1925),1,2) -> 0.073507677 | I18: =INDEX(LINEST(Market_Panel!$M$1648:$M$1925,Market_Panel!$AB$1648:$AD$1925),1,4) -> 0.0023001081 | J18: Market + payroll + expansion first-10
A19: 2000s payroll-adj | B19: 2000 | C19: 2009 | D19: 1926 | E19: 2225 | F19: =INDEX(LINEST(Market_Panel!$M$1926:$M$2225,Market_Panel!$AB$1926:$AD$2225),1,3) -> -0.0014377943 | G19: =INDEX(LINEST(Market_Panel!$M$1926:$M$2225,Market_Panel!$AB$1926:$AD$2225),1,1) -> -0.026791449 | H19: =INDEX(LINEST(Market_Panel!$M$1926:$M$2225,Market_Panel!$AB$1926:$AD$2225),1,2) -> 0.070584385 | I19: =INDEX(LINEST(Market_Panel!$M$1926:$M$2225,Market_Panel!$AB$1926:$AD$2225),1,4) -> 0.0019647063 | J19: Market + payroll + expansion first-10
A20: 2010s payroll-adj | B20: 2010 | C20: 2019 | D20: 2226 | E20: 2525 | F20: =INDEX(LINEST(Market_Panel!$M$2226:$M$2525,Market_Panel!$AB$2226:$AC$2525),1,2) -> -0.0071383964 | G20: 0 | H20: =INDEX(LINEST(Market_Panel!$M$2226:$M$2525,Market_Panel!$AB$2226:$AC$2525),1,1) -> 0.071980107 | I20: =INDEX(LINEST(Market_Panel!$M$2226:$M$2525,Market_Panel!$AB$2226:$AC$2525),1,3) -> -2.8420534e-17 | J20: Market + payroll
A21: 2020s payroll-adj | B21: 2020 | C21: 2025 | D21: 2526 | E21: 2705 | F21: =INDEX(LINEST(Market_Panel!$M$2526:$M$2705,Market_Panel!$AB$2526:$AC$2705),1,2) -> -0.012275869 | G21: 0 | H21: =INDEX(LINEST(Market_Panel!$M$2526:$M$2705,Market_Panel!$AB$2526:$AC$2705),1,1) -> 0.084069461 | I21: =INDEX(LINEST(Market_Panel!$M$2526:$M$2705,Market_Panel!$AB$2526:$AC$2705),1,3) -> -1.185731e-17 | J21: Market + payroll
A23: Club-by-period table
A24: Period | B24: Franchise | C24: Group | D24: Seasons in period | E24: Avg win% vs league | F24: Avg relative size | G24: Avg expansion first-10 | H24: Avg relative payroll | I24: Expected win% vs league | J24: Wins/162 above expectation (INDEX) | K24: Raw wins/162 vs league | L24: Postseason apps | M24: WS titles | N24: Eligible index | O24: Rank in period | P24: Key
A25: 1900s | B25: ATL | C25: Established | D25: =COUNTIFS(Market_Panel!$A$2:$A$2705,B25,Market_Panel!$B$2:$B$2705,">="&$B$5,Market_Panel!$B$2:$B$2705,"<="&$C$5) -> 9 | E25: =IF(D25=0,"",AVERAGEIFS(Market_Panel!$M$2:$M$2705,Market_Panel!$A$2:$A$2705,B25,Market_Panel!$B$2:$B$2705,">="&$B$5,Market_Panel!$B$2:$B$2705,"<="&$C$5)) -> -0.10491402 | F25: =IF(D25=0,"",AVERAGEIFS(Market_Panel!$P$2:$P$2705,Market_Panel!$A$2:$A$2705,B25,Market_Panel!$B$2:$B$2705,">="&$B$5,Market_Panel!$B$2:$B$2705,"<="&$C$5)) -> -0.59483882 | G25: =IF(D25=0,"",AVERAGEIFS(Market_Panel!$R$2:$R$2705,Market_Panel!$A$2:$A$2705,B25,Market_Panel!$B$2:$B$2705,">="&$B$5,Market_Panel!$B$2:$B$2705,"<="&$C$5)) -> 0 | H25: =IF(OR(D25=0,$H$5=0),0,AVERAGEIFS(Market_Panel!$Y$2:$Y$2705,Market_Panel!$A$2:$A$2705,B25,Market_Panel!$B$2:$B$2705,">="&$B$5,Market_Panel!$B$2:$B$2705,"<="&$C$5)) -> 0 | I25: =IF(D25=0,"",$I$5+$F$5*F25+$G$5*G25+$H$5*H25) -> -0.030460769 | J25: =IF(D25<5,"",(E25-I25)*162) -> -12.061427 | K25: =IF(D25=0,"",E25*162) -> -16.996072 | L25: =SUMIFS(Seasons!$L$2:$L$2865,Seasons!$A$2:$A$2865,B25,Seasons!$B$2:$B$2865,">="&$B$5,Seasons!$B$2:$B$2865,"<="&$C$5) -> 0 | M25: =SUMIFS(Seasons!$N$2:$N$2865,Seasons!$A$2:$A$2865,B25,Seasons!$B$2:$B$2865,">="&$B$5,Seasons!$B$2:$B$2865,"<="&$C$5) -> 0 | N25: =IF(J25="",-1000000,J25+ROW()*0.000000001) -> -12.061427 | O25: =IF(J25="","",SUMPRODUCT(($A$25:$A$534=A25)*($N$25:$N$534>N25))+1) -> 13 | P25: =A25&"|"&O25 -> 1900s|13
A26: 1900s | B26: CHC | C26: Established | D26: =COUNTIFS(Market_Panel!$A$2:$A$2705,B26,Market_Panel!$B$2:$B$2705,">="&$B$5,Market_Panel!$B$2:$B$2705,"<="&$C$5) -> 9 | E26: =IF(D26=0,"",AVERAGEIFS(Market_Panel!$M$2:$M$2705,Market_Panel!$A$2:$A$2705,B26,Market_Panel!$B$2:$B$2705,">="&$B$5,Market_Panel!$B$2:$B$2705,"<="&$C$5)) -> 0.10700967 | F26: =IF(D26=0,"",AVERAGEIFS(Market_Panel!$P$2:$P$2705,Market_Panel!$A$2:$A$2705,B26,Market_Panel!$B$2:$B$2705,">="&$B$5,Market_Panel!$B$2:$B$2705,"<="&$C$5)) -> 0.54984454 | G26: =IF(D26=0,"",AVERAGEIFS(Market_Panel!$R$2:$R$2705,Market_Panel!$A$2:$A$2705,B26,Market_Panel!$B$2:$B$2705,">="&$B$5,Market_Panel!$B$2:$B$2705,"<="&$C$5)) -> 0 | H26: =IF(OR(D26=0,$H$5=0),0,AVERAGEIFS(Market_Panel!$Y$2:$Y$2705,Market_Panel!$A$2:$A$2705,B26,Market_Panel!$B$2:$B$2705,">="&$B$5,Market_Panel!$B$2:$B$2705,"<="&$C$5)) -> 0 | I26: =IF(D26=0,"",$I$5+$F$5*F26+$G$5*G26+$H$5*H26) -> 0.028156682 | J26: =IF(D26<5,"",(E26-I26)*162) -> 12.774184 | K26: =IF(D26=0,"",E26*162) -> 17.335566 | L26: =SUMIFS(Seasons!$L$2:$L$2865,Seasons!$A$2:$A$2865,B26,Seasons!$B$2:$B$2865,">="&$B$5,Seasons!$B$2:$B$2865,"<="&$C$5) -> 3 | M26: =SUMIFS(Seasons!$N$2:$N$2865,Seasons!$A$2:$A$2865,B26,Seasons!$B$2:$B$2865,">="&$B$5,Seasons!$B$2:$B$2865,"<="&$C$5) -> 2 | N26: =IF(J26="",-1000000,J26+ROW()*0.000000001) -> 12.774184 | O26: =IF(J26="","",SUMPRODUCT(($A$25:$A$534=A26)*($N$25:$N$534>N26))+1) -> 2 | P26: =A26&"|"&O26 -> 1900s|2
A27: 1900s | B27: CIN | C27: Established | D27: =COUNTIFS(Market_Panel!$A$2:$A$2705,B27,Market_Panel!$B$2:$B$2705,">="&$B$5,Market_Panel!$B$2:$B$2705,"<="&$C$5) -> 9 | E27: =IF(D27=0,"",AVERAGEIFS(Market_Panel!$M$2:$M$2705,Market_Panel!$A$2:$A$2705,B27,Market_Panel!$B$2:$B$2705,">="&$B$5,Market_Panel!$B$2:$B$2705,"<="&$C$5)) -> -0.019680762 | F27: =IF(D27=0,"",AVERAGEIFS(Market_Panel!$P$2:$P$2705,Market_Panel!$A$2:$A$2705,B27,Market_Panel!$B$2:$B$2705,">="&$B$5,Market_Panel!$B$2:$B$2705,"<="&$C$5)) -> -0.47921789 | G27: =IF(D27=0,"",AVERAGEIFS(Market_Panel!$R$2:$R$2705,Market_Panel!$A$2:$A$2705,B27,Market_Panel!$B$2:$B$2705,">="&$B$5,Market_Panel!$B$2:$B$2705,"<="&$C$5)) -> 0 | H27: =IF(OR(D27=0,$H$5=0),0,AVERAGEIFS(Market_Panel!$Y$2:$Y$2705,Market_Panel!$A$2:$A$2705,B27,Market_Panel!$B$2:$B$2705,">="&$B$5,Market_Panel!$B$2:$B$2705,"<="&$C$5)) -> 0 | I27: =IF(D27=0,"",$I$5+$F$5*F27+$G$5*G27+$H$5*H27) -> -0.024540001 | J27: =IF(D27<5,"",(E27-I27)*162) -> 0.78719673 | K27: =IF(D27=0,"",E27*162) -> -3.1882835 | L27: =SUMIFS(Seasons!$L$2:$L$2865,Seasons!$A$2:$A$2865,B27,Seasons!$B$2:$B$2865,">="&$B$5,Seasons!$B$2:$B$2865,"<="&$C$5) -> 0 | M27: =SUMIFS(Seasons!$N$2:$N$2865,Seasons!$A$2:$A$2865,B27,Seasons!$B$2:$B$2865,">="&$B$5,Seasons!$B$2:$B$2865,"<="&$C$5) -> 0 | N27: =IF(J27="",-1000000,J27+ROW()*0.000000001) -> 0.78719675 | O27: =IF(J27="","",SUMPRODUCT(($A$25:$A$534=A27)*($N$25:$N$534>N27))+1) -> 9 | P27: =A27&"|"&O27 -> 1900s|9
A28: 1900s | B28: PIT | C28: Established | D28: =COUNTIFS(Market_Panel!$A$2:$A$2705,B28,Market_Panel!$B$2:$B$2705,">="&$B$5,Market_Panel!$B$2:$B$2705,"<="&$C$5) -> 9 | E28: =IF(D28=0,"",AVERAGEIFS(Market_Panel!$M$2:$M$2705,Market_Panel!$A$2:$A$2705,B28,Market_Panel!$B$2:$B$2705,">="&$B$5,Market_Panel!$B$2:$B$2705,"<="&$C$5)) -> 0.14286169 | F28: =IF(D28=0,"",AVERAGEIFS(Market_Panel!$P$2:$P$2705,Market_Panel!$A$2:$A$2705,B28,Market_Panel!$B$2:$B$2705,">="&$B$5,Market_Panel!$B$2:$B$2705,"<="&$C$5)) -> -0.29374295 | G28: =IF(D28=0,"",AVERAGEIFS(Market_Panel!$R$2:$R$2705,Market_Panel!$A$2:$A$2705,B28,Market_Panel!$B$2:$B$2705,">="&$B$5,Market_Panel!$B$2:$B$2705,"<="&$C$5)) -> 0 | H28: =IF(OR(D28=0,$H$5=0),0,AVERAGEIFS(Market_Panel!$Y$2:$Y$2705,Market_Panel!$A$2:$A$2705,B28,Market_Panel!$B$2:$B$2705,">="&$B$5,Market_Panel!$B$2:$B$2705,"<="&$C$5)) -> 0 | I28: =IF(D28=0,"",$I$5+$F$5*F28+$G$5*G28+$H$5*H28) -> -0.015042119 | J28: =IF(D28<5,"",(E28-I28)*162) -> 25.580417 | K28: =IF(D28=0,"",E28*162) -> 23.143594 | L28: =SUMIFS(Seasons!$L$2:$L$2865,Seasons!$A$2:$A$2865,B28,Seasons!$B$2:$B$2865,">="&$B$5,Seasons!$B$2:$B$2865,"<="&$C$5) -> 4 | M28: =SUMIFS(Seasons!$N$2:$N$2865,Seasons!$A$2:$A$2865,B28,Seasons!$B$2:$B$2865,">="&$B$5,Seasons!$B$2:$B$2865,"<="&$C$5) -> 1 | N28: =IF(J28="",-1000000,J28+ROW()*0.000000001) -> 25.580417 | O28: =IF(J28="","",SUMPRODUCT(($A$25:$A$534=A28)*($N$25:$N$534>N28))+1) -> 1 | P28: =A28&"|"&O28 -> 1900s|1
A29: 1900s | B29: STL | C29: Established | D29: =COUNTIFS(Market_Panel!$A$2:$A$2705,B29,Market_Panel!$B$2:$B$2705,">="&$B$5,Market_Panel!$B$2:$B$2705,"<="&$C$5) -> 9 | E29: =IF(D29=0,"",AVERAGEIFS(Market_Panel!$M$2:$M$2705,Market_Panel!$A$2:$A$2705,B29,Market_Panel!$B$2:$B$2705,">="&$B$5,Market_Panel!$B$2:$B$2705,"<="&$C$5)) -> -0.112151 | F29: =IF(D29=0,"",AVERAGEIFS(Market_Panel!$P$2:$P$2705,Market_Panel!$A$2:$A$2705,B29,Market_Panel!$B$2:$B$2705,">="&$B$5,Market_Panel!$B$2:$B$2705,"<="&$C$5)) -> -0.4930817 | G29: =IF(D29=0,"",AVERAGEIFS(Market_Panel!$R$2:$R$2705,Market_Panel!$A$2:$A$2705,B29,Market_Panel!$B$2:$B$2705,">="&$B$5,Market_Panel!$B$2:$B$2705,"<="&$C$5)) -> 0 | H29: =IF(OR(D29=0,$H$5=0),0,AVERAGEIFS(Market_Panel!$Y$2:$Y$2705,Market_Panel!$A$2:$A$2705,B29,Market_Panel!$B$2:$B$2705,">="&$B$5,Market_Panel!$B$2:$B$2705,"<="&$C$5)) -> 0 | I29: =IF(D29=0,"",$I$5+$F$5*F29+$G$5*G29+$H$5*H29) -> -0.025249945 | J29: =IF(D29<5,"",(E29-I29)*162) -> -14.077971 | K29: =IF(D29=0,"",E29*162) -> -18.168462 | L29: =SUMIFS(Seasons!$L$2:$L$2865,Seasons!$A$2:$A$2865,B29,Seasons!$B$2:$B$2865,">="&$B$5,Seasons!$B$2:$B$2865,"<="&$C$5) -> 0 | M29: =SUMIFS(Seasons!$N$2:$N$2865,Seasons!$A$2:$A$2865,B29,Seasons!$B$2:$B$2865,">="&$B$5,Seasons!$B$2:$B$2865,"<="&$C$5) -> 0 | N29: =IF(J29="",-1000000,J29+ROW()*0.000000001) -> -14.077971 | O29: =IF(J29="","",SUMPRODUCT(($A$25:$A$534=A29)*($N$25:$N$534>N29))+1) -> 14 | P29: =A29&"|"&O29 -> 1900s|14
A30: 1900s | B30: PHI | C30: Established | D30: =COUNTIFS(Market_Panel!$A$2:$A$2705,B30,Market_Panel!$B$2:$B$2705,">="&$B$5,Market_Panel!$B$2:$B$2705,"<="&$C$5) -> 9 | E30: =IF(D30=0,"",AVERAGEIFS(Market_Panel!$M$2:$M$2705,Market_Panel!$A$2:$A$2705,B30,Market_Panel!$B$2:$B$2705,">="&$B$5,Market_Panel!$B$2:$B$2705,"<="&$C$5)) -> -0.022619564 | F30: =IF(D30=0,"",AVERAGEIFS(Market_Panel!$P$2:$P$2705,Market_Panel!$A$2:$A$2705,B30,Market_Panel!$B$2:$B$2705,">="&$B$5,Market_Panel!$B$2:$B$2705,"<="&$C$5)) -> 0.24163641 | G30: =IF(D30=0,"",AVERAGEIFS(Market_Panel!$R$2:$R$2705,Market_Panel!$A$2:$A$2705,B30,Market_Panel!$B$2:$B$2705,">="&$B$5,Market_Panel!$B$2:$B$2705,"<="&$C$5)) -> 0 | H30: =IF(OR(D30=0,$H$5=0),0,AVERAGEIFS(Market_Panel!$Y$2:$Y$2705,Market_Panel!$A$2:$A$2705,B30,Market_Panel!$B$2:$B$2705,">="&$B$5,Market_Panel!$B$2:$B$2705,"<="&$C$5)) -> 0 | I30: =IF(D30=0,"",$I$5+$F$5*F30+$G$5*G30+$H$5*H30) -> 0.012373824 | J30: =IF(D30<5,"",(E30-I30)*162) -> -5.6689288 | K30: =IF(D30=0,"",E30*162) -> -3.6643693 | L30: =SUMIFS(Seasons!$L$2:$L$2865,Seasons!$A$2:$A$2865,B30,Seasons!$B$2:$B$2865,">="&$B$5,Seasons!$B$2:$B$2865,"<="&$C$5) -> 0 | M30: =SUMIFS(Seasons!$N$2:$N$2865,Seasons!$A$2:$A$2865,B30,Seasons!$B$2:$B$2865,">="&$B$5,Seasons!$B$2:$B$2865,"<="&$C$5) -> 0 | N30: =IF(J30="",-1000000,J30+ROW()*0.000000001) -> -5.6689288 | O30: =IF(J30="","",SUMPRODUCT(($A$25:$A$534=A30)*($N$25:$N$534>N30))+1) -> 11 | P30: =A30&"|"&O30 -> 1900s|11
A31: 1900s | B31: SFG | C31: Established | D31: =COUNTIFS(Market_Panel!$A$2:$A$2705,B31,Market_Panel!$B$2:$B$2705,">="&$B$5,Market_Panel!$B$2:$B$2705,"<="&$C$5) -> 9 | E31: =IF(D31=0,"",AVERAGEIFS(Market_Panel!$M$2:$M$2705,Market_Panel!$A$2:$A$2705,B31,Market_Panel!$B$2:$B$2705,">="&$B$5,Market_Panel!$B$2:$B$2705,"<="&$C$5)) -> 0.068165524 | F31: =IF(D31=0,"",AVERAGEIFS(Market_Panel!$P$2:$P$2705,Market_Panel!$A$2:$A$2705,B31,Market_Panel!$B$2:$B$2705,">="&$B$5,Market_Panel!$B$2:$B$2705,"<="&$C$5)) -> 0.97689049 | G31: =IF(D31=0,"",AVERAGEIFS(Market_Panel!$R$2:$R$2705,Market_Panel!$A$2:$A$2705,B31,Market_Panel!$B$2:$B$2705,">="&$B$5,Market_Panel!$B$2:$B$2705,"<="&$C$5)) -> 0 | H31: =IF(OR(D31=0,$H$5=0),0,AVERAGEIFS(Market_Panel!$Y$2:$Y$2705,Market_Panel!$A$2:$A$2705,B31,Market_Panel!$B$2:$B$2705,">="&$B$5,Market_Panel!$B$2:$B$2705,"<="&$C$5)) -> 0 | I31: =IF(D31=0,"",$I$5+$F$5*F31+$G$5*G31+$H$5*H31) -> 0.05002504 | J31: =IF(D31<5,"",(E31-I31)*162) -> 2.9387584 | K31: =IF(D31=0,"",E31*162) -> 11.042815 | L31: =SUMIFS(Seasons!$L$2:$L$2865,Seasons!$A$2:$A$2865,B31,Seasons!$B$2:$B$2865,">="&$B$5,Seasons!$B$2:$B$2865,"<="&$C$5) -> 2 | M31: =SUMIFS(Seasons!$N$2:$N$2865,Seasons!$A$2:$A$2865,B31,Seasons!$B$2:$B$2865,">="&$B$5,Seasons!$B$2:$B$2865,"<="&$C$5) -> 1 | N31: =IF(J31="",-1000000,J31+ROW()*0.000000001) -> 2.9387585 | O31: =IF(J31="","",SUMPRODUCT(($A$25:$A$534=A31)*($N$25:$N$534>N31))+1) -> 8 | P31: =A31&"|"&O31 -> 1900s|8
A32: 1900s | B32: LAD | C32: Established | D32: =COUNTIFS(Market_Panel!$A$2:$A$2705,B32,Market_Panel!$B$2:$B$2705,">="&$B$5,Market_Panel!$B$2:$B$2705,"<="&$C$5) -> 9 | E32: =IF(D32=0,"",AVERAGEIFS(Market_Panel!$M$2:$M$2705,Market_Panel!$A$2:$A$2705,B32,Market_Panel!$B$2:$B$2705,">="&$B$5,Market_Panel!$B$2:$B$2705,"<="&$C$5)) -> -0.067745642 | F32: =IF(D32=0,"",AVERAGEIFS(Market_Panel!$P$2:$P$2705,Market_Panel!$A$2:$A$2705,B32,Market_Panel!$B$2:$B$2705,">="&$B$5,Market_Panel!$B$2:$B$2705,"<="&$C$5)) -> 0.97689049 | G32: =IF(D32=0,"",AVERAGEIFS(Market_Panel!$R$2:$R$2705,Market_Panel!$A$2:$A$2705,B32,Market_Panel!$B$2:$B$2705,">="&$B$5,Market_Panel!$B$2:$B$2705,"<="&$C$5)) -> 0 | H32: =IF(OR(D32=0,$H$5=0),0,AVERAGEIFS(Market_Panel!$Y$2:$Y$2705,Market_Panel!$A$2:$A$2705,B32,Market_Panel!$B$2:$B$2705,">="&$B$5,Market_Panel!$B$2:$B$2705,"<="&$C$5)) -> 0 | I32: =IF(D32=0,"",$I$5+$F$5*F32+$G$5*G32+$H$5*H32) -> 0.05002504 | J32: =IF(D32<5,"",(E32-I32)*162) -> -19.07885 | K32: =IF(D32=0,"",E32*162) -> -10.974794 | L32: =SUMIFS(Seasons!$L$2:$L$2865,Seasons!$A$2:$A$2865,B32,Seasons!$B$2:$B$2865,">="&$B$5,Seasons!$B$2:$B$2865,"<="&$C$5) -> 1 | M32: =SUMIFS(Seasons!$N$2:$N$2865,Seasons!$A$2:$A$2865,B32,Seasons!$B$2:$B$2865,">="&$B$5,Seasons!$B$2:$B$2865,"<="&$C$5) -> 0 | N32: =IF(J32="",-1000000,J32+ROW()*0.000000001) -> -19.07885 | O32: =IF(J32="","",SUMPRODUCT(($A$25:$A$534=A32)*($N$25:$N$534>N32))+1) -> 16 | P32: =A32&"|"&O32 -> 1900s|16
A33: 1900s | B33: BAL | C33: Established | D33: =COUNTIFS(Market_Panel!$A$2:$A$2705,B33,Market_Panel!$B$2:$B$2705,">="&$B$5,Market_Panel!$B$2:$B$2705,"<="&$C$5) -> 9 | E33: =IF(D33=0,"",AVERAGEIFS(Market_Panel!$M$2:$M$2705,Market_Panel!$A$2:$A$2705,B33,Market_Panel!$B$2:$B$2705,">="&$B$5,Market_Panel!$B$2:$B$2705,"<="&$C$5)) -> -0.046531744 | F33: =IF(D33=0,"",AVERAGEIFS(Market_Panel!$P$2:$P$2705,Market_Panel!$A$2:$A$2705,B33,Market_Panel!$B$2:$B$2705,">="&$B$5,Market_Panel!$B$2:$B$2705,"<="&$C$5)) -> -0.56996185 | G33: =IF(D33=0,"",AVERAGEIFS(Market_Panel!$R$2:$R$2705,Market_Panel!$A$2:$A$2705,B33,Market_Panel!$B$2:$B$2705,">="&$B$5,Market_Panel!$B$2:$B$2705,"<="&$C$5)) -> 0 | H33: =IF(OR(D33=0,$H$5=0),0,AVERAGEIFS(Market_Panel!$Y$2:$Y$2705,Market_Panel!$A$2:$A$2705,B33,Market_Panel!$B$2:$B$2705,">="&$B$5,Market_Panel!$B$2:$B$2705,"<="&$C$5)) -> 0 | I33: =IF(D33=0,"",$I$5+$F$5*F33+$G$5*G33+$H$5*H33) -> -0.029186858 | J33: =IF(D33<5,"",(E33-I33)*162) -> -2.8098715 | K33: =IF(D33=0,"",E33*162) -> -7.5381425 | L33: =SUMIFS(Seasons!$L$2:$L$2865,Seasons!$A$2:$A$2865,B33,Seasons!$B$2:$B$2865,">="&$B$5,Seasons!$B$2:$B$2865,"<="&$C$5) -> 0 | M33: =SUMIFS(Seasons!$N$2:$N$2865,Seasons!$A$2:$A$2865,B33,Seasons!$B$2:$B$2865,">="&$B$5,Seasons!$B$2:$B$2865,"<="&$C$5) -> 0 | N33: =IF(J33="",-1000000,J33+ROW()*0.000000001) -> -2.8098715 | O33: =IF(J33="","",SUMPRODUCT(($A$25:$A$534=A33)*($N$25:$N$534>N33))+1) -> 10 | P33: =A33&"|"&O33 -> 1900s|10
A34: 1900s | B34: BOS | C34: Established | D34: =COUNTIFS(Market_Panel!$A$2:$A$2705,B34,Market_Panel!$B$2:$B$2705,">="&$B$5,Market_Panel!$B$2:$B$2705,"<="&$C$5) -> 9 | E34: =IF(D34=0,"",AVERAGEIFS(Market_Panel!$M$2:$M$2705,Market_Panel!$A$2:$A$2705,B34,Market_Panel!$B$2:$B$2705,">="&$B$5,Market_Panel!$B$2:$B$2705,"<="&$C$5)) -> 0.023191596 | F34: =IF(D34=0,"",AVERAGEIFS(Market_Panel!$P$2:$P$2705,Market_Panel!$A$2:$A$2705,B34,Market_Panel!$B$2:$B$2705,">="&$B$5,Market_Panel!$B$2:$B$2705,"<="&$C$5)) -> -0.59483882 | G34: =IF(D34=0,"",AVERAGEIFS(Market_Panel!$R$2:$R$2705,Market_Panel!$A$2:$A$2705,B34,Market_Panel!$B$2:$B$2705,">="&$B$5,Market_Panel!$B$2:$B$2705,"<="&$C$5)) -> 0 | H34: =IF(OR(D34=0,$H$5=0),0,AVERAGEIFS(Market_Panel!$Y$2:$Y$2705,Market_Panel!$A$2:$A$2705,B34,Market_Panel!$B$2:$B$2705,">="&$B$5,Market_Panel!$B$2:$B$2705,"<="&$C$5)) -> 0 | I34: =IF(D34=0,"",$I$5+$F$5*F34+$G$5*G34+$H$5*H34) -> -0.030460769 | J34: =IF(D34<5,"",(E34-I34)*162) -> 8.6916831 | K34: =IF(D34=0,"",E34*162) -> 3.7570385 | L34: =SUMIFS(Seasons!$L$2:$L$2865,Seasons!$A$2:$A$2865,B34,Seasons!$B$2:$B$2865,">="&$B$5,Seasons!$B$2:$B$2865,"<="&$C$5) -> 2 | M34: =SUMIFS(Seasons!$N$2:$N$2865,Seasons!$A$2:$A$2865,B34,Seasons!$B$2:$B$2865,">="&$B$5,Seasons!$B$2:$B$2865,"<="&$C$5) -> 1 | N34: =IF(J34="",-1000000,J34+ROW()*0.000000001) -> 8.6916831 | O34: =IF(J34="","",SUMPRODUCT(($A$25:$A$534=A34)*($N$25:$N$534>N34))+1) -> 3 | P34: =A34&"|"&O34 -> 1900s|3
A35: 1900s | B35: CHW | C35: Established | D35: =COUNTIFS(Market_Panel!$A$2:$A$2705,B35,Market_Panel!$B$2:$B$2705,">="&$B$5,Market_Panel!$B$2:$B$2705,"<="&$C$5) -> 9 | E35: =IF(D35=0,"",AVERAGEIFS(Market_Panel!$M$2:$M$2705,Market_Panel!$A$2:$A$2705,B35,Market_Panel!$B$2:$B$2705,">="&$B$5,Market_Panel!$B$2:$B$2705,"<="&$C$5)) -> 0.062246678 | F35: =IF(D35=0,"",AVERAGEIFS(Market_Panel!$P$2:$P$2705,Market_Panel!$A$2:$A$2705,B35,Market_Panel!$B$2:$B$2705,">="&$B$5,Market_Panel!$B$2:$B$2705,"<="&$C$5)) -> 0.54984454 | G35: =IF(D35=0,"",AVERAGEIFS(Market_Panel!$R$2:$R$2705,Market_Panel!$A$2:$A$2705,B35,Market_Panel!$B$2:$B$2705,">="&$B$5,Market_Panel!$B$2:$B$2705,"<="&$C$5)) -> 0 | H35: =IF(OR(D35=0,$H$5=0),0,AVERAGEIFS(Market_Panel!$Y$2:$Y$2705,Market_Panel!$A$2:$A$2705,B35,Market_Panel!$B$2:$B$2705,">="&$B$5,Market_Panel!$B$2:$B$2705,"<="&$C$5)) -> 0 | I35: =IF(D35=0,"",$I$5+$F$5*F35+$G$5*G35+$H$5*H35) -> 0.028156682 | J35: =IF(D35<5,"",(E35-I35)*162) -> 5.5225793 | K35: =IF(D35=0,"",E35*162) -> 10.083962 | L35: =SUMIFS(Seasons!$L$2:$L$2865,Seasons!$A$2:$A$2865,B35,Seasons!$B$2:$B$2865,">="&$B$5,Seasons!$B$2:$B$2865,"<="&$C$5) -> 2 | M35: =SUMIFS(Seasons!$N$2:$N$2865,Seasons!$A$2:$A$2865,B35,Seasons!$B$2:$B$2865,">="&$B$5,Seasons!$B$2:$B$2865,"<="&$C$5) -> 1 | N35: =IF(J35="",-1000000,J35+ROW()*0.000000001) -> 5.5225794 | O35: =IF(J35="","",SUMPRODUCT(($A$25:$A$534=A35)*($N$25:$N$534>N35))+1) -> 6 | P35: =A35&"|"&O35 -> 1900s|6
A36: 1900s | B36: CLE | C36: Established | D36: =COUNTIFS(Market_Panel!$A$2:$A$2705,B36,Market_Panel!$B$2:$B$2705,">="&$B$5,Market_Panel!$B$2:$B$2705,"<="&$C$5) -> 9 | E36: =IF(D36=0,"",AVERAGEIFS(Market_Panel!$M$2:$M$2705,Market_Panel!$A$2:$A$2705,B36,Market_Panel!$B$2:$B$2705,">="&$B$5,Market_Panel!$B$2:$B$2705,"<="&$C$5)) -> 0.022135547 | F36: =IF(D36=0,"",AVERAGEIFS(Market_Panel!$P$2:$P$2705,Market_Panel!$A$2:$A$2705,B36,Market_Panel!$B$2:$B$2705,">="&$B$5,Market_Panel!$B$2:$B$2705,"<="&$C$5)) -> -0.1835645 | G36: =IF(D36=0,"",AVERAGEIFS(Market_Panel!$R$2:$R$2705,Market_Panel!$A$2:$A$2705,B36,Market_Panel!$B$2:$B$2705,">="&$B$5,Market_Panel!$B$2:$B$2705,"<="&$C$5)) -> 0 | H36: =IF(OR(D36=0,$H$5=0),0,AVERAGEIFS(Market_Panel!$Y$2:$Y$2705,Market_Panel!$A$2:$A$2705,B36,Market_Panel!$B$2:$B$2705,">="&$B$5,Market_Panel!$B$2:$B$2705,"<="&$C$5)) -> 0 | I36: =IF(D36=0,"",$I$5+$F$5*F36+$G$5*G36+$H$5*H36) -> -0.0094000522 | J36: =IF(D36<5,"",(E36-I36)*162) -> 5.108767 | K36: =IF(D36=0,"",E36*162) -> 3.5859586 | L36: =SUMIFS(Seasons!$L$2:$L$2865,Seasons!$A$2:$A$2865,B36,Seasons!$B$2:$B$2865,">="&$B$5,Seasons!$B$2:$B$2865,"<="&$C$5) -> 0 | M36: =SUMIFS(Seasons!$N$2:$N$2865,Seasons!$A$2:$A$2865,B36,Seasons!$B$2:$B$2865,">="&$B$5,Seasons!$B$2:$B$2865,"<="&$C$5) -> 0 | N36: =IF(J36="",-1000000,J36+ROW()*0.000000001) -> 5.1087671 | O36: =IF(J36="","",SUMPRODUCT(($A$25:$A$534=A36)*($N$25:$N$534>N36))+1) -> 7 | P36: =A36&"|"&O36 -> 1900s|7
... A54: 1900s | B54: TBD | C54: Expansion | D54: =COUNTIFS(Market_Panel!$A$2:$A$2705,B54,Market_Panel!$B$2:$B$2705,">="&$B$5,Market_Panel!$B$2:$B$2705,"<="&$C$5) -> 0 | E54: =IF(D54=0,"",AVERAGEIFS(Market_Panel!$M$2:$M$2705,Market_Panel!$A$2:$A$2705,B54,Market_Panel!$B$2:$B$2705,">="&$B$5,Market_Panel!$B$2:$B$2705,"<="&$C$5)) | F54: =IF(D54=0,"",AVERAGEIFS(Market_Panel!$P$2:$P$2705,Market_Panel!$A$2:$A$2705,B54,Market_Panel!$B$2:$B$2705,">="&$B$5,Market_Panel!$B$2:$B$2705,"<="&$C$5)) | G54: =IF(D54=0,"",AVERAGEIFS(Market_Panel!$R$2:$R$2705,Market_Panel!$A$2:$A$2705,B54,Market_Panel!$B$2:$B$2705,">="&$B$5,Market_Panel!$B$2:$B$2705,"<="&$C$5)) | H54: =IF(OR(D54=0,$H$5=0),0,AVERAGEIFS(Market_Panel!$Y$2:$Y$2705,Market_Panel!$A$2:$A$2705,B54,Market_Panel!$B$2:$B$2705,">="&$B$5,Market_Panel!$B$2:$B$2705,"<="&$C$5)) -> 0 | I54: =IF(D54=0,"",$I$5+$F$5*F54+$G$5*G54+$H$5*H54) | J54: =IF(D54<5,"",(E54-I54)*162) | K54: =IF(D54=0,"",E54*162) | L54: =SUMIFS(Seasons!$L$2:$L$2865,Seasons!$A$2:$A$2865,B54,Seasons!$B$2:$B$2865,">="&$B$5,Seasons!$B$2:$B$2865,"<="&$C$5) -> 0 | M54: =SUMIFS(Seasons!$N$2:$N$2865,Seasons!$A$2:$A$2865,B54,Seasons!$B$2:$B$2865,">="&$B$5,Seasons!$B$2:$B$2865,"<="&$C$5) -> 0 | N54: =IF(J54="",-1000000,J54+ROW()*0.000000001) -> -1000000 | O54: =IF(J54="","",SUMPRODUCT(($A$25:$A$534=A54)*($N$25:$N$534>N54))+1) | P54: =A54&"|"&O54 -> 1900s|
A55: 1910s | B55: ATL | C55: Established | D55: =COUNTIFS(Market_Panel!$A$2:$A$2705,B55,Market_Panel!$B$2:$B$2705,">="&$B$6,Market_Panel!$B$2:$B$2705,"<="&$C$6) -> 10 | E55: =IF(D55=0,"",AVERAGEIFS(Market_Panel!$M$2:$M$2705,Market_Panel!$A$2:$A$2705,B55,Market_Panel!$B$2:$B$2705,">="&$B$6,Market_Panel!$B$2:$B$2705,"<="&$C$6)) -> -0.051108066 | F55: =IF(D55=0,"",AVERAGEIFS(Market_Panel!$P$2:$P$2705,Market_Panel!$A$2:$A$2705,B55,Market_Panel!$B$2:$B$2705,">="&$B$6,Market_Panel!$B$2:$B$2705,"<="&$C$6)) -> -0.67622051 | G55: =IF(D55=0,"",AVERAGEIFS(Market_Panel!$R$2:$R$2705,Market_Panel!$A$2:$A$2705,B55,Market_Panel!$B$2:$B$2705,">="&$B$6,Market_Panel!$B$2:$B$2705,"<="&$C$6)) -> 0 | H55: =IF(OR(D55=0,$H$6=0),0,AVERAGEIFS(Market_Panel!$Y$2:$Y$2705,Market_Panel!$A$2:$A$2705,B55,Market_Panel!$B$2:$B$2705,">="&$B$6,Market_Panel!$B$2:$B$2705,"<="&$C$6)) -> 0 | I55: =IF(D55=0,"",$I$6+$F$6*F55+$G$6*G55+$H$6*H55) -> -0.020800526 | J55: =IF(D55<5,"",(E55-I55)*162) -> -4.9098214 | K55: =IF(D55=0,"",E55*162) -> -8.2795066 | L55: =SUMIFS(Seasons!$L$2:$L$2865,Seasons!$A$2:$A$2865,B55,Seasons!$B$2:$B$2865,">="&$B$6,Seasons!$B$2:$B$2865,"<="&$C$6) -> 1 | M55: =SUMIFS(Seasons!$N$2:$N$2865,Seasons!$A$2:$A$2865,B55,Seasons!$B$2:$B$2865,">="&$B$6,Seasons!$B$2:$B$2865,"<="&$C$6) -> 1 | N55: =IF(J55="",-1000000,J55+ROW()*0.000000001) -> -4.9098214 | O55: =IF(J55="","",SUMPRODUCT(($A$25:$A$534=A55)*($N$25:$N$534>N55))+1) -> 12 | P55: =A55&"|"&O55 -> 1910s|12
A56: 1910s | B56: CHC | C56: Established | D56: =COUNTIFS(Market_Panel!$A$2:$A$2705,B56,Market_Panel!$B$2:$B$2705,">="&$B$6,Market_Panel!$B$2:$B$2705,"<="&$C$6) -> 10 | E56: =IF(D56=0,"",AVERAGEIFS(Market_Panel!$M$2:$M$2705,Market_Panel!$A$2:$A$2705,B56,Market_Panel!$B$2:$B$2705,">="&$B$6,Market_Panel!$B$2:$B$2705,"<="&$C$6)) -> 0.054374298 | F56: =IF(D56=0,"",AVERAGEIFS(Market_Panel!$P$2:$P$2705,Market_Panel!$A$2:$A$2705,B56,Market_Panel!$B$2:$B$2705,">="&$B$6,Market_Panel!$B$2:$B$2705,"<="&$C$6)) -> 0.55139189 | G56: =IF(D56=0,"",AVERAGEIFS(Market_Panel!$R$2:$R$2705,Market_Panel!$A$2:$A$2705,B56,Market_Panel!$B$2:$B$2705,">="&$B$6,Market_Panel!$B$2:$B$2705,"<="&$C$6)) -> 0 | H56: =IF(OR(D56=0,$H$6=0),0,AVERAGEIFS(Market_Panel!$Y$2:$Y$2705,Market_Panel!$A$2:$A$2705,B56,Market_Panel!$B$2:$B$2705,">="&$B$6,Market_Panel!$B$2:$B$2705,"<="&$C$6)) -> 0 | I56: =IF(D56=0,"",$I$6+$F$6*F56+$G$6*G56+$H$6*H56) -> 0.016960801 | J56: =IF(D56<5,"",(E56-I56)*162) -> 6.0609866 | K56: =IF(D56=0,"",E56*162) -> 8.8086363 | L56: =SUMIFS(Seasons!$L$2:$L$2865,Seasons!$A$2:$A$2865,B56,Seasons!$B$2:$B$2865,">="&$B$6,Seasons!$B$2:$B$2865,"<="&$C$6) -> 2 | M56: =SUMIFS(Seasons!$N$2:$N$2865,Seasons!$A$2:$A$2865,B56,Seasons!$B$2:$B$2865,">="&$B$6,Seasons!$B$2:$B$2865,"<="&$C$6) -> 0 | N56: =IF(J56="",-1000000,J56+ROW()*0.000000001) -> 6.0609866 | O56: =IF(J56="","",SUMPRODUCT(($A$25:$A$534=A56)*($N$25:$N$534>N56))+1) -> 3 | P56: =A56&"|"&O56 -> 1910s|3
A57: 1910s | B57: CIN | C57: Established | D57: =COUNTIFS(Market_Panel!$A$2:$A$2705,B57,Market_Panel!$B$2:$B$2705,">="&$B$6,Market_Panel!$B$2:$B$2705,"<="&$C$6) -> 10 | E57: =IF(D57=0,"",AVERAGEIFS(Market_Panel!$M$2:$M$2705,Market_Panel!$A$2:$A$2705,B57,Market_Panel!$B$2:$B$2705,">="&$B$6,Market_Panel!$B$2:$B$2705,"<="&$C$6)) -> -0.018044704 | F57: =IF(D57=0,"",AVERAGEIFS(Market_Panel!$P$2:$P$2705,Market_Panel!$A$2:$A$2705,B57,Market_Panel!$B$2:$B$2705,">="&$B$6,Market_Panel!$B$2:$B$2705,"<="&$C$6)) -> -0.6000475 | G57: =IF(D57=0,"",AVERAGEIFS(Market_Panel!$R$2:$R$2705,Market_Panel!$A$2:$A$2705,B57,Market_Panel!$B$2:$B$2705,">="&$B$6,Market_Panel!$B$2:$B$2705,"<="&$C$6)) -> 0 | H57: =IF(OR(D57=0,$H$6=0),0,AVERAGEIFS(Market_Panel!$Y$2:$Y$2705,Market_Panel!$A$2:$A$2705,B57,Market_Panel!$B$2:$B$2705,">="&$B$6,Market_Panel!$B$2:$B$2705,"<="&$C$6)) -> 0 | I57: =IF(D57=0,"",$I$6+$F$6*F57+$G$6*G57+$H$6*H57) -> -0.018457446 | J57: =IF(D57<5,"",(E57-I57)*162) -> 0.066864223 | K57: =IF(D57=0,"",E57*162) -> -2.923242 | L57: =SUMIFS(Seasons!$L$2:$L$2865,Seasons!$A$2:$A$2865,B57,Seasons!$B$2:$B$2865,">="&$B$6,Seasons!$B$2:$B$2865,"<="&$C$6) -> 1 | M57: =SUMIFS(Seasons!$N$2:$N$2865,Seasons!$A$2:$A$2865,B57,Seasons!$B$2:$B$2865,">="&$B$6,Seasons!$B$2:$B$2865,"<="&$C$6) -> 1 | N57: =IF(J57="",-1000000,J57+ROW()*0.000000001) -> 0.06686428 | O57: =IF(J57="","",SUMPRODUCT(($A$25:$A$534=A57)*($N$25:$N$534>N57))+1) -> 10 | P57: =A57&"|"&O57 -> 1910s|10
A58: 1910s | B58: PIT | C58: Established | D58: =COUNTIFS(Market_Panel!$A$2:$A$2705,B58,Market_Panel!$B$2:$B$2705,">="&$B$6,Market_Panel!$B$2:$B$2705,"<="&$C$6) -> 10 | E58: =IF(D58=0,"",AVERAGEIFS(Market_Panel!$M$2:$M$2705,Market_Panel!$A$2:$A$2705,B58,Market_Panel!$B$2:$B$2705,">="&$B$6,Market_Panel!$B$2:$B$2705,"<="&$C$6)) -> -0.0040197531 | F58: =IF(D58=0,"",AVERAGEIFS(Market_Panel!$P$2:$P$2705,Market_Panel!$A$2:$A$2705,B58,Market_Panel!$B$2:$B$2705,">="&$B$6,Market_Panel!$B$2:$B$2705,"<="&$C$6)) -> -0.21651411 | G58: =IF(D58=0,"",AVERAGEIFS(Market_Panel!$R$2:$R$2705,Market_Panel!$A$2:$A$2705,B58,Market_Panel!$B$2:$B$2705,">="&$B$6,Market_Panel!$B$2:$B$2705,"<="&$C$6)) -> 0 | H58: =IF(OR(D58=0,$H$6=0),0,AVERAGEIFS(Market_Panel!$Y$2:$Y$2705,Market_Panel!$A$2:$A$2705,B58,Market_Panel!$B$2:$B$2705,">="&$B$6,Market_Panel!$B$2:$B$2705,"<="&$C$6)) -> 0 | I58: =IF(D58=0,"",$I$6+$F$6*F58+$G$6*G58+$H$6*H58) -> -0.0066599687 | J58: =IF(D58<5,"",(E58-I58)*162) -> 0.42771492 | K58: =IF(D58=0,"",E58*162) -> -0.6512 | L58: =SUMIFS(Seasons!$L$2:$L$2865,Seasons!$A$2:$A$2865,B58,Seasons!$B$2:$B$2865,">="&$B$6,Seasons!$B$2:$B$2865,"<="&$C$6) -> 0 | M58: =SUMIFS(Seasons!$N$2:$N$2865,Seasons!$A$2:$A$2865,B58,Seasons!$B$2:$B$2865,">="&$B$6,Seasons!$B$2:$B$2865,"<="&$C$6) -> 0 | N58: =IF(J58="",-1000000,J58+ROW()*0.000000001) -> 0.42771498 | O58: =IF(J58="","",SUMPRODUCT(($A$25:$A$534=A58)*($N$25:$N$534>N58))+1) -> 8 | P58: =A58&"|"&O58 -> 1910s|8
A59: 1910s | B59: STL | C59: Established | D59: =COUNTIFS(Market_Panel!$A$2:$A$2705,B59,Market_Panel!$B$2:$B$2705,">="&$B$6,Market_Panel!$B$2:$B$2705,"<="&$C$6) -> 10 | E59: =IF(D59=0,"",AVERAGEIFS(Market_Panel!$M$2:$M$2705,Market_Panel!$A$2:$A$2705,B59,Market_Panel!$B$2:$B$2705,">="&$B$6,Market_Panel!$B$2:$B$2705,"<="&$C$6)) -> -0.061171202 | F59: =IF(D59=0,"",AVERAGEIFS(Market_Panel!$P$2:$P$2705,Market_Panel!$A$2:$A$2705,B59,Market_Panel!$B$2:$B$2705,">="&$B$6,Market_Panel!$B$2:$B$2705,"<="&$C$6)) -> -0.64819802 | G59: =IF(D59=0,"",AVERAGEIFS(Market_Panel!$R$2:$R$2705,Market_Panel!$A$2:$A$2705,B59,Market_Panel!$B$2:$B$2705,">="&$B$6,Market_Panel!$B$2:$B$2705,"<="&$C$6)) -> 0 | H59: =IF(OR(D59=0,$H$6=0),0,AVERAGEIFS(Market_Panel!$Y$2:$Y$2705,Market_Panel!$A$2:$A$2705,B59,Market_Panel!$B$2:$B$2705,">="&$B$6,Market_Panel!$B$2:$B$2705,"<="&$C$6)) -> 0 | I59: =IF(D59=0,"",$I$6+$F$6*F59+$G$6*G59+$H$6*H59) -> -0.019938555 | J59: =IF(D59<5,"",(E59-I59)*162) -> -6.6796888 | K59: =IF(D59=0,"",E59*162) -> -9.9097347 | L59: =SUMIFS(Seasons!$L$2:$L$2865,Seasons!$A$2:$A$2865,B59,Seasons!$B$2:$B$2865,">="&$B$6,Seasons!$B$2:$B$2865,"<="&$C$6) -> 0 | M59: =SUMIFS(Seasons!$N$2:$N$2865,Seasons!$A$2:$A$2865,B59,Seasons!$B$2:$B$2865,">="&$B$6,Seasons!$B$2:$B$2865,"<="&$C$6) -> 0 | N59: =IF(J59="",-1000000,J59+ROW()*0.000000001) -> -6.6796888 | O59: =IF(J59="","",SUMPRODUCT(($A$25:$A$534=A59)*($N$25:$N$534>N59))+1) -> 13 | P59: =A59&"|"&O59 -> 1910s|13
A60: 1910s | B60: PHI | C60: Established | D60: =COUNTIFS(Market_Panel!$A$2:$A$2705,B60,Market_Panel!$B$2:$B$2705,">="&$B$6,Market_Panel!$B$2:$B$2705,"<="&$C$6) -> 10 | E60: =IF(D60=0,"",AVERAGEIFS(Market_Panel!$M$2:$M$2705,Market_Panel!$A$2:$A$2705,B60,Market_Panel!$B$2:$B$2705,">="&$B$6,Market_Panel!$B$2:$B$2705,"<="&$C$6)) -> 0.012283285 | F60: =IF(D60=0,"",AVERAGEIFS(Market_Panel!$P$2:$P$2705,Market_Panel!$A$2:$A$2705,B60,Market_Panel!$B$2:$B$2705,">="&$B$6,Market_Panel!$B$2:$B$2705,"<="&$C$6)) -> 0.1852825 | G60: =IF(D60=0,"",AVERAGEIFS(Market_Panel!$R$2:$R$2705,Market_Panel!$A$2:$A$2705,B60,Market_Panel!$B$2:$B$2705,">="&$B$6,Market_Panel!$B$2:$B$2705,"<="&$C$6)) -> 0 | H60: =IF(OR(D60=0,$H$6=0),0,AVERAGEIFS(Market_Panel!$Y$2:$Y$2705,Market_Panel!$A$2:$A$2705,B60,Market_Panel!$B$2:$B$2705,">="&$B$6,Market_Panel!$B$2:$B$2705,"<="&$C$6)) -> 0 | I60: =IF(D60=0,"",$I$6+$F$6*F60+$G$6*G60+$H$6*H60) -> 0.0056992851 | J60: =IF(D60<5,"",(E60-I60)*162) -> 1.066608 | K60: =IF(D60=0,"",E60*162) -> 1.9898922 | L60: =SUMIFS(Seasons!$L$2:$L$2865,Seasons!$A$2:$A$2865,B60,Seasons!$B$2:$B$2865,">="&$B$6,Seasons!$B$2:$B$2865,"<="&$C$6) -> 1 | M60: =SUMIFS(Seasons!$N$2:$N$2865,Seasons!$A$2:$A$2865,B60,Seasons!$B$2:$B$2865,">="&$B$6,Seasons!$B$2:$B$2865,"<="&$C$6) -> 0 | N60: =IF(J60="",-1000000,J60+ROW()*0.000000001) -> 1.066608 | O60: =IF(J60="","",SUMPRODUCT(($A$25:$A$534=A60)*($N$25:$N$534>N60))+1) -> 7 | P60: =A60&"|"&O60 -> 1910s|7
A61: 1910s | B61: SFG | C61: Established | D61: =COUNTIFS(Market_Panel!$A$2:$A$2705,B61,Market_Panel!$B$2:$B$2705,">="&$B$6,Market_Panel!$B$2:$B$2705,"<="&$C$6) -> 10 | E61: =IF(D61=0,"",AVERAGEIFS(Market_Panel!$M$2:$M$2705,Market_Panel!$A$2:$A$2705,B61,Market_Panel!$B$2:$B$2705,">="&$B$6,Market_Panel!$B$2:$B$2705,"<="&$C$6)) -> 0.098038794 | F61: =IF(D61=0,"",AVERAGEIFS(Market_Panel!$P$2:$P$2705,Market_Panel!$A$2:$A$2705,B61,Market_Panel!$B$2:$B$2705,">="&$B$6,Market_Panel!$B$2:$B$2705,"<="&$C$6)) -> 0.90450351 | G61: =IF(D61=0,"",AVERAGEIFS(Market_Panel!$R$2:$R$2705,Market_Panel!$A$2:$A$2705,B61,Market_Panel!$B$2:$B$2705,">="&$B$6,Market_Panel!$B$2:$B$2705,"<="&$C$6)) -> 0 | H61: =IF(OR(D61=0,$H$6=0),0,AVERAGEIFS(Market_Panel!$Y$2:$Y$2705,Market_Panel!$A$2:$A$2705,B61,Market_Panel!$B$2:$B$2705,">="&$B$6,Market_Panel!$B$2:$B$2705,"<="&$C$6)) -> 0 | I61: =IF(D61=0,"",$I$6+$F$6*F61+$G$6*G61+$H$6*H61) -> 0.027822505 | J61: =IF(D61<5,"",(E61-I61)*162) -> 11.375039 | K61: =IF(D61=0,"",E61*162) -> 15.882285 | L61: =SUMIFS(Seasons!$L$2:$L$2865,Seasons!$A$2:$A$2865,B61,Seasons!$B$2:$B$2865,">="&$B$6,Seasons!$B$2:$B$2865,"<="&$C$6) -> 4 | M61: =SUMIFS(Seasons!$N$2:$N$2865,Seasons!$A$2:$A$2865,B61,Seasons!$B$2:$B$2865,">="&$B$6,Seasons!$B$2:$B$2865,"<="&$C$6) -> 0 | N61: =IF(J61="",-1000000,J61+ROW()*0.000000001) -> 11.375039 | O61: =IF(J61="","",SUMPRODUCT(($A$25:$A$534=A61)*($N$25:$N$534>N61))+1) -> 2 | P61: =A61&"|"&O61 -> 1910s|2
A62: 1910s | B62: LAD | C62: Established | D62: =COUNTIFS(Market_Panel!$A$2:$A$2705,B62,Market_Panel!$B$2:$B$2705,">="&$B$6,Market_Panel!$B$2:$B$2705,"<="&$C$6) -> 10 | E62: =IF(D62=0,"",AVERAGEIFS(Market_Panel!$M$2:$M$2705,Market_Panel!$A$2:$A$2705,B62,Market_Panel!$B$2:$B$2705,">="&$B$6,Market_Panel!$B$2:$B$2705,"<="&$C$6)) -> -0.03096268 | F62: =IF(D62=0,"",AVERAGEIFS(Market_Panel!$P$2:$P$2705,Market_Panel!$A$2:$A$2705,B62,Market_Panel!$B$2:$B$2705,">="&$B$6,Market_Panel!$B$2:$B$2705,"<="&$C$6)) -> 0.90450351 | G62: =IF(D62=0,"",AVERAGEIFS(Market_Panel!$R$2:$R$2705,Market_Panel!$A$2:$A$2705,B62,Market_Panel!$B$2:$B$2705,">="&$B$6,Market_Panel!$B$2:$B$2705,"<="&$C$6)) -> 0 | H62: =IF(OR(D62=0,$H$6=0),0,AVERAGEIFS(Market_Panel!$Y$2:$Y$2705,Market_Panel!$A$2:$A$2705,B62,Market_Panel!$B$2:$B$2705,">="&$B$6,Market_Panel!$B$2:$B$2705,"<="&$C$6)) -> 0 | I62: =IF(D62=0,"",$I$6+$F$6*F62+$G$6*G62+$H$6*H62) -> 0.027822505 | J62: =IF(D62<5,"",(E62-I62)*162) -> -9.5232 | K62: =IF(D62=0,"",E62*162) -> -5.0159542 | L62: =SUMIFS(Seasons!$L$2:$L$2865,Seasons!$A$2:$A$2865,B62,Seasons!$B$2:$B$2865,">="&$B$6,Seasons!$B$2:$B$2865,"<="&$C$6) -> 1 | M62: =SUMIFS(Seasons!$N$2:$N$2865,Seasons!$A$2:$A$2865,B62,Seasons!$B$2:$B$2865,">="&$B$6,Seasons!$B$2:$B$2865,"<="&$C$6) -> 0 | N62: =IF(J62="",-1000000,J62+ROW()*0.000000001) -> -9.5231999 | O62: =IF(J62="","",SUMPRODUCT(($A$25:$A$534=A62)*($N$25:$N$534>N62))+1) -> 15 | P62: =A62&"|"&O62 -> 1910s|15
A63: 1910s | B63: BAL | C63: Established | D63: =COUNTIFS(Market_Panel!$A$2:$A$2705,B63,Market_Panel!$B$2:$B$2705,">="&$B$6,Market_Panel!$B$2:$B$2705,"<="&$C$6) -> 10 | E63: =IF(D63=0,"",AVERAGEIFS(Market_Panel!$M$2:$M$2705,Market_Panel!$A$2:$A$2705,B63,Market_Panel!$B$2:$B$2705,">="&$B$6,Market_Panel!$B$2:$B$2705,"<="&$C$6)) -> -0.09681005 | F63: =IF(D63=0,"",AVERAGEIFS(Market_Panel!$P$2:$P$2705,Market_Panel!$A$2:$A$2705,B63,Market_Panel!$B$2:$B$2705,">="&$B$6,Market_Panel!$B$2:$B$2705,"<="&$C$6)) -> -0.64819802 | G63: =IF(D63=0,"",AVERAGEIFS(Market_Panel!$R$2:$R$2705,Market_Panel!$A$2:$A$2705,B63,Market_Panel!$B$2:$B$2705,">="&$B$6,Market_Panel!$B$2:$B$2705,"<="&$C$6)) -> 0 | H63: =IF(OR(D63=0,$H$6=0),0,AVERAGEIFS(Market_Panel!$Y$2:$Y$2705,Market_Panel!$A$2:$A$2705,B63,Market_Panel!$B$2:$B$2705,">="&$B$6,Market_Panel!$B$2:$B$2705,"<="&$C$6)) -> 0 | I63: =IF(D63=0,"",$I$6+$F$6*F63+$G$6*G63+$H$6*H63) -> -0.019938555 | J63: =IF(D63<5,"",(E63-I63)*162) -> -12.453182 | K63: =IF(D63=0,"",E63*162) -> -15.683228 | L63: =SUMIFS(Seasons!$L$2:$L$2865,Seasons!$A$2:$A$2865,B63,Seasons!$B$2:$B$2865,">="&$B$6,Seasons!$B$2:$B$2865,"<="&$C$6) -> 0 | M63: =SUMIFS(Seasons!$N$2:$N$2865,Seasons!$A$2:$A$2865,B63,Seasons!$B$2:$B$2865,">="&$B$6,Seasons!$B$2:$B$2865,"<="&$C$6) -> 0 | N63: =IF(J63="",-1000000,J63+ROW()*0.000000001) -> -12.453182 | O63: =IF(J63="","",SUMPRODUCT(($A$25:$A$534=A63)*($N$25:$N$534>N63))+1) -> 16 | P63: =A63&"|"&O63 -> 1910s|16
A64: 1910s | B64: BOS | C64: Established | D64: =COUNTIFS(Market_Panel!$A$2:$A$2705,B64,Market_Panel!$B$2:$B$2705,">="&$B$6,Market_Panel!$B$2:$B$2705,"<="&$C$6) -> 10 | E64: =IF(D64=0,"",AVERAGEIFS(Market_Panel!$M$2:$M$2705,Market_Panel!$A$2:$A$2705,B64,Market_Panel!$B$2:$B$2705,">="&$B$6,Market_Panel!$B$2:$B$2705,"<="&$C$6)) -> 0.078058441 | F64: =IF(D64=0,"",AVERAGEIFS(Market_Panel!$P$2:$P$2705,Market_Panel!$A$2:$A$2705,B64,Market_Panel!$B$2:$B$2705,">="&$B$6,Market_Panel!$B$2:$B$2705,"<="&$C$6)) -> -0.67622051 | G64: =IF(D64=0,"",AVERAGEIFS(Market_Panel!$R$2:$R$2705,Market_Panel!$A$2:$A$2705,B64,Market_Panel!$B$2:$B$2705,">="&$B$6,Market_Panel!$B$2:$B$2705,"<="&$C$6)) -> 0 | H64: =IF(OR(D64=0,$H$6=0),0,AVERAGEIFS(Market_Panel!$Y$2:$Y$2705,Market_Panel!$A$2:$A$2705,B64,Market_Panel!$B$2:$B$2705,">="&$B$6,Market_Panel!$B$2:$B$2705,"<="&$C$6)) -> 0 | I64: =IF(D64=0,"",$I$6+$F$6*F64+$G$6*G64+$H$6*H64) -> -0.020800526 | J64: =IF(D64<5,"",(E64-I64)*162) -> 16.015153 | K64: =IF(D64=0,"",E64*162) -> 12.645468 | L64: =SUMIFS(Seasons!$L$2:$L$2865,Seasons!$A$2:$A$2865,B64,Seasons!$B$2:$B$2865,">="&$B$6,Seasons!$B$2:$B$2865,"<="&$C$6) -> 4 | M64: =SUMIFS(Seasons!$N$2:$N$2865,Seasons!$A$2:$A$2865,B64,Seasons!$B$2:$B$2865,">="&$B$6,Seasons!$B$2:$B$2865,"<="&$C$6) -> 4 | N64: =IF(J64="",-1000000,J64+ROW()*0.000000001) -> 16.015153 | O64: =IF(J64="","",SUMPRODUCT(($A$25:$A$534=A64)*($N$25:$N$534>N64))+1) -> 1 | P64: =A64&"|"&O64 -> 1910s|1
A65: 1910s | B65: CHW | C65: Established | D65: =COUNTIFS(Market_Panel!$A$2:$A$2705,B65,Market_Panel!$B$2:$B$2705,">="&$B$6,Market_Panel!$B$2:$B$2705,"<="&$C$6) -> 10 | E65: =IF(D65=0,"",AVERAGEIFS(Market_Panel!$M$2:$M$2705,Market_Panel!$A$2:$A$2705,B65,Market_Panel!$B$2:$B$2705,">="&$B$6,Market_Panel!$B$2:$B$2705,"<="&$C$6)) -> 0.034825565 | F65: =IF(D65=0,"",AVERAGEIFS(Market_Panel!$P$2:$P$2705,Market_Panel!$A$2:$A$2705,B65,Market_Panel!$B$2:$B$2705,">="&$B$6,Market_Panel!$B$2:$B$2705,"<="&$C$6)) -> 0.55139189 | G65: =IF(D65=0,"",AVERAGEIFS(Market_Panel!$R$2:$R$2705,Market_Panel!$A$2:$A$2705,B65,Market_Panel!$B$2:$B$2705,">="&$B$6,Market_Panel!$B$2:$B$2705,"<="&$C$6)) -> 0 | H65: =IF(OR(D65=0,$H$6=0),0,AVERAGEIFS(Market_Panel!$Y$2:$Y$2705,Market_Panel!$A$2:$A$2705,B65,Market_Panel!$B$2:$B$2705,">="&$B$6,Market_Panel!$B$2:$B$2705,"<="&$C$6)) -> 0 | I65: =IF(D65=0,"",$I$6+$F$6*F65+$G$6*G65+$H$6*H65) -> 0.016960801 | J65: =IF(D65<5,"",(E65-I65)*162) -> 2.8940919 | K65: =IF(D65=0,"",E65*162) -> 5.6417416 | L65: =SUMIFS(Seasons!$L$2:$L$2865,Seasons!$A$2:$A$2865,B65,Seasons!$B$2:$B$2865,">="&$B$6,Seasons!$B$2:$B$2865,"<="&$C$6) -> 2 | M65: =SUMIFS(Seasons!$N$2:$N$2865,Seasons!$A$2:$A$2865,B65,Seasons!$B$2:$B$2865,">="&$B$6,Seasons!$B$2:$B$2865,"<="&$C$6) -> 1 | N65: =IF(J65="",-1000000,J65+ROW()*0.000000001) -> 2.894092 | O65: =IF(J65="","",SUMPRODUCT(($A$25:$A$534=A65)*($N$25:$N$534>N65))+1) -> 6 | P65: =A65&"|"&O65 -> 1910s|6
A66: 1910s | B66: CLE | C66: Established | D66: =COUNTIFS(Market_Panel!$A$2:$A$2705,B66,Market_Panel!$B$2:$B$2705,">="&$B$6,Market_Panel!$B$2:$B$2705,"<="&$C$6) -> 10 | E66: =IF(D66=0,"",AVERAGEIFS(Market_Panel!$M$2:$M$2705,Market_Panel!$A$2:$A$2705,B66,Market_Panel!$B$2:$B$2705,">="&$B$6,Market_Panel!$B$2:$B$2705,"<="&$C$6)) -> 0.00051111324 | F66: =IF(D66=0,"",AVERAGEIFS(Market_Panel!$P$2:$P$2705,Market_Panel!$A$2:$A$2705,B66,Market_Panel!$B$2:$B$2705,">="&$B$6,Market_Panel!$B$2:$B$2705,"<="&$C$6)) -> -0.053112691 | G66: =IF(D66=0,"",AVERAGEIFS(Market_Panel!$R$2:$R$2705,Market_Panel!$A$2:$A$2705,B66,Market_Panel!$B$2:$B$2705,">="&$B$6,Market_Panel!$B$2:$B$2705,"<="&$C$6)) -> 0 | H66: =IF(OR(D66=0,$H$6=0),0,AVERAGEIFS(Market_Panel!$Y$2:$Y$2705,Market_Panel!$A$2:$A$2705,B66,Market_Panel!$B$2:$B$2705,">="&$B$6,Market_Panel!$B$2:$B$2705,"<="&$C$6)) -> 0 | I66: =IF(D66=0,"",$I$6+$F$6*F66+$G$6*G66+$H$6*H66) -> -0.001633745 | J66: =IF(D66<5,"",(E66-I66)*162) -> 0.34746704 | K66: =IF(D66=0,"",E66*162) -> 0.082800345 | L66: =SUMIFS(Seasons!$L$2:$L$2865,Seasons!$A$2:$A$2865,B66,Seasons!$B$2:$B$2865,">="&$B$6,Seasons!$B$2:$B$2865,"<="&$C$6) -> 0 | M66: =SUMIFS(Seasons!$N$2:$N$2865,Seasons!$A$2:$A$2865,B66,Seasons!$B$2:$B$2865,">="&$B$6,Seasons!$B$2:$B$2865,"<="&$C$6) -> 0 | N66: =IF(J66="",-1000000,J66+ROW()*0.000000001) -> 0.34746711 | O66: =IF(J66="","",SUMPRODUCT(($A$25:$A$534=A66)*($N$25:$N$534>N66))+1) -> 9 | P66: =A66&"|"&O66 -> 1910s|9
... A84: 1910s | B84: TBD | C84: Expansion | D84: =COUNTIFS(Market_Panel!$A$2:$A$2705,B84,Market_Panel!$B$2:$B$2705,">="&$B$6,Market_Panel!$B$2:$B$2705,"<="&$C$6) -> 0 | E84: =IF(D84=0,"",AVERAGEIFS(Market_Panel!$M$2:$M$2705,Market_Panel!$A$2:$A$2705,B84,Market_Panel!$B$2:$B$2705,">="&$B$6,Market_Panel!$B$2:$B$2705,"<="&$C$6)) | F84: =IF(D84=0,"",AVERAGEIFS(Market_Panel!$P$2:$P$2705,Market_Panel!$A$2:$A$2705,B84,Market_Panel!$B$2:$B$2705,">="&$B$6,Market_Panel!$B$2:$B$2705,"<="&$C$6)) | G84: =IF(D84=0,"",AVERAGEIFS(Market_Panel!$R$2:$R$2705,Market_Panel!$A$2:$A$2705,B84,Market_Panel!$B$2:$B$2705,">="&$B$6,Market_Panel!$B$2:$B$2705,"<="&$C$6)) | H84: =IF(OR(D84=0,$H$6=0),0,AVERAGEIFS(Market_Panel!$Y$2:$Y$2705,Market_Panel!$A$2:$A$2705,B84,Market_Panel!$B$2:$B$2705,">="&$B$6,Market_Panel!$B$2:$B$2705,"<="&$C$6)) -> 0 | I84: =IF(D84=0,"",$I$6+$F$6*F84+$G$6*G84+$H$6*H84) | J84: =IF(D84<5,"",(E84-I84)*162) | K84: =IF(D84=0,"",E84*162) | L84: =SUMIFS(Seasons!$L$2:$L$2865,Seasons!$A$2:$A$2865,B84,Seasons!$B$2:$B$2865,">="&$B$6,Seasons!$B$2:$B$2865,"<="&$C$6) -> 0 | M84: =SUMIFS(Seasons!$N$2:$N$2865,Seasons!$A$2:$A$2865,B84,Seasons!$B$2:$B$2865,">="&$B$6,Seasons!$B$2:$B$2865,"<="&$C$6) -> 0 | N84: =IF(J84="",-1000000,J84+ROW()*0.000000001) -> -1000000 | O84: =IF(J84="","",SUMPRODUCT(($A$25:$A$534=A84)*($N$25:$N$534>N84))+1) | P84: =A84&"|"&O84 -> 1910s|
A85: 1920s | B85: ATL | C85: Established | D85: =COUNTIFS(Market_Panel!$A$2:$A$2705,B85,Market_Panel!$B$2:$B$2705,">="&$B$7,Market_Panel!$B$2:$B$2705,"<="&$C$7) -> 10 | E85: =IF(D85=0,"",AVERAGEIFS(Market_Panel!$M$2:$M$2705,Market_Panel!$A$2:$A$2705,B85,Market_Panel!$B$2:$B$2705,">="&$B$7,Market_Panel!$B$2:$B$2705,"<="&$C$7)) -> -0.10604694 | F85: =IF(D85=0,"",AVERAGEIFS(Market_Panel!$P$2:$P$2705,Market_Panel!$A$2:$A$2705,B85,Market_Panel!$B$2:$B$2705,">="&$B$7,Market_Panel!$B$2:$B$2705,"<="&$C$7)) -> -0.77557628 | G85: =IF(D85=0,"",AVERAGEIFS(Market_Panel!$R$2:$R$2705,Market_Panel!$A$2:$A$2705,B85,Market_Panel!$B$2:$B$2705,">="&$B$7,Market_Panel!$B$2:$B$2705,"<="&$C$7)) -> 0 | H85: =IF(OR(D85=0,$H$7=0),0,AVERAGEIFS(Market_Panel!$Y$2:$Y$2705,Market_Panel!$A$2:$A$2705,B85,Market_Panel!$B$2:$B$2705,">="&$B$7,Market_Panel!$B$2:$B$2705,"<="&$C$7)) -> 0 | I85: =IF(D85=0,"",$I$7+$F$7*F85+$G$7*G85+$H$7*H85) -> -0.030102739 | J85: =IF(D85<5,"",(E85-I85)*162) -> -12.30296 | K85: =IF(D85=0,"",E85*162) -> -17.179604 | L85: =SUMIFS(Seasons!$L$2:$L$2865,Seasons!$A$2:$A$2865,B85,Seasons!$B$2:$B$2865,">="&$B$7,Seasons!$B$2:$B$2865,"<="&$C$7) -> 0 | M85: =SUMIFS(Seasons!$N$2:$N$2865,Seasons!$A$2:$A$2865,B85,Seasons!$B$2:$B$2865,">="&$B$7,Seasons!$B$2:$B$2865,"<="&$C$7) -> 0 | N85: =IF(J85="",-1000000,J85+ROW()*0.000000001) -> -12.30296 | O85: =IF(J85="","",SUMPRODUCT(($A$25:$A$534=A85)*($N$25:$N$534>N85))+1) -> 14 | P85: =A85&"|"&O85 -> 1920s|14
A86: 1920s | B86: CHC | C86: Established | D86: =COUNTIFS(Market_Panel!$A$2:$A$2705,B86,Market_Panel!$B$2:$B$2705,">="&$B$7,Market_Panel!$B$2:$B$2705,"<="&$C$7) -> 10 | E86: =IF(D86=0,"",AVERAGEIFS(Market_Panel!$M$2:$M$2705,Market_Panel!$A$2:$A$2705,B86,Market_Panel!$B$2:$B$2705,">="&$B$7,Market_Panel!$B$2:$B$2705,"<="&$C$7)) -> 0.025845963 | F86: =IF(D86=0,"",AVERAGEIFS(Market_Panel!$P$2:$P$2705,Market_Panel!$A$2:$A$2705,B86,Market_Panel!$B$2:$B$2705,">="&$B$7,Market_Panel!$B$2:$B$2705,"<="&$C$7)) -> 0.58940139 | G86: =IF(D86=0,"",AVERAGEIFS(Market_Panel!$R$2:$R$2705,Market_Panel!$A$2:$A$2705,B86,Market_Panel!$B$2:$B$2705,">="&$B$7,Market_Panel!$B$2:$B$2705,"<="&$C$7)) -> 0 | H86: =IF(OR(D86=0,$H$7=0),0,AVERAGEIFS(Market_Panel!$Y$2:$Y$2705,Market_Panel!$A$2:$A$2705,B86,Market_Panel!$B$2:$B$2705,">="&$B$7,Market_Panel!$B$2:$B$2705,"<="&$C$7)) -> 0 | I86: =IF(D86=0,"",$I$7+$F$7*F86+$G$7*G86+$H$7*H86) -> 0.022876662 | J86: =IF(D86<5,"",(E86-I86)*162) -> 0.48102682 | K86: =IF(D86=0,"",E86*162) -> 4.1870461 | L86: =SUMIFS(Seasons!$L$2:$L$2865,Seasons!$A$2:$A$2865,B86,Seasons!$B$2:$B$2865,">="&$B$7,Seasons!$B$2:$B$2865,"<="&$C$7) -> 1 | M86: =SUMIFS(Seasons!$N$2:$N$2865,Seasons!$A$2:$A$2865,B86,Seasons!$B$2:$B$2865,">="&$B$7,Seasons!$B$2:$B$2865,"<="&$C$7) -> 0 | N86: =IF(J86="",-1000000,J86+ROW()*0.000000001) -> 0.4810269 | O86: =IF(J86="","",SUMPRODUCT(($A$25:$A$534=A86)*($N$25:$N$534>N86))+1) -> 9 | P86: =A86&"|"&O86 -> 1920s|9
A87: 1920s | B87: CIN | C87: Established | D87: =COUNTIFS(Market_Panel!$A$2:$A$2705,B87,Market_Panel!$B$2:$B$2705,">="&$B$7,Market_Panel!$B$2:$B$2705,"<="&$C$7) -> 10 | E87: =IF(D87=0,"",AVERAGEIFS(Market_Panel!$M$2:$M$2705,Market_Panel!$A$2:$A$2705,B87,Market_Panel!$B$2:$B$2705,">="&$B$7,Market_Panel!$B$2:$B$2705,"<="&$C$7)) -> 0.020509985 | F87: =IF(D87=0,"",AVERAGEIFS(Market_Panel!$P$2:$P$2705,Market_Panel!$A$2:$A$2705,B87,Market_Panel!$B$2:$B$2705,">="&$B$7,Market_Panel!$B$2:$B$2705,"<="&$C$7)) -> -0.6720746 | G87: =IF(D87=0,"",AVERAGEIFS(Market_Panel!$R$2:$R$2705,Market_Panel!$A$2:$A$2705,B87,Market_Panel!$B$2:$B$2705,">="&$B$7,Market_Panel!$B$2:$B$2705,"<="&$C$7)) -> 0 | H87: =IF(OR(D87=0,$H$7=0),0,AVERAGEIFS(Market_Panel!$Y$2:$Y$2705,Market_Panel!$A$2:$A$2705,B87,Market_Panel!$B$2:$B$2705,">="&$B$7,Market_Panel!$B$2:$B$2705,"<="&$C$7)) -> 0 | I87: =IF(D87=0,"",$I$7+$F$7*F87+$G$7*G87+$H$7*H87) -> -0.026085489 | J87: =IF(D87<5,"",(E87-I87)*162) -> 7.5484668 | K87: =IF(D87=0,"",E87*162) -> 3.3226176 | L87: =SUMIFS(Seasons!$L$2:$L$2865,Seasons!$A$2:$A$2865,B87,Seasons!$B$2:$B$2865,">="&$B$7,Seasons!$B$2:$B$2865,"<="&$C$7) -> 0 | M87: =SUMIFS(Seasons!$N$2:$N$2865,Seasons!$A$2:$A$2865,B87,Seasons!$B$2:$B$2865,">="&$B$7,Seasons!$B$2:$B$2865,"<="&$C$7) -> 0 | N87: =IF(J87="",-1000000,J87+ROW()*0.000000001) -> 7.5484669 | O87: =IF(J87="","",SUMPRODUCT(($A$25:$A$534=A87)*($N$25:$N$534>N87))+1) -> 4 | P87: =A87&"|"&O87 -> 1920s|4
A88: 1920s | B88: PIT | C88: Established | D88: =COUNTIFS(Market_Panel!$A$2:$A$2705,B88,Market_Panel!$B$2:$B$2705,">="&$B$7,Market_Panel!$B$2:$B$2705,"<="&$C$7) -> 10 | E88: =IF(D88=0,"",AVERAGEIFS(Market_Panel!$M$2:$M$2705,Market_Panel!$A$2:$A$2705,B88,Market_Panel!$B$2:$B$2705,">="&$B$7,Market_Panel!$B$2:$B$2705,"<="&$C$7)) -> 0.07211041 | F88: =IF(D88=0,"",AVERAGEIFS(Market_Panel!$P$2:$P$2705,Market_Panel!$A$2:$A$2705,B88,Market_Panel!$B$2:$B$2705,">="&$B$7,Market_Panel!$B$2:$B$2705,"<="&$C$7)) -> -0.28373937 | G88: =IF(D88=0,"",AVERAGEIFS(Market_Panel!$R$2:$R$2705,Market_Panel!$A$2:$A$2705,B88,Market_Panel!$B$2:$B$2705,">="&$B$7,Market_Panel!$B$2:$B$2705,"<="&$C$7)) -> 0 | H88: =IF(OR(D88=0,$H$7=0),0,AVERAGEIFS(Market_Panel!$Y$2:$Y$2705,Market_Panel!$A$2:$A$2705,B88,Market_Panel!$B$2:$B$2705,">="&$B$7,Market_Panel!$B$2:$B$2705,"<="&$C$7)) -> 0 | I88: =IF(D88=0,"",$I$7+$F$7*F88+$G$7*G88+$H$7*H88) -> -0.011012885 | J88: =IF(D88<5,"",(E88-I88)*162) -> 13.465974 | K88: =IF(D88=0,"",E88*162) -> 11.681886 | L88: =SUMIFS(Seasons!$L$2:$L$2865,Seasons!$A$2:$A$2865,B88,Seasons!$B$2:$B$2865,">="&$B$7,Seasons!$B$2:$B$2865,"<="&$C$7) -> 2 | M88: =SUMIFS(Seasons!$N$2:$N$2865,Seasons!$A$2:$A$2865,B88,Seasons!$B$2:$B$2865,">="&$B$7,Seasons!$B$2:$B$2865,"<="&$C$7) -> 1 | N88: =IF(J88="",-1000000,J88+ROW()*0.000000001) -> 13.465974 | O88: =IF(J88="","",SUMPRODUCT(($A$25:$A$534=A88)*($N$25:$N$534>N88))+1) -> 1 | P88: =A88&"|"&O88 -> 1920s|1
A89: 1920s | B89: STL | C89: Established | D89: =COUNTIFS(Market_Panel!$A$2:$A$2705,B89,Market_Panel!$B$2:$B$2705,">="&$B$7,Market_Panel!$B$2:$B$2705,"<="&$C$7) -> 10 | E89: =IF(D89=0,"",AVERAGEIFS(Market_Panel!$M$2:$M$2705,Market_Panel!$A$2:$A$2705,B89,Market_Panel!$B$2:$B$2705,">="&$B$7,Market_Panel!$B$2:$B$2705,"<="&$C$7)) -> 0.035860974 | F89: =IF(D89=0,"",AVERAGEIFS(Market_Panel!$P$2:$P$2705,Market_Panel!$A$2:$A$2705,B89,Market_Panel!$B$2:$B$2705,">="&$B$7,Market_Panel!$B$2:$B$2705,"<="&$C$7)) -> -0.73471769 | G89: =IF(D89=0,"",AVERAGEIFS(Market_Panel!$R$2:$R$2705,Market_Panel!$A$2:$A$2705,B89,Market_Panel!$B$2:$B$2705,">="&$B$7,Market_Panel!$B$2:$B$2705,"<="&$C$7)) -> 0 | H89: =IF(OR(D89=0,$H$7=0),0,AVERAGEIFS(Market_Panel!$Y$2:$Y$2705,Market_Panel!$A$2:$A$2705,B89,Market_Panel!$B$2:$B$2705,">="&$B$7,Market_Panel!$B$2:$B$2705,"<="&$C$7)) -> 0 | I89: =IF(D89=0,"",$I$7+$F$7*F89+$G$7*G89+$H$7*H89) -> -0.028516879 | J89: =IF(D89<5,"",(E89-I89)*162) -> 10.429212 | K89: =IF(D89=0,"",E89*162) -> 5.8094778 | L89: =SUMIFS(Seasons!$L$2:$L$2865,Seasons!$A$2:$A$2865,B89,Seasons!$B$2:$B$2865,">="&$B$7,Seasons!$B$2:$B$2865,"<="&$C$7) -> 2 | M89: =SUMIFS(Seasons!$N$2:$N$2865,Seasons!$A$2:$A$2865,B89,Seasons!$B$2:$B$2865,">="&$B$7,Seasons!$B$2:$B$2865,"<="&$C$7) -> 1 | N89: =IF(J89="",-1000000,J89+ROW()*0.000000001) -> 10.429212 | O89: =IF(J89="","",SUMPRODUCT(($A$25:$A$534=A89)*($N$25:$N$534>N89))+1) -> 3 | P89: =A89&"|"&O89 -> 1920s|3
A90: 1920s | B90: PHI | C90: Established | D90: =COUNTIFS(Market_Panel!$A$2:$A$2705,B90,Market_Panel!$B$2:$B$2705,">="&$B$7,Market_Panel!$B$2:$B$2705,"<="&$C$7) -> 10 | E90: =IF(D90=0,"",AVERAGEIFS(Market_Panel!$M$2:$M$2705,Market_Panel!$A$2:$A$2705,B90,Market_Panel!$B$2:$B$2705,">="&$B$7,Market_Panel!$B$2:$B$2705,"<="&$C$7)) -> -0.12954082 | F90: =IF(D90=0,"",AVERAGEIFS(Market_Panel!$P$2:$P$2705,Market_Panel!$A$2:$A$2705,B90,Market_Panel!$B$2:$B$2705,">="&$B$7,Market_Panel!$B$2:$B$2705,"<="&$C$7)) -> 0.12644195 | G90: =IF(D90=0,"",AVERAGEIFS(Market_Panel!$R$2:$R$2705,Market_Panel!$A$2:$A$2705,B90,Market_Panel!$B$2:$B$2705,">="&$B$7,Market_Panel!$B$2:$B$2705,"<="&$C$7)) -> 0 | H90: =IF(OR(D90=0,$H$7=0),0,AVERAGEIFS(Market_Panel!$Y$2:$Y$2705,Market_Panel!$A$2:$A$2705,B90,Market_Panel!$B$2:$B$2705,">="&$B$7,Market_Panel!$B$2:$B$2705,"<="&$C$7)) -> 0 | I90: =IF(D90=0,"",$I$7+$F$7*F90+$G$7*G90+$H$7*H90) -> 0.0049076399 | J90: =IF(D90<5,"",(E90-I90)*162) -> -21.78065 | K90: =IF(D90=0,"",E90*162) -> -20.985613 | L90: =SUMIFS(Seasons!$L$2:$L$2865,Seasons!$A$2:$A$2865,B90,Seasons!$B$2:$B$2865,">="&$B$7,Seasons!$B$2:$B$2865,"<="&$C$7) -> 0 | M90: =SUMIFS(Seasons!$N$2:$N$2865,Seasons!$A$2:$A$2865,B90,Seasons!$B$2:$B$2865,">="&$B$7,Seasons!$B$2:$B$2865,"<="&$C$7) -> 0 | N90: =IF(J90="",-1000000,J90+ROW()*0.000000001) -> -21.78065 | O90: =IF(J90="","",SUMPRODUCT(($A$25:$A$534=A90)*($N$25:$N$534>N90))+1) -> 16 | P90: =A90&"|"&O90 -> 1920s|16
A91: 1920s | B91: SFG | C91: Established | D91: =COUNTIFS(Market_Panel!$A$2:$A$2705,B91,Market_Panel!$B$2:$B$2705,">="&$B$7,Market_Panel!$B$2:$B$2705,"<="&$C$7) -> 10 | E91: =IF(D91=0,"",AVERAGEIFS(Market_Panel!$M$2:$M$2705,Market_Panel!$A$2:$A$2705,B91,Market_Panel!$B$2:$B$2705,">="&$B$7,Market_Panel!$B$2:$B$2705,"<="&$C$7)) -> 0.081898592 | F91: =IF(D91=0,"",AVERAGEIFS(Market_Panel!$P$2:$P$2705,Market_Panel!$A$2:$A$2705,B91,Market_Panel!$B$2:$B$2705,">="&$B$7,Market_Panel!$B$2:$B$2705,"<="&$C$7)) -> 0.910384 | G91: =IF(D91=0,"",AVERAGEIFS(Market_Panel!$R$2:$R$2705,Market_Panel!$A$2:$A$2705,B91,Market_Panel!$B$2:$B$2705,">="&$B$7,Market_Panel!$B$2:$B$2705,"<="&$C$7)) -> 0 | H91: =IF(OR(D91=0,$H$7=0),0,AVERAGEIFS(Market_Panel!$Y$2:$Y$2705,Market_Panel!$A$2:$A$2705,B91,Market_Panel!$B$2:$B$2705,">="&$B$7,Market_Panel!$B$2:$B$2705,"<="&$C$7)) -> 0 | I91: =IF(D91=0,"",$I$7+$F$7*F91+$G$7*G91+$H$7*H91) -> 0.035335083 | J91: =IF(D91<5,"",(E91-I91)*162) -> 7.5432884 | K91: =IF(D91=0,"",E91*162) -> 13.267572 | L91: =SUMIFS(Seasons!$L$2:$L$2865,Seasons!$A$2:$A$2865,B91,Seasons!$B$2:$B$2865,">="&$B$7,Seasons!$B$2:$B$2865,"<="&$C$7) -> 4 | M91: =SUMIFS(Seasons!$N$2:$N$2865,Seasons!$A$2:$A$2865,B91,Seasons!$B$2:$B$2865,">="&$B$7,Seasons!$B$2:$B$2865,"<="&$C$7) -> 2 | N91: =IF(J91="",-1000000,J91+ROW()*0.000000001) -> 7.5432885 | O91: =IF(J91="","",SUMPRODUCT(($A$25:$A$534=A91)*($N$25:$N$534>N91))+1) -> 5 | P91: =A91&"|"&O91 -> 1920s|5
A92: 1920s | B92: LAD | C92: Established | D92: =COUNTIFS(Market_Panel!$A$2:$A$2705,B92,Market_Panel!$B$2:$B$2705,">="&$B$7,Market_Panel!$B$2:$B$2705,"<="&$C$7) -> 10 | E92: =IF(D92=0,"",AVERAGEIFS(Market_Panel!$M$2:$M$2705,Market_Panel!$A$2:$A$2705,B92,Market_Panel!$B$2:$B$2705,">="&$B$7,Market_Panel!$B$2:$B$2705,"<="&$C$7)) -> -0.001092651 | F92: =IF(D92=0,"",AVERAGEIFS(Market_Panel!$P$2:$P$2705,Market_Panel!$A$2:$A$2705,B92,Market_Panel!$B$2:$B$2705,">="&$B$7,Market_Panel!$B$2:$B$2705,"<="&$C$7)) -> 0.910384 | G92: =IF(D92=0,"",AVERAGEIFS(Market_Panel!$R$2:$R$2705,Market_Panel!$A$2:$A$2705,B92,Market_Panel!$B$2:$B$2705,">="&$B$7,Market_Panel!$B$2:$B$2705,"<="&$C$7)) -> 0 | H92: =IF(OR(D92=0,$H$7=0),0,AVERAGEIFS(Market_Panel!$Y$2:$Y$2705,Market_Panel!$A$2:$A$2705,B92,Market_Panel!$B$2:$B$2705,">="&$B$7,Market_Panel!$B$2:$B$2705,"<="&$C$7)) -> 0 | I92: =IF(D92=0,"",$I$7+$F$7*F92+$G$7*G92+$H$7*H92) -> 0.035335083 | J92: =IF(D92<5,"",(E92-I92)*162) -> -5.9012929 | K92: =IF(D92=0,"",E92*162) -> -0.17700947 | L92: =SUMIFS(Seasons!$L$2:$L$2865,Seasons!$A$2:$A$2865,B92,Seasons!$B$2:$B$2865,">="&$B$7,Seasons!$B$2:$B$2865,"<="&$C$7) -> 1 | M92: =SUMIFS(Seasons!$N$2:$N$2865,Seasons!$A$2:$A$2865,B92,Seasons!$B$2:$B$2865,">="&$B$7,Seasons!$B$2:$B$2865,"<="&$C$7) -> 0 | N92: =IF(J92="",-1000000,J92+ROW()*0.000000001) -> -5.9012928 | O92: =IF(J92="","",SUMPRODUCT(($A$25:$A$534=A92)*($N$25:$N$534>N92))+1) -> 12 | P92: =A92&"|"&O92 -> 1920s|12
A93: 1920s | B93: BAL | C93: Established | D93: =COUNTIFS(Market_Panel!$A$2:$A$2705,B93,Market_Panel!$B$2:$B$2705,">="&$B$7,Market_Panel!$B$2:$B$2705,"<="&$C$7) -> 10 | E93: =IF(D93=0,"",AVERAGEIFS(Market_Panel!$M$2:$M$2705,Market_Panel!$A$2:$A$2705,B93,Market_Panel!$B$2:$B$2705,">="&$B$7,Market_Panel!$B$2:$B$2705,"<="&$C$7)) -> -0.0023278022 | F93: =IF(D93=0,"",AVERAGEIFS(Market_Panel!$P$2:$P$2705,Market_Panel!$A$2:$A$2705,B93,Market_Panel!$B$2:$B$2705,">="&$B$7,Market_Panel!$B$2:$B$2705,"<="&$C$7)) -> -0.73471769 | G93: =IF(D93=0,"",AVERAGEIFS(Market_Panel!$R$2:$R$2705,Market_Panel!$A$2:$A$2705,B93,Market_Panel!$B$2:$B$2705,">="&$B$7,Market_Panel!$B$2:$B$2705,"<="&$C$7)) -> 0 | H93: =IF(OR(D93=0,$H$7=0),0,AVERAGEIFS(Market_Panel!$Y$2:$Y$2705,Market_Panel!$A$2:$A$2705,B93,Market_Panel!$B$2:$B$2705,">="&$B$7,Market_Panel!$B$2:$B$2705,"<="&$C$7)) -> 0 | I93: =IF(D93=0,"",$I$7+$F$7*F93+$G$7*G93+$H$7*H93) -> -0.028516879 | J93: =IF(D93<5,"",(E93-I93)*162) -> 4.2426305 | K93: =IF(D93=0,"",E93*162) -> -0.37710396 | L93: =SUMIFS(Seasons!$L$2:$L$2865,Seasons!$A$2:$A$2865,B93,Seasons!$B$2:$B$2865,">="&$B$7,Seasons!$B$2:$B$2865,"<="&$C$7) -> 0 | M93: =SUMIFS(Seasons!$N$2:$N$2865,Seasons!$A$2:$A$2865,B93,Seasons!$B$2:$B$2865,">="&$B$7,Seasons!$B$2:$B$2865,"<="&$C$7) -> 0 | N93: =IF(J93="",-1000000,J93+ROW()*0.000000001) -> 4.2426306 | O93: =IF(J93="","",SUMPRODUCT(($A$25:$A$534=A93)*($N$25:$N$534>N93))+1) -> 7 | P93: =A93&"|"&O93 -> 1920s|7
A94: 1920s | B94: BOS | C94: Established | D94: =COUNTIFS(Market_Panel!$A$2:$A$2705,B94,Market_Panel!$B$2:$B$2705,">="&$B$7,Market_Panel!$B$2:$B$2705,"<="&$C$7) -> 10 | E94: =IF(D94=0,"",AVERAGEIFS(Market_Panel!$M$2:$M$2705,Market_Panel!$A$2:$A$2705,B94,Market_Panel!$B$2:$B$2705,">="&$B$7,Market_Panel!$B$2:$B$2705,"<="&$C$7)) -> -0.11196436 | F94: =IF(D94=0,"",AVERAGEIFS(Market_Panel!$P$2:$P$2705,Market_Panel!$A$2:$A$2705,B94,Market_Panel!$B$2:$B$2705,">="&$B$7,Market_Panel!$B$2:$B$2705,"<="&$C$7)) -> -0.77557628 | G94: =IF(D94=0,"",AVERAGEIFS(Market_Panel!$R$2:$R$2705,Market_Panel!$A$2:$A$2705,B94,Market_Panel!$B$2:$B$2705,">="&$B$7,Market_Panel!$B$2:$B$2705,"<="&$C$7)) -> 0 | H94: =IF(OR(D94=0,$H$7=0),0,AVERAGEIFS(Market_Panel!$Y$2:$Y$2705,Market_Panel!$A$2:$A$2705,B94,Market_Panel!$B$2:$B$2705,">="&$B$7,Market_Panel!$B$2:$B$2705,"<="&$C$7)) -> 0 | I94: =IF(D94=0,"",$I$7+$F$7*F94+$G$7*G94+$H$7*H94) -> -0.030102739 | J94: =IF(D94<5,"",(E94-I94)*162) -> -13.261583 | K94: =IF(D94=0,"",E94*162) -> -18.138226 | L94: =SUMIFS(Seasons!$L$2:$L$2865,Seasons!$A$2:$A$2865,B94,Seasons!$B$2:$B$2865,">="&$B$7,Seasons!$B$2:$B$2865,"<="&$C$7) -> 0 | M94: =SUMIFS(Seasons!$N$2:$N$2865,Seasons!$A$2:$A$2865,B94,Seasons!$B$2:$B$2865,">="&$B$7,Seasons!$B$2:$B$2865,"<="&$C$7) -> 0 | N94: =IF(J94="",-1000000,J94+ROW()*0.000000001) -> -13.261582 | O94: =IF(J94="","",SUMPRODUCT(($A$25:$A$534=A94)*($N$25:$N$534>N94))+1) -> 15 | P94: =A94&"|"&O94 -> 1920s|15
A95: 1920s | B95: CHW | C95: Established | D95: =COUNTIFS(Market_Panel!$A$2:$A$2705,B95,Market_Panel!$B$2:$B$2705,">="&$B$7,Market_Panel!$B$2:$B$2705,"<="&$C$7) -> 10 | E95: =IF(D95=0,"",AVERAGEIFS(Market_Panel!$M$2:$M$2705,Market_Panel!$A$2:$A$2705,B95,Market_Panel!$B$2:$B$2705,">="&$B$7,Market_Panel!$B$2:$B$2705,"<="&$C$7)) -> -0.023893079 | F95: =IF(D95=0,"",AVERAGEIFS(Market_Panel!$P$2:$P$2705,Market_Panel!$A$2:$A$2705,B95,Market_Panel!$B$2:$B$2705,">="&$B$7,Market_Panel!$B$2:$B$2705,"<="&$C$7)) -> 0.58940139 | G95: =IF(D95=0,"",AVERAGEIFS(Market_Panel!$R$2:$R$2705,Market_Panel!$A$2:$A$2705,B95,Market_Panel!$B$2:$B$2705,">="&$B$7,Market_Panel!$B$2:$B$2705,"<="&$C$7)) -> 0 | H95: =IF(OR(D95=0,$H$7=0),0,AVERAGEIFS(Market_Panel!$Y$2:$Y$2705,Market_Panel!$A$2:$A$2705,B95,Market_Panel!$B$2:$B$2705,">="&$B$7,Market_Panel!$B$2:$B$2705,"<="&$C$7)) -> 0 | I95: =IF(D95=0,"",$I$7+$F$7*F95+$G$7*G95+$H$7*H95) -> 0.022876662 | J95: =IF(D95<5,"",(E95-I95)*162) -> -7.576698 | K95: =IF(D95=0,"",E95*162) -> -3.8706788 | L95: =SUMIFS(Seasons!$L$2:$L$2865,Seasons!$A$2:$A$2865,B95,Seasons!$B$2:$B$2865,">="&$B$7,Seasons!$B$2:$B$2865,"<="&$C$7) -> 0 | M95: =SUMIFS(Seasons!$N$2:$N$2865,Seasons!$A$2:$A$2865,B95,Seasons!$B$2:$B$2865,">="&$B$7,Seasons!$B$2:$B$2865,"<="&$C$7) -> 0 | N95: =IF(J95="",-1000000,J95+ROW()*0.000000001) -> -7.5766979 | O95: =IF(J95="","",SUMPRODUCT(($A$25:$A$534=A95)*($N$25:$N$534>N95))+1) -> 13 | P95: =A95&"|"&O95 -> 1920s|13
A96: 1920s | B96: CLE | C96: Established | D96: =COUNTIFS(Market_Panel!$A$2:$A$2705,B96,Market_Panel!$B$2:$B$2705,">="&$B$7,Market_Panel!$B$2:$B$2705,"<="&$C$7) -> 10 | E96: =IF(D96=0,"",AVERAGEIFS(Market_Panel!$M$2:$M$2705,Market_Panel!$A$2:$A$2705,B96,Market_Panel!$B$2:$B$2705,">="&$B$7,Market_Panel!$B$2:$B$2705,"<="&$C$7)) -> 0.012000688 | F96: =IF(D96=0,"",AVERAGEIFS(Market_Panel!$P$2:$P$2705,Market_Panel!$A$2:$A$2705,B96,Market_Panel!$B$2:$B$2705,">="&$B$7,Market_Panel!$B$2:$B$2705,"<="&$C$7)) -> 0.016240453 | G96: =IF(D96=0,"",AVERAGEIFS(Market_Panel!$R$2:$R$2705,Market_Panel!$A$2:$A$2705,B96,Market_Panel!$B$2:$B$2705,">="&$B$7,Market_Panel!$B$2:$B$2705,"<="&$C$7)) -> 0 | H96: =IF(OR(D96=0,$H$7=0),0,AVERAGEIFS(Market_Panel!$Y$2:$Y$2705,Market_Panel!$A$2:$A$2705,B96,Market_Panel!$B$2:$B$2705,">="&$B$7,Market_Panel!$B$2:$B$2705,"<="&$C$7)) -> 0 | I96: =IF(D96=0,"",$I$7+$F$7*F96+$G$7*G96+$H$7*H96) -> 0.00063034693 | J96: =IF(D96<5,"",(E96-I96)*162) -> 1.8419953 | K96: =IF(D96=0,"",E96*162) -> 1.9441115 | L96: =SUMIFS(Seasons!$L$2:$L$2865,Seasons!$A$2:$A$2865,B96,Seasons!$B$2:$B$2865,">="&$B$7,Seasons!$B$2:$B$2865,"<="&$C$7) -> 1 | M96: =SUMIFS(Seasons!$N$2:$N$2865,Seasons!$A$2:$A$2865,B96,Seasons!$B$2:$B$2865,">="&$B$7,Seasons!$B$2:$B$2865,"<="&$C$7) -> 1 | N96: =IF(J96="",-1000000,J96+ROW()*0.000000001) -> 1.8419954 | O96: =IF(J96="","",SUMPRODUCT(($A$25:$A$534=A96)*($N$25:$N$534>N96))+1) -> 8 | P96: =A96&"|"&O96 -> 1920s|8
... A114: 1920s | B114: TBD | C114: Expansion | D114: =COUNTIFS(Market_Panel!$A$2:$A$2705,B114,Market_Panel!$B$2:$B$2705,">="&$B$7,Market_Panel!$B$2:$B$2705,"<="&$C$7) -> 0 | E114: =IF(D114=0,"",AVERAGEIFS(Market_Panel!$M$2:$M$2705,Market_Panel!$A$2:$A$2705,B114,Market_Panel!$B$2:$B$2705,">="&$B$7,Market_Panel!$B$2:$B$2705,"<="&$C$7)) | F114: =IF(D114=0,"",AVERAGEIFS(Market_Panel!$P$2:$P$2705,Market_Panel!$A$2:$A$2705,B114,Market_Panel!$B$2:$B$2705,">="&$B$7,Market_Panel!$B$2:$B$2705,"<="&$C$7)) | G114: =IF(D114=0,"",AVERAGEIFS(Market_Panel!$R$2:$R$2705,Market_Panel!$A$2:$A$2705,B114,Market_Panel!$B$2:$B$2705,">="&$B$7,Market_Panel!$B$2:$B$2705,"<="&$C$7)) | H114: =IF(OR(D114=0,$H$7=0),0,AVERAGEIFS(Market_Panel!$Y$2:$Y$2705,Market_Panel!$A$2:$A$2705,B114,Market_Panel!$B$2:$B$2705,">="&$B$7,Market_Panel!$B$2:$B$2705,"<="&$C$7)) -> 0 | I114: =IF(D114=0,"",$I$7+$F$7*F114+$G$7*G114+$H$7*H114) | J114: =IF(D114<5,"",(E114-I114)*162) | K114: =IF(D114=0,"",E114*162) | L114: =SUMIFS(Seasons!$L$2:$L$2865,Seasons!$A$2:$A$2865,B114,Seasons!$B$2:$B$2865,">="&$B$7,Seasons!$B$2:$B$2865,"<="&$C$7) -> 0 | M114: =SUMIFS(Seasons!$N$2:$N$2865,Seasons!$A$2:$A$2865,B114,Seasons!$B$2:$B$2865,">="&$B$7,Seasons!$B$2:$B$2865,"<="&$C$7) -> 0 | N114: =IF(J114="",-1000000,J114+ROW()*0.000000001) -> -1000000 | O114: =IF(J114="","",SUMPRODUCT(($A$25:$A$534=A114)*($N$25:$N$534>N114))+1) | P114: =A114&"|"&O114 -> 1920s|
A115: 1930s | B115: ATL | C115: Established | D115: =COUNTIFS(Market_Panel!$A$2:$A$2705,B115,Market_Panel!$B$2:$B$2705,">="&$B$8,Market_Panel!$B$2:$B$2705,"<="&$C$8) -> 10 | E115: =IF(D115=0,"",AVERAGEIFS(Market_Panel!$M$2:$M$2705,Market_Panel!$A$2:$A$2705,B115,Market_Panel!$B$2:$B$2705,">="&$B$8,Market_Panel!$B$2:$B$2705,"<="&$C$8)) -> -0.042017998 | F115: =IF(D115=0,"",AVERAGEIFS(Market_Panel!$P$2:$P$2705,Market_Panel!$A$2:$A$2705,B115,Market_Panel!$B$2:$B$2705,">="&$B$8,Market_Panel!$B$2:$B$2705,"<="&$C$8)) -> -0.85267344 | G115: =IF(D115=0,"",AVERAGEIFS(Market_Panel!$R$2:$R$2705,Market_Panel!$A$2:$A$2705,B115,Market_Panel!$B$2:$B$2705,">="&$B$8,Market_Panel!$B$2:$B$2705,"<="&$C$8)) -> 0 | H115: =IF(OR(D115=0,$H$8=0),0,AVERAGEIFS(Market_Panel!$Y$2:$Y$2705,Market_Panel!$A$2:$A$2705,B115,Market_Panel!$B$2:$B$2705,">="&$B$8,Market_Panel!$B$2:$B$2705,"<="&$C$8)) -> 0 | I115: =IF(D115=0,"",$I$8+$F$8*F115+$G$8*G115+$H$8*H115) -> -0.038266902 | J115: =IF(D115<5,"",(E115-I115)*162) -> -0.60767754 | K115: =IF(D115=0,"",E115*162) -> -6.8069157 | L115: =SUMIFS(Seasons!$L$2:$L$2865,Seasons!$A$2:$A$2865,B115,Seasons!$B$2:$B$2865,">="&$B$8,Seasons!$B$2:$B$2865,"<="&$C$8) -> 0 | M115: =SUMIFS(Seasons!$N$2:$N$2865,Seasons!$A$2:$A$2865,B115,Seasons!$B$2:$B$2865,">="&$B$8,Seasons!$B$2:$B$2865,"<="&$C$8) -> 0 | N115: =IF(J115="",-1000000,J115+ROW()*0.000000001) -> -0.60767743 | O115: =IF(J115="","",SUMPRODUCT(($A$25:$A$534=A115)*($N$25:$N$534>N115))+1) -> 10 | P115: =A115&"|"&O115 -> 1930s|10
A116: 1930s | B116: CHC | C116: Established | D116: =COUNTIFS(Market_Panel!$A$2:$A$2705,B116,Market_Panel!$B$2:$B$2705,">="&$B$8,Market_Panel!$B$2:$B$2705,"<="&$C$8) -> 10 | E116: =IF(D116=0,"",AVERAGEIFS(Market_Panel!$M$2:$M$2705,Market_Panel!$A$2:$A$2705,B116,Market_Panel!$B$2:$B$2705,">="&$B$8,Market_Panel!$B$2:$B$2705,"<="&$C$8)) -> 0.079265989 | F116: =IF(D116=0,"",AVERAGEIFS(Market_Panel!$P$2:$P$2705,Market_Panel!$A$2:$A$2705,B116,Market_Panel!$B$2:$B$2705,">="&$B$8,Market_Panel!$B$2:$B$2705,"<="&$C$8)) -> 0.61980876 | G116: =IF(D116=0,"",AVERAGEIFS(Market_Panel!$R$2:$R$2705,Market_Panel!$A$2:$A$2705,B116,Market_Panel!$B$2:$B$2705,">="&$B$8,Market_Panel!$B$2:$B$2705,"<="&$C$8)) -> 0 | H116: =IF(OR(D116=0,$H$8=0),0,AVERAGEIFS(Market_Panel!$Y$2:$Y$2705,Market_Panel!$A$2:$A$2705,B116,Market_Panel!$B$2:$B$2705,">="&$B$8,Market_Panel!$B$2:$B$2705,"<="&$C$8)) -> 0 | I116: =IF(D116=0,"",$I$8+$F$8*F116+$G$8*G116+$H$8*H116) -> 0.027816231 | J116: =IF(D116<5,"",(E116-I116)*162) -> 8.3348608 | K116: =IF(D116=0,"",E116*162) -> 12.84109 | L116: =SUMIFS(Seasons!$L$2:$L$2865,Seasons!$A$2:$A$2865,B116,Seasons!$B$2:$B$2865,">="&$B$8,Seasons!$B$2:$B$2865,"<="&$C$8) -> 3 | M116: =SUMIFS(Seasons!$N$2:$N$2865,Seasons!$A$2:$A$2865,B116,Seasons!$B$2:$B$2865,">="&$B$8,Seasons!$B$2:$B$2865,"<="&$C$8) -> 0 | N116: =IF(J116="",-1000000,J116+ROW()*0.000000001) -> 8.3348609 | O116: =IF(J116="","",SUMPRODUCT(($A$25:$A$534=A116)*($N$25:$N$534>N116))+1) -> 3 | P116: =A116&"|"&O116 -> 1930s|3
A117: 1930s | B117: CIN | C117: Established | D117: =COUNTIFS(Market_Panel!$A$2:$A$2705,B117,Market_Panel!$B$2:$B$2705,">="&$B$8,Market_Panel!$B$2:$B$2705,"<="&$C$8) -> 10 | E117: =IF(D117=0,"",AVERAGEIFS(Market_Panel!$M$2:$M$2705,Market_Panel!$A$2:$A$2705,B117,Market_Panel!$B$2:$B$2705,">="&$B$8,Market_Panel!$B$2:$B$2705,"<="&$C$8)) -> -0.065832894 | F117: =IF(D117=0,"",AVERAGEIFS(Market_Panel!$P$2:$P$2705,Market_Panel!$A$2:$A$2705,B117,Market_Panel!$B$2:$B$2705,">="&$B$8,Market_Panel!$B$2:$B$2705,"<="&$C$8)) -> -0.69808848 | G117: =IF(D117=0,"",AVERAGEIFS(Market_Panel!$R$2:$R$2705,Market_Panel!$A$2:$A$2705,B117,Market_Panel!$B$2:$B$2705,">="&$B$8,Market_Panel!$B$2:$B$2705,"<="&$C$8)) -> 0 | H117: =IF(OR(D117=0,$H$8=0),0,AVERAGEIFS(Market_Panel!$Y$2:$Y$2705,Market_Panel!$A$2:$A$2705,B117,Market_Panel!$B$2:$B$2705,">="&$B$8,Market_Panel!$B$2:$B$2705,"<="&$C$8)) -> 0 | I117: =IF(D117=0,"",$I$8+$F$8*F117+$G$8*G117+$H$8*H117) -> -0.031329325 | J117: =IF(D117<5,"",(E117-I117)*162) -> -5.5895782 | K117: =IF(D117=0,"",E117*162) -> -10.664929 | L117: =SUMIFS(Seasons!$L$2:$L$2865,Seasons!$A$2:$A$2865,B117,Seasons!$B$2:$B$2865,">="&$B$8,Seasons!$B$2:$B$2865,"<="&$C$8) -> 1 | M117: =SUMIFS(Seasons!$N$2:$N$2865,Seasons!$A$2:$A$2865,B117,Seasons!$B$2:$B$2865,">="&$B$8,Seasons!$B$2:$B$2865,"<="&$C$8) -> 0 | N117: =IF(J117="",-1000000,J117+ROW()*0.000000001) -> -5.5895781 | O117: =IF(J117="","",SUMPRODUCT(($A$25:$A$534=A117)*($N$25:$N$534>N117))+1) -> 12 | P117: =A117&"|"&O117 -> 1930s|12
A118: 1930s | B118: PIT | C118: Established | D118: =COUNTIFS(Market_Panel!$A$2:$A$2705,B118,Market_Panel!$B$2:$B$2705,">="&$B$8,Market_Panel!$B$2:$B$2705,"<="&$C$8) -> 10 | E118: =IF(D118=0,"",AVERAGEIFS(Market_Panel!$M$2:$M$2705,Market_Panel!$A$2:$A$2705,B118,Market_Panel!$B$2:$B$2705,">="&$B$8,Market_Panel!$B$2:$B$2705,"<="&$C$8)) -> 0.030820236 | F118: =IF(D118=0,"",AVERAGEIFS(Market_Panel!$P$2:$P$2705,Market_Panel!$A$2:$A$2705,B118,Market_Panel!$B$2:$B$2705,">="&$B$8,Market_Panel!$B$2:$B$2705,"<="&$C$8)) -> -0.30608699 | G118: =IF(D118=0,"",AVERAGEIFS(Market_Panel!$R$2:$R$2705,Market_Panel!$A$2:$A$2705,B118,Market_Panel!$B$2:$B$2705,">="&$B$8,Market_Panel!$B$2:$B$2705,"<="&$C$8)) -> 0 | H118: =IF(OR(D118=0,$H$8=0),0,AVERAGEIFS(Market_Panel!$Y$2:$Y$2705,Market_Panel!$A$2:$A$2705,B118,Market_Panel!$B$2:$B$2705,">="&$B$8,Market_Panel!$B$2:$B$2705,"<="&$C$8)) -> 0 | I118: =IF(D118=0,"",$I$8+$F$8*F118+$G$8*G118+$H$8*H118) -> -0.013736796 | J118: =IF(D118<5,"",(E118-I118)*162) -> 7.2182391 | K118: =IF(D118=0,"",E118*162) -> 4.9928783 | L118: =SUMIFS(Seasons!$L$2:$L$2865,Seasons!$A$2:$A$2865,B118,Seasons!$B$2:$B$2865,">="&$B$8,Seasons!$B$2:$B$2865,"<="&$C$8) -> 0 | M118: =SUMIFS(Seasons!$N$2:$N$2865,Seasons!$A$2:$A$2865,B118,Seasons!$B$2:$B$2865,">="&$B$8,Seasons!$B$2:$B$2865,"<="&$C$8) -> 0 | N118: =IF(J118="",-1000000,J118+ROW()*0.000000001) -> 7.2182393 | O118: =IF(J118="","",SUMPRODUCT(($A$25:$A$534=A118)*($N$25:$N$534>N118))+1) -> 5 | P118: =A118&"|"&O118 -> 1930s|5
A119: 1930s | B119: STL | C119: Established | D119: =COUNTIFS(Market_Panel!$A$2:$A$2705,B119,Market_Panel!$B$2:$B$2705,">="&$B$8,Market_Panel!$B$2:$B$2705,"<="&$C$8) -> 10 | E119: =IF(D119=0,"",AVERAGEIFS(Market_Panel!$M$2:$M$2705,Market_Panel!$A$2:$A$2705,B119,Market_Panel!$B$2:$B$2705,">="&$B$8,Market_Panel!$B$2:$B$2705,"<="&$C$8)) -> 0.066466706 | F119: =IF(D119=0,"",AVERAGEIFS(Market_Panel!$P$2:$P$2705,Market_Panel!$A$2:$A$2705,B119,Market_Panel!$B$2:$B$2705,">="&$B$8,Market_Panel!$B$2:$B$2705,"<="&$C$8)) -> -0.79903113 | G119: =IF(D119=0,"",AVERAGEIFS(Market_Panel!$R$2:$R$2705,Market_Panel!$A$2:$A$2705,B119,Market_Panel!$B$2:$B$2705,">="&$B$8,Market_Panel!$B$2:$B$2705,"<="&$C$8)) -> 0 | H119: =IF(OR(D119=0,$H$8=0),0,AVERAGEIFS(Market_Panel!$Y$2:$Y$2705,Market_Panel!$A$2:$A$2705,B119,Market_Panel!$B$2:$B$2705,">="&$B$8,Market_Panel!$B$2:$B$2705,"<="&$C$8)) -> 0 | I119: =IF(D119=0,"",$I$8+$F$8*F119+$G$8*G119+$H$8*H119) -> -0.035859503 | J119: =IF(D119<5,"",(E119-I119)*162) -> 16.576846 | K119: =IF(D119=0,"",E119*162) -> 10.767606 | L119: =SUMIFS(Seasons!$L$2:$L$2865,Seasons!$A$2:$A$2865,B119,Seasons!$B$2:$B$2865,">="&$B$8,Seasons!$B$2:$B$2865,"<="&$C$8) -> 3 | M119: =SUMIFS(Seasons!$N$2:$N$2865,Seasons!$A$2:$A$2865,B119,Seasons!$B$2:$B$2865,">="&$B$8,Seasons!$B$2:$B$2865,"<="&$C$8) -> 2 | N119: =IF(J119="",-1000000,J119+ROW()*0.000000001) -> 16.576846 | O119: =IF(J119="","",SUMPRODUCT(($A$25:$A$534=A119)*($N$25:$N$534>N119))+1) -> 1 | P119: =A119&"|"&O119 -> 1930s|1
A120: 1930s | B120: PHI | C120: Established | D120: =COUNTIFS(Market_Panel!$A$2:$A$2705,B120,Market_Panel!$B$2:$B$2705,">="&$B$8,Market_Panel!$B$2:$B$2705,"<="&$C$8) -> 10 | E120: =IF(D120=0,"",AVERAGEIFS(Market_Panel!$M$2:$M$2705,Market_Panel!$A$2:$A$2705,B120,Market_Panel!$B$2:$B$2705,">="&$B$8,Market_Panel!$B$2:$B$2705,"<="&$C$8)) -> -0.11898074 | F120: =IF(D120=0,"",AVERAGEIFS(Market_Panel!$P$2:$P$2705,Market_Panel!$A$2:$A$2705,B120,Market_Panel!$B$2:$B$2705,">="&$B$8,Market_Panel!$B$2:$B$2705,"<="&$C$8)) -> 0.064052837 | G120: =IF(D120=0,"",AVERAGEIFS(Market_Panel!$R$2:$R$2705,Market_Panel!$A$2:$A$2705,B120,Market_Panel!$B$2:$B$2705,">="&$B$8,Market_Panel!$B$2:$B$2705,"<="&$C$8)) -> 0 | H120: =IF(OR(D120=0,$H$8=0),0,AVERAGEIFS(Market_Panel!$Y$2:$Y$2705,Market_Panel!$A$2:$A$2705,B120,Market_Panel!$B$2:$B$2705,">="&$B$8,Market_Panel!$B$2:$B$2705,"<="&$C$8)) -> 0 | I120: =IF(D120=0,"",$I$8+$F$8*F120+$G$8*G120+$H$8*H120) -> 0.0028746101 | J120: =IF(D120<5,"",(E120-I120)*162) -> -19.740566 | K120: =IF(D120=0,"",E120*162) -> -19.27488 | L120: =SUMIFS(Seasons!$L$2:$L$2865,Seasons!$A$2:$A$2865,B120,Seasons!$B$2:$B$2865,">="&$B$8,Seasons!$B$2:$B$2865,"<="&$C$8) -> 0 | M120: =SUMIFS(Seasons!$N$2:$N$2865,Seasons!$A$2:$A$2865,B120,Seasons!$B$2:$B$2865,">="&$B$8,Seasons!$B$2:$B$2865,"<="&$C$8) -> 0 | N120: =IF(J120="",-1000000,J120+ROW()*0.000000001) -> -19.740566 | O120: =IF(J120="","",SUMPRODUCT(($A$25:$A$534=A120)*($N$25:$N$534>N120))+1) -> 16 | P120: =A120&"|"&O120 -> 1930s|16
A121: 1930s | B121: SFG | C121: Established | D121: =COUNTIFS(Market_Panel!$A$2:$A$2705,B121,Market_Panel!$B$2:$B$2705,">="&$B$8,Market_Panel!$B$2:$B$2705,"<="&$C$8) -> 10 | E121: =IF(D121=0,"",AVERAGEIFS(Market_Panel!$M$2:$M$2705,Market_Panel!$A$2:$A$2705,B121,Market_Panel!$B$2:$B$2705,">="&$B$8,Market_Panel!$B$2:$B$2705,"<="&$C$8)) -> 0.069303776 | F121: =IF(D121=0,"",AVERAGEIFS(Market_Panel!$P$2:$P$2705,Market_Panel!$A$2:$A$2705,B121,Market_Panel!$B$2:$B$2705,">="&$B$8,Market_Panel!$B$2:$B$2705,"<="&$C$8)) -> 0.96357188 | G121: =IF(D121=0,"",AVERAGEIFS(Market_Panel!$R$2:$R$2705,Market_Panel!$A$2:$A$2705,B121,Market_Panel!$B$2:$B$2705,">="&$B$8,Market_Panel!$B$2:$B$2705,"<="&$C$8)) -> 0 | H121: =IF(OR(D121=0,$H$8=0),0,AVERAGEIFS(Market_Panel!$Y$2:$Y$2705,Market_Panel!$A$2:$A$2705,B121,Market_Panel!$B$2:$B$2705,">="&$B$8,Market_Panel!$B$2:$B$2705,"<="&$C$8)) -> 0 | I121: =IF(D121=0,"",$I$8+$F$8*F121+$G$8*G121+$H$8*H121) -> 0.043243883 | J121: =IF(D121<5,"",(E121-I121)*162) -> 4.2217027 | K121: =IF(D121=0,"",E121*162) -> 11.227212 | L121: =SUMIFS(Seasons!$L$2:$L$2865,Seasons!$A$2:$A$2865,B121,Seasons!$B$2:$B$2865,">="&$B$8,Seasons!$B$2:$B$2865,"<="&$C$8) -> 3 | M121: =SUMIFS(Seasons!$N$2:$N$2865,Seasons!$A$2:$A$2865,B121,Seasons!$B$2:$B$2865,">="&$B$8,Seasons!$B$2:$B$2865,"<="&$C$8) -> 1 | N121: =IF(J121="",-1000000,J121+ROW()*0.000000001) -> 4.2217028 | O121: =IF(J121="","",SUMPRODUCT(($A$25:$A$534=A121)*($N$25:$N$534>N121))+1) -> 7 | P121: =A121&"|"&O121 -> 1930s|7
A122: 1930s | B122: LAD | C122: Established | D122: =COUNTIFS(Market_Panel!$A$2:$A$2705,B122,Market_Panel!$B$2:$B$2705,">="&$B$8,Market_Panel!$B$2:$B$2705,"<="&$C$8) -> 10 | E122: =IF(D122=0,"",AVERAGEIFS(Market_Panel!$M$2:$M$2705,Market_Panel!$A$2:$A$2705,B122,Market_Panel!$B$2:$B$2705,">="&$B$8,Market_Panel!$B$2:$B$2705,"<="&$C$8)) -> -0.019275531 | F122: =IF(D122=0,"",AVERAGEIFS(Market_Panel!$P$2:$P$2705,Market_Panel!$A$2:$A$2705,B122,Market_Panel!$B$2:$B$2705,">="&$B$8,Market_Panel!$B$2:$B$2705,"<="&$C$8)) -> 0.96357188 | G122: =IF(D122=0,"",AVERAGEIFS(Market_Panel!$R$2:$R$2705,Market_Panel!$A$2:$A$2705,B122,Market_Panel!$B$2:$B$2705,">="&$B$8,Market_Panel!$B$2:$B$2705,"<="&$C$8)) -> 0 | H122: =IF(OR(D122=0,$H$8=0),0,AVERAGEIFS(Market_Panel!$Y$2:$Y$2705,Market_Panel!$A$2:$A$2705,B122,Market_Panel!$B$2:$B$2705,">="&$B$8,Market_Panel!$B$2:$B$2705,"<="&$C$8)) -> 0 | I122: =IF(D122=0,"",$I$8+$F$8*F122+$G$8*G122+$H$8*H122) -> 0.043243883 | J122: =IF(D122<5,"",(E122-I122)*162) -> -10.128145 | K122: =IF(D122=0,"",E122*162) -> -3.122636 | L122: =SUMIFS(Seasons!$L$2:$L$2865,Seasons!$A$2:$A$2865,B122,Seasons!$B$2:$B$2865,">="&$B$8,Seasons!$B$2:$B$2865,"<="&$C$8) -> 0 | M122: =SUMIFS(Seasons!$N$2:$N$2865,Seasons!$A$2:$A$2865,B122,Seasons!$B$2:$B$2865,">="&$B$8,Seasons!$B$2:$B$2865,"<="&$C$8) -> 0 | N122: =IF(J122="",-1000000,J122+ROW()*0.000000001) -> -10.128145 | O122: =IF(J122="","",SUMPRODUCT(($A$25:$A$534=A122)*($N$25:$N$534>N122))+1) -> 13 | P122: =A122&"|"&O122 -> 1930s|13
A123: 1930s | B123: BAL | C123: Established | D123: =COUNTIFS(Market_Panel!$A$2:$A$2705,B123,Market_Panel!$B$2:$B$2705,">="&$B$8,Market_Panel!$B$2:$B$2705,"<="&$C$8) -> 10 | E123: =IF(D123=0,"",AVERAGEIFS(Market_Panel!$M$2:$M$2705,Market_Panel!$A$2:$A$2705,B123,Market_Panel!$B$2:$B$2705,">="&$B$8,Market_Panel!$B$2:$B$2705,"<="&$C$8)) -> -0.12175766 | F123: =IF(D123=0,"",AVERAGEIFS(Market_Panel!$P$2:$P$2705,Market_Panel!$A$2:$A$2705,B123,Market_Panel!$B$2:$B$2705,">="&$B$8,Market_Panel!$B$2:$B$2705,"<="&$C$8)) -> -0.79903113 | G123: =IF(D123=0,"",AVERAGEIFS(Market_Panel!$R$2:$R$2705,Market_Panel!$A$2:$A$2705,B123,Market_Panel!$B$2:$B$2705,">="&$B$8,Market_Panel!$B$2:$B$2705,"<="&$C$8)) -> 0 | H123: =IF(OR(D123=0,$H$8=0),0,AVERAGEIFS(Market_Panel!$Y$2:$Y$2705,Market_Panel!$A$2:$A$2705,B123,Market_Panel!$B$2:$B$2705,">="&$B$8,Market_Panel!$B$2:$B$2705,"<="&$C$8)) -> 0 | I123: =IF(D123=0,"",$I$8+$F$8*F123+$G$8*G123+$H$8*H123) -> -0.035859503 | J123: =IF(D123<5,"",(E123-I123)*162) -> -13.915501 | K123: =IF(D123=0,"",E123*162) -> -19.724741 | L123: =SUMIFS(Seasons!$L$2:$L$2865,Seasons!$A$2:$A$2865,B123,Seasons!$B$2:$B$2865,">="&$B$8,Seasons!$B$2:$B$2865,"<="&$C$8) -> 0 | M123: =SUMIFS(Seasons!$N$2:$N$2865,Seasons!$A$2:$A$2865,B123,Seasons!$B$2:$B$2865,">="&$B$8,Seasons!$B$2:$B$2865,"<="&$C$8) -> 0 | N123: =IF(J123="",-1000000,J123+ROW()*0.000000001) -> -13.915501 | O123: =IF(J123="","",SUMPRODUCT(($A$25:$A$534=A123)*($N$25:$N$534>N123))+1) -> 15 | P123: =A123&"|"&O123 -> 1930s|15
A124: 1930s | B124: BOS | C124: Established | D124: =COUNTIFS(Market_Panel!$A$2:$A$2705,B124,Market_Panel!$B$2:$B$2705,">="&$B$8,Market_Panel!$B$2:$B$2705,"<="&$C$8) -> 10 | E124: =IF(D124=0,"",AVERAGEIFS(Market_Panel!$M$2:$M$2705,Market_Panel!$A$2:$A$2705,B124,Market_Panel!$B$2:$B$2705,">="&$B$8,Market_Panel!$B$2:$B$2705,"<="&$C$8)) -> -0.035452265 | F124: =IF(D124=0,"",AVERAGEIFS(Market_Panel!$P$2:$P$2705,Market_Panel!$A$2:$A$2705,B124,Market_Panel!$B$2:$B$2705,">="&$B$8,Market_Panel!$B$2:$B$2705,"<="&$C$8)) -> -0.85267344 | G124: =IF(D124=0,"",AVERAGEIFS(Market_Panel!$R$2:$R$2705,Market_Panel!$A$2:$A$2705,B124,Market_Panel!$B$2:$B$2705,">="&$B$8,Market_Panel!$B$2:$B$2705,"<="&$C$8)) -> 0 | H124: =IF(OR(D124=0,$H$8=0),0,AVERAGEIFS(Market_Panel!$Y$2:$Y$2705,Market_Panel!$A$2:$A$2705,B124,Market_Panel!$B$2:$B$2705,">="&$B$8,Market_Panel!$B$2:$B$2705,"<="&$C$8)) -> 0 | I124: =IF(D124=0,"",$I$8+$F$8*F124+$G$8*G124+$H$8*H124) -> -0.038266902 | J124: =IF(D124<5,"",(E124-I124)*162) -> 0.45597121 | K124: =IF(D124=0,"",E124*162) -> -5.7432669 | L124: =SUMIFS(Seasons!$L$2:$L$2865,Seasons!$A$2:$A$2865,B124,Seasons!$B$2:$B$2865,">="&$B$8,Seasons!$B$2:$B$2865,"<="&$C$8) -> 0 | M124: =SUMIFS(Seasons!$N$2:$N$2865,Seasons!$A$2:$A$2865,B124,Seasons!$B$2:$B$2865,">="&$B$8,Seasons!$B$2:$B$2865,"<="&$C$8) -> 0 | N124: =IF(J124="",-1000000,J124+ROW()*0.000000001) -> 0.45597134 | O124: =IF(J124="","",SUMPRODUCT(($A$25:$A$534=A124)*($N$25:$N$534>N124))+1) -> 9 | P124: =A124&"|"&O124 -> 1930s|9
A125: 1930s | B125: CHW | C125: Established | D125: =COUNTIFS(Market_Panel!$A$2:$A$2705,B125,Market_Panel!$B$2:$B$2705,">="&$B$8,Market_Panel!$B$2:$B$2705,"<="&$C$8) -> 10 | E125: =IF(D125=0,"",AVERAGEIFS(Market_Panel!$M$2:$M$2705,Market_Panel!$A$2:$A$2705,B125,Market_Panel!$B$2:$B$2705,">="&$B$8,Market_Panel!$B$2:$B$2705,"<="&$C$8)) -> -0.053745708 | F125: =IF(D125=0,"",AVERAGEIFS(Market_Panel!$P$2:$P$2705,Market_Panel!$A$2:$A$2705,B125,Market_Panel!$B$2:$B$2705,">="&$B$8,Market_Panel!$B$2:$B$2705,"<="&$C$8)) -> 0.61980876 | G125: =IF(D125=0,"",AVERAGEIFS(Market_Panel!$R$2:$R$2705,Market_Panel!$A$2:$A$2705,B125,Market_Panel!$B$2:$B$2705,">="&$B$8,Market_Panel!$B$2:$B$2705,"<="&$C$8)) -> 0 | H125: =IF(OR(D125=0,$H$8=0),0,AVERAGEIFS(Market_Panel!$Y$2:$Y$2705,Market_Panel!$A$2:$A$2705,B125,Market_Panel!$B$2:$B$2705,">="&$B$8,Market_Panel!$B$2:$B$2705,"<="&$C$8)) -> 0 | I125: =IF(D125=0,"",$I$8+$F$8*F125+$G$8*G125+$H$8*H125) -> 0.027816231 | J125: =IF(D125<5,"",(E125-I125)*162) -> -13.213034 | K125: =IF(D125=0,"",E125*162) -> -8.7068046 | L125: =SUMIFS(Seasons!$L$2:$L$2865,Seasons!$A$2:$A$2865,B125,Seasons!$B$2:$B$2865,">="&$B$8,Seasons!$B$2:$B$2865,"<="&$C$8) -> 0 | M125: =SUMIFS(Seasons!$N$2:$N$2865,Seasons!$A$2:$A$2865,B125,Seasons!$B$2:$B$2865,">="&$B$8,Seasons!$B$2:$B$2865,"<="&$C$8) -> 0 | N125: =IF(J125="",-1000000,J125+ROW()*0.000000001) -> -13.213034 | O125: =IF(J125="","",SUMPRODUCT(($A$25:$A$534=A125)*($N$25:$N$534>N125))+1) -> 14 | P125: =A125&"|"&O125 -> 1930s|14
A126: 1930s | B126: CLE | C126: Established | D126: =COUNTIFS(Market_Panel!$A$2:$A$2705,B126,Market_Panel!$B$2:$B$2705,">="&$B$8,Market_Panel!$B$2:$B$2705,"<="&$C$8) -> 10 | E126: =IF(D126=0,"",AVERAGEIFS(Market_Panel!$M$2:$M$2705,Market_Panel!$A$2:$A$2705,B126,Market_Panel!$B$2:$B$2705,">="&$B$8,Market_Panel!$B$2:$B$2705,"<="&$C$8)) -> 0.037982007 | F126: =IF(D126=0,"",AVERAGEIFS(Market_Panel!$P$2:$P$2705,Market_Panel!$A$2:$A$2705,B126,Market_Panel!$B$2:$B$2705,">="&$B$8,Market_Panel!$B$2:$B$2705,"<="&$C$8)) -> -0.022634963 | G126: =IF(D126=0,"",AVERAGEIFS(Market_Panel!$R$2:$R$2705,Market_Panel!$A$2:$A$2705,B126,Market_Panel!$B$2:$B$2705,">="&$B$8,Market_Panel!$B$2:$B$2705,"<="&$C$8)) -> 0 | H126: =IF(OR(D126=0,$H$8=0),0,AVERAGEIFS(Market_Panel!$Y$2:$Y$2705,Market_Panel!$A$2:$A$2705,B126,Market_Panel!$B$2:$B$2705,">="&$B$8,Market_Panel!$B$2:$B$2705,"<="&$C$8)) -> 0 | I126: =IF(D126=0,"",$I$8+$F$8*F126+$G$8*G126+$H$8*H126) -> -0.0010158284 | J126: =IF(D126<5,"",(E126-I126)*162) -> 6.3176493 | K126: =IF(D126=0,"",E126*162) -> 6.1530851 | L126: =SUMIFS(Seasons!$L$2:$L$2865,Seasons!$A$2:$A$2865,B126,Seasons!$B$2:$B$2865,">="&$B$8,Seasons!$B$2:$B$2865,"<="&$C$8) -> 0 | M126: =SUMIFS(Seasons!$N$2:$N$2865,Seasons!$A$2:$A$2865,B126,Seasons!$B$2:$B$2865,">="&$B$8,Seasons!$B$2:$B$2865,"<="&$C$8) -> 0 | N126: =IF(J126="",-1000000,J126+ROW()*0.000000001) -> 6.3176495 | O126: =IF(J126="","",SUMPRODUCT(($A$25:$A$534=A126)*($N$25:$N$534>N126))+1) -> 6 | P126: =A126&"|"&O126 -> 1930s|6
... A144: 1930s | B144: TBD | C144: Expansion | D144: =COUNTIFS(Market_Panel!$A$2:$A$2705,B144,Market_Panel!$B$2:$B$2705,">="&$B$8,Market_Panel!$B$2:$B$2705,"<="&$C$8) -> 0 | E144: =IF(D144=0,"",AVERAGEIFS(Market_Panel!$M$2:$M$2705,Market_Panel!$A$2:$A$2705,B144,Market_Panel!$B$2:$B$2705,">="&$B$8,Market_Panel!$B$2:$B$2705,"<="&$C$8)) | F144: =IF(D144=0,"",AVERAGEIFS(Market_Panel!$P$2:$P$2705,Market_Panel!$A$2:$A$2705,B144,Market_Panel!$B$2:$B$2705,">="&$B$8,Market_Panel!$B$2:$B$2705,"<="&$C$8)) | G144: =IF(D144=0,"",AVERAGEIFS(Market_Panel!$R$2:$R$2705,Market_Panel!$A$2:$A$2705,B144,Market_Panel!$B$2:$B$2705,">="&$B$8,Market_Panel!$B$2:$B$2705,"<="&$C$8)) | H144: =IF(OR(D144=0,$H$8=0),0,AVERAGEIFS(Market_Panel!$Y$2:$Y$2705,Market_Panel!$A$2:$A$2705,B144,Market_Panel!$B$2:$B$2705,">="&$B$8,Market_Panel!$B$2:$B$2705,"<="&$C$8)) -> 0 | I144: =IF(D144=0,"",$I$8+$F$8*F144+$G$8*G144+$H$8*H144) | J144: =IF(D144<5,"",(E144-I144)*162) | K144: =IF(D144=0,"",E144*162) | L144: =SUMIFS(Seasons!$L$2:$L$2865,Seasons!$A$2:$A$2865,B144,Seasons!$B$2:$B$2865,">="&$B$8,Seasons!$B$2:$B$2865,"<="&$C$8) -> 0 | M144: =SUMIFS(Seasons!$N$2:$N$2865,Seasons!$A$2:$A$2865,B144,Seasons!$B$2:$B$2865,">="&$B$8,Seasons!$B$2:$B$2865,"<="&$C$8) -> 0 | N144: =IF(J144="",-1000000,J144+ROW()*0.000000001) -> -1000000 | O144: =IF(J144="","",SUMPRODUCT(($A$25:$A$534=A144)*($N$25:$N$534>N144))+1) | P144: =A144&"|"&O144 -> 1930s|
A145: 1940s | B145: ATL | C145: Established | D145: =COUNTIFS(Market_Panel!$A$2:$A$2705,B145,Market_Panel!$B$2:$B$2705,">="&$B$9,Market_Panel!$B$2:$B$2705,"<="&$C$9) -> 10 | E145: =IF(D145=0,"",AVERAGEIFS(Market_Panel!$M$2:$M$2705,Market_Panel!$A$2:$A$2705,B145,Market_Panel!$B$2:$B$2705,">="&$B$9,Market_Panel!$B$2:$B$2705,"<="&$C$9)) -> -0.029264331 | F145: =IF(D145=0,"",AVERAGEIFS(Market_Panel!$P$2:$P$2705,Market_Panel!$A$2:$A$2705,B145,Market_Panel!$B$2:$B$2705,">="&$B$9,Market_Panel!$B$2:$B$2705,"<="&$C$9)) -> -0.8901924 | G145: =IF(D145=0,"",AVERAGEIFS(Market_Panel!$R$2:$R$2705,Market_Panel!$A$2:$A$2705,B145,Market_Panel!$B$2:$B$2705,">="&$B$9,Market_Panel!$B$2:$B$2705,"<="&$C$9)) -> 0 | H145: =IF(OR(D145=0,$H$9=0),0,AVERAGEIFS(Market_Panel!$Y$2:$Y$2705,Market_Panel!$A$2:$A$2705,B145,Market_Panel!$B$2:$B$2705,">="&$B$9,Market_Panel!$B$2:$B$2705,"<="&$C$9)) -> 0 | I145: =IF(D145=0,"",$I$9+$F$9*F145+$G$9*G145+$H$9*H145) -> -0.0072422323 | J145: =IF(D145<5,"",(E145-I145)*162) -> -3.5675799 | K145: =IF(D145=0,"",E145*162) -> -4.7408216 | L145: =SUMIFS(Seasons!$L$2:$L$2865,Seasons!$A$2:$A$2865,B145,Seasons!$B$2:$B$2865,">="&$B$9,Seasons!$B$2:$B$2865,"<="&$C$9) -> 1 | M145: =SUMIFS(Seasons!$N$2:$N$2865,Seasons!$A$2:$A$2865,B145,Seasons!$B$2:$B$2865,">="&$B$9,Seasons!$B$2:$B$2865,"<="&$C$9) -> 0 | N145: =IF(J145="",-1000000,J145+ROW()*0.000000001) -> -3.5675798 | O145: =IF(J145="","",SUMPRODUCT(($A$25:$A$534=A145)*($N$25:$N$534>N145))+1) -> 9 | P145: =A145&"|"&O145 -> 1940s|9
A146: 1940s | B146: CHC | C146: Established | D146: =COUNTIFS(Market_Panel!$A$2:$A$2705,B146,Market_Panel!$B$2:$B$2705,">="&$B$9,Market_Panel!$B$2:$B$2705,"<="&$C$9) -> 10 | E146: =IF(D146=0,"",AVERAGEIFS(Market_Panel!$M$2:$M$2705,Market_Panel!$A$2:$A$2705,B146,Market_Panel!$B$2:$B$2705,">="&$B$9,Market_Panel!$B$2:$B$2705,"<="&$C$9)) -> -0.021262872 | F146: =IF(D146=0,"",AVERAGEIFS(Market_Panel!$P$2:$P$2705,Market_Panel!$A$2:$A$2705,B146,Market_Panel!$B$2:$B$2705,">="&$B$9,Market_Panel!$B$2:$B$2705,"<="&$C$9)) -> 0.60417152 | G146: =IF(D146=0,"",AVERAGEIFS(Market_Panel!$R$2:$R$2705,Market_Panel!$A$2:$A$2705,B146,Market_Panel!$B$2:$B$2705,">="&$B$9,Market_Panel!$B$2:$B$2705,"<="&$C$9)) -> 0 | H146: =IF(OR(D146=0,$H$9=0),0,AVERAGEIFS(Market_Panel!$Y$2:$Y$2705,Market_Panel!$A$2:$A$2705,B146,Market_Panel!$B$2:$B$2705,">="&$B$9,Market_Panel!$B$2:$B$2705,"<="&$C$9)) -> 0 | I146: =IF(D146=0,"",$I$9+$F$9*F146+$G$9*G146+$H$9*H146) -> 0.0049152863 | J146: =IF(D146<5,"",(E146-I146)*162) -> -4.2408616 | K146: =IF(D146=0,"",E146*162) -> -3.4445853 | L146: =SUMIFS(Seasons!$L$2:$L$2865,Seasons!$A$2:$A$2865,B146,Seasons!$B$2:$B$2865,">="&$B$9,Seasons!$B$2:$B$2865,"<="&$C$9) -> 1 | M146: =SUMIFS(Seasons!$N$2:$N$2865,Seasons!$A$2:$A$2865,B146,Seasons!$B$2:$B$2865,">="&$B$9,Seasons!$B$2:$B$2865,"<="&$C$9) -> 0 | N146: =IF(J146="",-1000000,J146+ROW()*0.000000001) -> -4.2408615 | O146: =IF(J146="","",SUMPRODUCT(($A$25:$A$534=A146)*($N$25:$N$534>N146))+1) -> 10 | P146: =A146&"|"&O146 -> 1940s|10
A147: 1940s | B147: CIN | C147: Established | D147: =COUNTIFS(Market_Panel!$A$2:$A$2705,B147,Market_Panel!$B$2:$B$2705,">="&$B$9,Market_Panel!$B$2:$B$2705,"<="&$C$9) -> 10 | E147: =IF(D147=0,"",AVERAGEIFS(Market_Panel!$M$2:$M$2705,Market_Panel!$A$2:$A$2705,B147,Market_Panel!$B$2:$B$2705,">="&$B$9,Market_Panel!$B$2:$B$2705,"<="&$C$9)) -> -0.00044969818 | F147: =IF(D147=0,"",AVERAGEIFS(Market_Panel!$P$2:$P$2705,Market_Panel!$A$2:$A$2705,B147,Market_Panel!$B$2:$B$2705,">="&$B$9,Market_Panel!$B$2:$B$2705,"<="&$C$9)) -> -0.69497136 | G147: =IF(D147=0,"",AVERAGEIFS(Market_Panel!$R$2:$R$2705,Market_Panel!$A$2:$A$2705,B147,Market_Panel!$B$2:$B$2705,">="&$B$9,Market_Panel!$B$2:$B$2705,"<="&$C$9)) -> 0 | H147: =IF(OR(D147=0,$H$9=0),0,AVERAGEIFS(Market_Panel!$Y$2:$Y$2705,Market_Panel!$A$2:$A$2705,B147,Market_Panel!$B$2:$B$2705,">="&$B$9,Market_Panel!$B$2:$B$2705,"<="&$C$9)) -> 0 | I147: =IF(D147=0,"",$I$9+$F$9*F147+$G$9*G147+$H$9*H147) -> -0.0056539957 | J147: =IF(D147<5,"",(E147-I147)*162) -> 0.8430962 | K147: =IF(D147=0,"",E147*162) -> -0.072851105 | L147: =SUMIFS(Seasons!$L$2:$L$2865,Seasons!$A$2:$A$2865,B147,Seasons!$B$2:$B$2865,">="&$B$9,Seasons!$B$2:$B$2865,"<="&$C$9) -> 1 | M147: =SUMIFS(Seasons!$N$2:$N$2865,Seasons!$A$2:$A$2865,B147,Seasons!$B$2:$B$2865,">="&$B$9,Seasons!$B$2:$B$2865,"<="&$C$9) -> 1 | N147: =IF(J147="",-1000000,J147+ROW()*0.000000001) -> 0.84309635 | O147: =IF(J147="","",SUMPRODUCT(($A$25:$A$534=A147)*($N$25:$N$534>N147))+1) -> 7 | P147: =A147&"|"&O147 -> 1940s|7
A148: 1940s | B148: PIT | C148: Established | D148: =COUNTIFS(Market_Panel!$A$2:$A$2705,B148,Market_Panel!$B$2:$B$2705,">="&$B$9,Market_Panel!$B$2:$B$2705,"<="&$C$9) -> 10 | E148: =IF(D148=0,"",AVERAGEIFS(Market_Panel!$M$2:$M$2705,Market_Panel!$A$2:$A$2705,B148,Market_Panel!$B$2:$B$2705,">="&$B$9,Market_Panel!$B$2:$B$2705,"<="&$C$9)) -> -0.0065151547 | F148: =IF(D148=0,"",AVERAGEIFS(Market_Panel!$P$2:$P$2705,Market_Panel!$A$2:$A$2705,B148,Market_Panel!$B$2:$B$2705,">="&$B$9,Market_Panel!$B$2:$B$2705,"<="&$C$9)) -> -0.34884332 | G148: =IF(D148=0,"",AVERAGEIFS(Market_Panel!$R$2:$R$2705,Market_Panel!$A$2:$A$2705,B148,Market_Panel!$B$2:$B$2705,">="&$B$9,Market_Panel!$B$2:$B$2705,"<="&$C$9)) -> 0 | H148: =IF(OR(D148=0,$H$9=0),0,AVERAGEIFS(Market_Panel!$Y$2:$Y$2705,Market_Panel!$A$2:$A$2705,B148,Market_Panel!$B$2:$B$2705,">="&$B$9,Market_Panel!$B$2:$B$2705,"<="&$C$9)) -> 0 | I148: =IF(D148=0,"",$I$9+$F$9*F148+$G$9*G148+$H$9*H148) -> -0.0028380431 | J148: =IF(D148<5,"",(E148-I148)*162) -> -0.59569208 | K148: =IF(D148=0,"",E148*162) -> -1.0554551 | L148: =SUMIFS(Seasons!$L$2:$L$2865,Seasons!$A$2:$A$2865,B148,Seasons!$B$2:$B$2865,">="&$B$9,Seasons!$B$2:$B$2865,"<="&$C$9) -> 0 | M148: =SUMIFS(Seasons!$N$2:$N$2865,Seasons!$A$2:$A$2865,B148,Seasons!$B$2:$B$2865,">="&$B$9,Seasons!$B$2:$B$2865,"<="&$C$9) -> 0 | N148: =IF(J148="",-1000000,J148+ROW()*0.000000001) -> -0.59569193 | O148: =IF(J148="","",SUMPRODUCT(($A$25:$A$534=A148)*($N$25:$N$534>N148))+1) -> 8 | P148: =A148&"|"&O148 -> 1940s|8
A149: 1940s | B149: STL | C149: Established | D149: =COUNTIFS(Market_Panel!$A$2:$A$2705,B149,Market_Panel!$B$2:$B$2705,">="&$B$9,Market_Panel!$B$2:$B$2705,"<="&$C$9) -> 10 | E149: =IF(D149=0,"",AVERAGEIFS(Market_Panel!$M$2:$M$2705,Market_Panel!$A$2:$A$2705,B149,Market_Panel!$B$2:$B$2705,">="&$B$9,Market_Panel!$B$2:$B$2705,"<="&$C$9)) -> 0.12348193 | F149: =IF(D149=0,"",AVERAGEIFS(Market_Panel!$P$2:$P$2705,Market_Panel!$A$2:$A$2705,B149,Market_Panel!$B$2:$B$2705,">="&$B$9,Market_Panel!$B$2:$B$2705,"<="&$C$9)) -> -0.82877635 | G149: =IF(D149=0,"",AVERAGEIFS(Market_Panel!$R$2:$R$2705,Market_Panel!$A$2:$A$2705,B149,Market_Panel!$B$2:$B$2705,">="&$B$9,Market_Panel!$B$2:$B$2705,"<="&$C$9)) -> 0 | H149: =IF(OR(D149=0,$H$9=0),0,AVERAGEIFS(Market_Panel!$Y$2:$Y$2705,Market_Panel!$A$2:$A$2705,B149,Market_Panel!$B$2:$B$2705,">="&$B$9,Market_Panel!$B$2:$B$2705,"<="&$C$9)) -> 0 | I149: =IF(D149=0,"",$I$9+$F$9*F149+$G$9*G149+$H$9*H149) -> -0.006742577 | J149: =IF(D149<5,"",(E149-I149)*162) -> 21.096369 | K149: =IF(D149=0,"",E149*162) -> 20.004072 | L149: =SUMIFS(Seasons!$L$2:$L$2865,Seasons!$A$2:$A$2865,B149,Seasons!$B$2:$B$2865,">="&$B$9,Seasons!$B$2:$B$2865,"<="&$C$9) -> 4 | M149: =SUMIFS(Seasons!$N$2:$N$2865,Seasons!$A$2:$A$2865,B149,Seasons!$B$2:$B$2865,">="&$B$9,Seasons!$B$2:$B$2865,"<="&$C$9) -> 3 | N149: =IF(J149="",-1000000,J149+ROW()*0.000000001) -> 21.09637 | O149: =IF(J149="","",SUMPRODUCT(($A$25:$A$534=A149)*($N$25:$N$534>N149))+1) -> 1 | P149: =A149&"|"&O149 -> 1940s|1
A150: 1940s | B150: PHI | C150: Established | D150: =COUNTIFS(Market_Panel!$A$2:$A$2705,B150,Market_Panel!$B$2:$B$2705,">="&$B$9,Market_Panel!$B$2:$B$2705,"<="&$C$9) -> 10 | E150: =IF(D150=0,"",AVERAGEIFS(Market_Panel!$M$2:$M$2705,Market_Panel!$A$2:$A$2705,B150,Market_Panel!$B$2:$B$2705,">="&$B$9,Market_Panel!$B$2:$B$2705,"<="&$C$9)) -> -0.11961331 | F150: =IF(D150=0,"",AVERAGEIFS(Market_Panel!$P$2:$P$2705,Market_Panel!$A$2:$A$2705,B150,Market_Panel!$B$2:$B$2705,">="&$B$9,Market_Panel!$B$2:$B$2705,"<="&$C$9)) -> 0.042340427 | G150: =IF(D150=0,"",AVERAGEIFS(Market_Panel!$R$2:$R$2705,Market_Panel!$A$2:$A$2705,B150,Market_Panel!$B$2:$B$2705,">="&$B$9,Market_Panel!$B$2:$B$2705,"<="&$C$9)) -> 0 | H150: =IF(OR(D150=0,$H$9=0),0,AVERAGEIFS(Market_Panel!$Y$2:$Y$2705,Market_Panel!$A$2:$A$2705,B150,Market_Panel!$B$2:$B$2705,">="&$B$9,Market_Panel!$B$2:$B$2705,"<="&$C$9)) -> 0 | I150: =IF(D150=0,"",$I$9+$F$9*F150+$G$9*G150+$H$9*H150) -> 0.00034446397 | J150: =IF(D150<5,"",(E150-I150)*162) -> -19.43316 | K150: =IF(D150=0,"",E150*162) -> -19.377357 | L150: =SUMIFS(Seasons!$L$2:$L$2865,Seasons!$A$2:$A$2865,B150,Seasons!$B$2:$B$2865,">="&$B$9,Seasons!$B$2:$B$2865,"<="&$C$9) -> 0 | M150: =SUMIFS(Seasons!$N$2:$N$2865,Seasons!$A$2:$A$2865,B150,Seasons!$B$2:$B$2865,">="&$B$9,Seasons!$B$2:$B$2865,"<="&$C$9) -> 0 | N150: =IF(J150="",-1000000,J150+ROW()*0.000000001) -> -19.43316 | O150: =IF(J150="","",SUMPRODUCT(($A$25:$A$534=A150)*($N$25:$N$534>N150))+1) -> 16 | P150: =A150&"|"&O150 -> 1940s|16
A151: 1940s | B151: SFG | C151: Established | D151: =COUNTIFS(Market_Panel!$A$2:$A$2705,B151,Market_Panel!$B$2:$B$2705,">="&$B$9,Market_Panel!$B$2:$B$2705,"<="&$C$9) -> 10 | E151: =IF(D151=0,"",AVERAGEIFS(Market_Panel!$M$2:$M$2705,Market_Panel!$A$2:$A$2705,B151,Market_Panel!$B$2:$B$2705,">="&$B$9,Market_Panel!$B$2:$B$2705,"<="&$C$9)) -> -0.02716181 | F151: =IF(D151=0,"",AVERAGEIFS(Market_Panel!$P$2:$P$2705,Market_Panel!$A$2:$A$2705,B151,Market_Panel!$B$2:$B$2705,">="&$B$9,Market_Panel!$B$2:$B$2705,"<="&$C$9)) -> 0.98162986 | G151: =IF(D151=0,"",AVERAGEIFS(Market_Panel!$R$2:$R$2705,Market_Panel!$A$2:$A$2705,B151,Market_Panel!$B$2:$B$2705,">="&$B$9,Market_Panel!$B$2:$B$2705,"<="&$C$9)) -> 0 | H151: =IF(OR(D151=0,$H$9=0),0,AVERAGEIFS(Market_Panel!$Y$2:$Y$2705,Market_Panel!$A$2:$A$2705,B151,Market_Panel!$B$2:$B$2705,">="&$B$9,Market_Panel!$B$2:$B$2705,"<="&$C$9)) -> 0 | I151: =IF(D151=0,"",$I$9+$F$9*F151+$G$9*G151+$H$9*H151) -> 0.0079861291 | J151: =IF(D151<5,"",(E151-I151)*162) -> -5.6939662 | K151: =IF(D151=0,"",E151*162) -> -4.4002133 | L151: =SUMIFS(Seasons!$L$2:$L$2865,Seasons!$A$2:$A$2865,B151,Seasons!$B$2:$B$2865,">="&$B$9,Seasons!$B$2:$B$2865,"<="&$C$9) -> 0 | M151: =SUMIFS(Seasons!$N$2:$N$2865,Seasons!$A$2:$A$2865,B151,Seasons!$B$2:$B$2865,">="&$B$9,Seasons!$B$2:$B$2865,"<="&$C$9) -> 0 | N151: =IF(J151="",-1000000,J151+ROW()*0.000000001) -> -5.6939661 | O151: =IF(J151="","",SUMPRODUCT(($A$25:$A$534=A151)*($N$25:$N$534>N151))+1) -> 11 | P151: =A151&"|"&O151 -> 1940s|11
A152: 1940s | B152: LAD | C152: Established | D152: =COUNTIFS(Market_Panel!$A$2:$A$2705,B152,Market_Panel!$B$2:$B$2705,">="&$B$9,Market_Panel!$B$2:$B$2705,"<="&$C$9) -> 10 | E152: =IF(D152=0,"",AVERAGEIFS(Market_Panel!$M$2:$M$2705,Market_Panel!$A$2:$A$2705,B152,Market_Panel!$B$2:$B$2705,">="&$B$9,Market_Panel!$B$2:$B$2705,"<="&$C$9)) -> 0.080590503 | F152: =IF(D152=0,"",AVERAGEIFS(Market_Panel!$P$2:$P$2705,Market_Panel!$A$2:$A$2705,B152,Market_Panel!$B$2:$B$2705,">="&$B$9,Market_Panel!$B$2:$B$2705,"<="&$C$9)) -> 0.98162986 | G152: =IF(D152=0,"",AVERAGEIFS(Market_Panel!$R$2:$R$2705,Market_Panel!$A$2:$A$2705,B152,Market_Panel!$B$2:$B$2705,">="&$B$9,Market_Panel!$B$2:$B$2705,"<="&$C$9)) -> 0 | H152: =IF(OR(D152=0,$H$9=0),0,AVERAGEIFS(Market_Panel!$Y$2:$Y$2705,Market_Panel!$A$2:$A$2705,B152,Market_Panel!$B$2:$B$2705,">="&$B$9,Market_Panel!$B$2:$B$2705,"<="&$C$9)) -> 0 | I152: =IF(D152=0,"",$I$9+$F$9*F152+$G$9*G152+$H$9*H152) -> 0.0079861291 | J152: =IF(D152<5,"",(E152-I152)*162) -> 11.761909 | K152: =IF(D152=0,"",E152*162) -> 13.055662 | L152: =SUMIFS(Seasons!$L$2:$L$2865,Seasons!$A$2:$A$2865,B152,Seasons!$B$2:$B$2865,">="&$B$9,Seasons!$B$2:$B$2865,"<="&$C$9) -> 3 | M152: =SUMIFS(Seasons!$N$2:$N$2865,Seasons!$A$2:$A$2865,B152,Seasons!$B$2:$B$2865,">="&$B$9,Seasons!$B$2:$B$2865,"<="&$C$9) -> 0 | N152: =IF(J152="",-1000000,J152+ROW()*0.000000001) -> 11.761909 | O152: =IF(J152="","",SUMPRODUCT(($A$25:$A$534=A152)*($N$25:$N$534>N152))+1) -> 3 | P152: =A152&"|"&O152 -> 1940s|3
A153: 1940s | B153: BAL | C153: Established | D153: =COUNTIFS(Market_Panel!$A$2:$A$2705,B153,Market_Panel!$B$2:$B$2705,">="&$B$9,Market_Panel!$B$2:$B$2705,"<="&$C$9) -> 10 | E153: =IF(D153=0,"",AVERAGEIFS(Market_Panel!$M$2:$M$2705,Market_Panel!$A$2:$A$2705,B153,Market_Panel!$B$2:$B$2705,">="&$B$9,Market_Panel!$B$2:$B$2705,"<="&$C$9)) -> -0.043631838 | F153: =IF(D153=0,"",AVERAGEIFS(Market_Panel!$P$2:$P$2705,Market_Panel!$A$2:$A$2705,B153,Market_Panel!$B$2:$B$2705,">="&$B$9,Market_Panel!$B$2:$B$2705,"<="&$C$9)) -> -0.82877635 | G153: =IF(D153=0,"",AVERAGEIFS(Market_Panel!$R$2:$R$2705,Market_Panel!$A$2:$A$2705,B153,Market_Panel!$B$2:$B$2705,">="&$B$9,Market_Panel!$B$2:$B$2705,"<="&$C$9)) -> 0 | H153: =IF(OR(D153=0,$H$9=0),0,AVERAGEIFS(Market_Panel!$Y$2:$Y$2705,Market_Panel!$A$2:$A$2705,B153,Market_Panel!$B$2:$B$2705,">="&$B$9,Market_Panel!$B$2:$B$2705,"<="&$C$9)) -> 0 | I153: =IF(D153=0,"",$I$9+$F$9*F153+$G$9*G153+$H$9*H153) -> -0.006742577 | J153: =IF(D153<5,"",(E153-I153)*162) -> -5.9760603 | K153: =IF(D153=0,"",E153*162) -> -7.0683578 | L153: =SUMIFS(Seasons!$L$2:$L$2865,Seasons!$A$2:$A$2865,B153,Seasons!$B$2:$B$2865,">="&$B$9,Seasons!$B$2:$B$2865,"<="&$C$9) -> 1 | M153: =SUMIFS(Seasons!$N$2:$N$2865,Seasons!$A$2:$A$2865,B153,Seasons!$B$2:$B$2865,">="&$B$9,Seasons!$B$2:$B$2865,"<="&$C$9) -> 0 | N153: =IF(J153="",-1000000,J153+ROW()*0.000000001) -> -5.9760601 | O153: =IF(J153="","",SUMPRODUCT(($A$25:$A$534=A153)*($N$25:$N$534>N153))+1) -> 12 | P153: =A153&"|"&O153 -> 1940s|12
A154: 1940s | B154: BOS | C154: Established | D154: =COUNTIFS(Market_Panel!$A$2:$A$2705,B154,Market_Panel!$B$2:$B$2705,">="&$B$9,Market_Panel!$B$2:$B$2705,"<="&$C$9) -> 10 | E154: =IF(D154=0,"",AVERAGEIFS(Market_Panel!$M$2:$M$2705,Market_Panel!$A$2:$A$2705,B154,Market_Panel!$B$2:$B$2705,">="&$B$9,Market_Panel!$B$2:$B$2705,"<="&$C$9)) -> 0.055671841 | F154: =IF(D154=0,"",AVERAGEIFS(Market_Panel!$P$2:$P$2705,Market_Panel!$A$2:$A$2705,B154,Market_Panel!$B$2:$B$2705,">="&$B$9,Market_Panel!$B$2:$B$2705,"<="&$C$9)) -> -0.8901924 | G154: =IF(D154=0,"",AVERAGEIFS(Market_Panel!$R$2:$R$2705,Market_Panel!$A$2:$A$2705,B154,Market_Panel!$B$2:$B$2705,">="&$B$9,Market_Panel!$B$2:$B$2705,"<="&$C$9)) -> 0 | H154: =IF(OR(D154=0,$H$9=0),0,AVERAGEIFS(Market_Panel!$Y$2:$Y$2705,Market_Panel!$A$2:$A$2705,B154,Market_Panel!$B$2:$B$2705,">="&$B$9,Market_Panel!$B$2:$B$2705,"<="&$C$9)) -> 0 | I154: =IF(D154=0,"",$I$9+$F$9*F154+$G$9*G154+$H$9*H154) -> -0.0072422323 | J154: =IF(D154<5,"",(E154-I154)*162) -> 10.19208 | K154: =IF(D154=0,"",E154*162) -> 9.0188383 | L154: =SUMIFS(Seasons!$L$2:$L$2865,Seasons!$A$2:$A$2865,B154,Seasons!$B$2:$B$2865,">="&$B$9,Seasons!$B$2:$B$2865,"<="&$C$9) -> 1 | M154: =SUMIFS(Seasons!$N$2:$N$2865,Seasons!$A$2:$A$2865,B154,Seasons!$B$2:$B$2865,">="&$B$9,Seasons!$B$2:$B$2865,"<="&$C$9) -> 0 | N154: =IF(J154="",-1000000,J154+ROW()*0.000000001) -> 10.19208 | O154: =IF(J154="","",SUMPRODUCT(($A$25:$A$534=A154)*($N$25:$N$534>N154))+1) -> 4 | P154: =A154&"|"&O154 -> 1940s|4
A155: 1940s | B155: CHW | C155: Established | D155: =COUNTIFS(Market_Panel!$A$2:$A$2705,B155,Market_Panel!$B$2:$B$2705,">="&$B$9,Market_Panel!$B$2:$B$2705,"<="&$C$9) -> 10 | E155: =IF(D155=0,"",AVERAGEIFS(Market_Panel!$M$2:$M$2705,Market_Panel!$A$2:$A$2705,B155,Market_Panel!$B$2:$B$2705,">="&$B$9,Market_Panel!$B$2:$B$2705,"<="&$C$9)) -> -0.037035813 | F155: =IF(D155=0,"",AVERAGEIFS(Market_Panel!$P$2:$P$2705,Market_Panel!$A$2:$A$2705,B155,Market_Panel!$B$2:$B$2705,">="&$B$9,Market_Panel!$B$2:$B$2705,"<="&$C$9)) -> 0.60417152 | G155: =IF(D155=0,"",AVERAGEIFS(Market_Panel!$R$2:$R$2705,Market_Panel!$A$2:$A$2705,B155,Market_Panel!$B$2:$B$2705,">="&$B$9,Market_Panel!$B$2:$B$2705,"<="&$C$9)) -> 0 | H155: =IF(OR(D155=0,$H$9=0),0,AVERAGEIFS(Market_Panel!$Y$2:$Y$2705,Market_Panel!$A$2:$A$2705,B155,Market_Panel!$B$2:$B$2705,">="&$B$9,Market_Panel!$B$2:$B$2705,"<="&$C$9)) -> 0 | I155: =IF(D155=0,"",$I$9+$F$9*F155+$G$9*G155+$H$9*H155) -> 0.0049152863 | J155: =IF(D155<5,"",(E155-I155)*162) -> -6.7960781 | K155: =IF(D155=0,"",E155*162) -> -5.9998017 | L155: =SUMIFS(Seasons!$L$2:$L$2865,Seasons!$A$2:$A$2865,B155,Seasons!$B$2:$B$2865,">="&$B$9,Seasons!$B$2:$B$2865,"<="&$C$9) -> 0 | M155: =SUMIFS(Seasons!$N$2:$N$2865,Seasons!$A$2:$A$2865,B155,Seasons!$B$2:$B$2865,">="&$B$9,Seasons!$B$2:$B$2865,"<="&$C$9) -> 0 | N155: =IF(J155="",-1000000,J155+ROW()*0.000000001) -> -6.7960779 | O155: =IF(J155="","",SUMPRODUCT(($A$25:$A$534=A155)*($N$25:$N$534>N155))+1) -> 13 | P155: =A155&"|"&O155 -> 1940s|13
A156: 1940s | B156: CLE | C156: Established | D156: =COUNTIFS(Market_Panel!$A$2:$A$2705,B156,Market_Panel!$B$2:$B$2705,">="&$B$9,Market_Panel!$B$2:$B$2705,"<="&$C$9) -> 10 | E156: =IF(D156=0,"",AVERAGEIFS(Market_Panel!$M$2:$M$2705,Market_Panel!$A$2:$A$2705,B156,Market_Panel!$B$2:$B$2705,">="&$B$9,Market_Panel!$B$2:$B$2705,"<="&$C$9)) -> 0.022517367 | F156: =IF(D156=0,"",AVERAGEIFS(Market_Panel!$P$2:$P$2705,Market_Panel!$A$2:$A$2705,B156,Market_Panel!$B$2:$B$2705,">="&$B$9,Market_Panel!$B$2:$B$2705,"<="&$C$9)) -> -0.06569189 | G156: =IF(D156=0,"",AVERAGEIFS(Market_Panel!$R$2:$R$2705,Market_Panel!$A$2:$A$2705,B156,Market_Panel!$B$2:$B$2705,">="&$B$9,Market_Panel!$B$2:$B$2705,"<="&$C$9)) -> 0 | H156: =IF(OR(D156=0,$H$9=0),0,AVERAGEIFS(Market_Panel!$Y$2:$Y$2705,Market_Panel!$A$2:$A$2705,B156,Market_Panel!$B$2:$B$2705,">="&$B$9,Market_Panel!$B$2:$B$2705,"<="&$C$9)) -> 0 | I156: =IF(D156=0,"",$I$9+$F$9*F156+$G$9*G156+$H$9*H156) -> -0.00053444169 | J156: =IF(D156<5,"",(E156-I156)*162) -> 3.734393 | K156: =IF(D156=0,"",E156*162) -> 3.6478134 | L156: =SUMIFS(Seasons!$L$2:$L$2865,Seasons!$A$2:$A$2865,B156,Seasons!$B$2:$B$2865,">="&$B$9,Seasons!$B$2:$B$2865,"<="&$C$9) -> 1 | M156: =SUMIFS(Seasons!$N$2:$N$2865,Seasons!$A$2:$A$2865,B156,Seasons!$B$2:$B$2865,">="&$B$9,Seasons!$B$2:$B$2865,"<="&$C$9) -> 1 | N156: =IF(J156="",-1000000,J156+ROW()*0.000000001) -> 3.7343932 | O156: =IF(J156="","",SUMPRODUCT(($A$25:$A$534=A156)*($N$25:$N$534>N156))+1) -> 6 | P156: =A156&"|"&O156 -> 1940s|6
... A174: 1940s | B174: TBD | C174: Expansion | D174: =COUNTIFS(Market_Panel!$A$2:$A$2705,B174,Market_Panel!$B$2:$B$2705,">="&$B$9,Market_Panel!$B$2:$B$2705,"<="&$C$9) -> 0 | E174: =IF(D174=0,"",AVERAGEIFS(Market_Panel!$M$2:$M$2705,Market_Panel!$A$2:$A$2705,B174,Market_Panel!$B$2:$B$2705,">="&$B$9,Market_Panel!$B$2:$B$2705,"<="&$C$9)) | F174: =IF(D174=0,"",AVERAGEIFS(Market_Panel!$P$2:$P$2705,Market_Panel!$A$2:$A$2705,B174,Market_Panel!$B$2:$B$2705,">="&$B$9,Market_Panel!$B$2:$B$2705,"<="&$C$9)) | G174: =IF(D174=0,"",AVERAGEIFS(Market_Panel!$R$2:$R$2705,Market_Panel!$A$2:$A$2705,B174,Market_Panel!$B$2:$B$2705,">="&$B$9,Market_Panel!$B$2:$B$2705,"<="&$C$9)) | H174: =IF(OR(D174=0,$H$9=0),0,AVERAGEIFS(Market_Panel!$Y$2:$Y$2705,Market_Panel!$A$2:$A$2705,B174,Market_Panel!$B$2:$B$2705,">="&$B$9,Market_Panel!$B$2:$B$2705,"<="&$C$9)) -> 0 | I174: =IF(D174=0,"",$I$9+$F$9*F174+$G$9*G174+$H$9*H174) | J174: =IF(D174<5,"",(E174-I174)*162) | K174: =IF(D174=0,"",E174*162) | L174: =SUMIFS(Seasons!$L$2:$L$2865,Seasons!$A$2:$A$2865,B174,Seasons!$B$2:$B$2865,">="&$B$9,Seasons!$B$2:$B$2865,"<="&$C$9) -> 0 | M174: =SUMIFS(Seasons!$N$2:$N$2865,Seasons!$A$2:$A$2865,B174,Seasons!$B$2:$B$2865,">="&$B$9,Seasons!$B$2:$B$2865,"<="&$C$9) -> 0 | N174: =IF(J174="",-1000000,J174+ROW()*0.000000001) -> -1000000 | O174: =IF(J174="","",SUMPRODUCT(($A$25:$A$534=A174)*($N$25:$N$534>N174))+1) | P174: =A174&"|"&O174 -> 1940s|
A175: 1950s | B175: ATL | C175: Established | D175: =COUNTIFS(Market_Panel!$A$2:$A$2705,B175,Market_Panel!$B$2:$B$2705,">="&$B$10,Market_Panel!$B$2:$B$2705,"<="&$C$10) -> 10 | E175: =IF(D175=0,"",AVERAGEIFS(Market_Panel!$M$2:$M$2705,Market_Panel!$A$2:$A$2705,B175,Market_Panel!$B$2:$B$2705,">="&$B$10,Market_Panel!$B$2:$B$2705,"<="&$C$10)) -> 0.054128839 | F175: =IF(D175=0,"",AVERAGEIFS(Market_Panel!$P$2:$P$2705,Market_Panel!$A$2:$A$2705,B175,Market_Panel!$B$2:$B$2705,">="&$B$10,Market_Panel!$B$2:$B$2705,"<="&$C$10)) -> -0.60550138 | G175: =IF(D175=0,"",AVERAGEIFS(Market_Panel!$R$2:$R$2705,Market_Panel!$A$2:$A$2705,B175,Market_Panel!$B$2:$B$2705,">="&$B$10,Market_Panel!$B$2:$B$2705,"<="&$C$10)) -> 0 | H175: =IF(OR(D175=0,$H$10=0),0,AVERAGEIFS(Market_Panel!$Y$2:$Y$2705,Market_Panel!$A$2:$A$2705,B175,Market_Panel!$B$2:$B$2705,">="&$B$10,Market_Panel!$B$2:$B$2705,"<="&$C$10)) -> 0 | I175: =IF(D175=0,"",$I$10+$F$10*F175+$G$10*G175+$H$10*H175) -> -0.028202929 | J175: =IF(D175<5,"",(E175-I175)*162) -> 13.337746 | K175: =IF(D175=0,"",E175*162) -> 8.7688719 | L175: =SUMIFS(Seasons!$L$2:$L$2865,Seasons!$A$2:$A$2865,B175,Seasons!$B$2:$B$2865,">="&$B$10,Seasons!$B$2:$B$2865,"<="&$C$10) -> 2 | M175: =SUMIFS(Seasons!$N$2:$N$2865,Seasons!$A$2:$A$2865,B175,Seasons!$B$2:$B$2865,">="&$B$10,Seasons!$B$2:$B$2865,"<="&$C$10) -> 1 | N175: =IF(J175="",-1000000,J175+ROW()*0.000000001) -> 13.337747 | O175: =IF(J175="","",SUMPRODUCT(($A$25:$A$534=A175)*($N$25:$N$534>N175))+1) -> 2 | P175: =A175&"|"&O175 -> 1950s|2
A176: 1950s | B176: CHC | C176: Established | D176: =COUNTIFS(Market_Panel!$A$2:$A$2705,B176,Market_Panel!$B$2:$B$2705,">="&$B$10,Market_Panel!$B$2:$B$2705,"<="&$C$10) -> 10 | E176: =IF(D176=0,"",AVERAGEIFS(Market_Panel!$M$2:$M$2705,Market_Panel!$A$2:$A$2705,B176,Market_Panel!$B$2:$B$2705,">="&$B$10,Market_Panel!$B$2:$B$2705,"<="&$C$10)) -> -0.063031452 | F176: =IF(D176=0,"",AVERAGEIFS(Market_Panel!$P$2:$P$2705,Market_Panel!$A$2:$A$2705,B176,Market_Panel!$B$2:$B$2705,">="&$B$10,Market_Panel!$B$2:$B$2705,"<="&$C$10)) -> 0.50957961 | G176: =IF(D176=0,"",AVERAGEIFS(Market_Panel!$R$2:$R$2705,Market_Panel!$A$2:$A$2705,B176,Market_Panel!$B$2:$B$2705,">="&$B$10,Market_Panel!$B$2:$B$2705,"<="&$C$10)) -> 0 | H176: =IF(OR(D176=0,$H$10=0),0,AVERAGEIFS(Market_Panel!$Y$2:$Y$2705,Market_Panel!$A$2:$A$2705,B176,Market_Panel!$B$2:$B$2705,">="&$B$10,Market_Panel!$B$2:$B$2705,"<="&$C$10)) -> 0 | I176: =IF(D176=0,"",$I$10+$F$10*F176+$G$10*G176+$H$10*H176) -> 0.023735103 | J176: =IF(D176<5,"",(E176-I176)*162) -> -14.056182 | K176: =IF(D176=0,"",E176*162) -> -10.211095 | L176: =SUMIFS(Seasons!$L$2:$L$2865,Seasons!$A$2:$A$2865,B176,Seasons!$B$2:$B$2865,">="&$B$10,Seasons!$B$2:$B$2865,"<="&$C$10) -> 0 | M176: =SUMIFS(Seasons!$N$2:$N$2865,Seasons!$A$2:$A$2865,B176,Seasons!$B$2:$B$2865,">="&$B$10,Seasons!$B$2:$B$2865,"<="&$C$10) -> 0 | N176: =IF(J176="",-1000000,J176+ROW()*0.000000001) -> -14.056182 | O176: =IF(J176="","",SUMPRODUCT(($A$25:$A$534=A176)*($N$25:$N$534>N176))+1) -> 16 | P176: =A176&"|"&O176 -> 1950s|16
A177: 1950s | B177: CIN | C177: Established | D177: =COUNTIFS(Market_Panel!$A$2:$A$2705,B177,Market_Panel!$B$2:$B$2705,">="&$B$10,Market_Panel!$B$2:$B$2705,"<="&$C$10) -> 10 | E177: =IF(D177=0,"",AVERAGEIFS(Market_Panel!$M$2:$M$2705,Market_Panel!$A$2:$A$2705,B177,Market_Panel!$B$2:$B$2705,">="&$B$10,Market_Panel!$B$2:$B$2705,"<="&$C$10)) -> -0.018523345 | F177: =IF(D177=0,"",AVERAGEIFS(Market_Panel!$P$2:$P$2705,Market_Panel!$A$2:$A$2705,B177,Market_Panel!$B$2:$B$2705,">="&$B$10,Market_Panel!$B$2:$B$2705,"<="&$C$10)) -> -0.7616354 | G177: =IF(D177=0,"",AVERAGEIFS(Market_Panel!$R$2:$R$2705,Market_Panel!$A$2:$A$2705,B177,Market_Panel!$B$2:$B$2705,">="&$B$10,Market_Panel!$B$2:$B$2705,"<="&$C$10)) -> 0 | H177: =IF(OR(D177=0,$H$10=0),0,AVERAGEIFS(Market_Panel!$Y$2:$Y$2705,Market_Panel!$A$2:$A$2705,B177,Market_Panel!$B$2:$B$2705,">="&$B$10,Market_Panel!$B$2:$B$2705,"<="&$C$10)) -> 0 | I177: =IF(D177=0,"",$I$10+$F$10*F177+$G$10*G177+$H$10*H177) -> -0.035475309 | J177: =IF(D177<5,"",(E177-I177)*162) -> 2.7462182 | K177: =IF(D177=0,"",E177*162) -> -3.000782 | L177: =SUMIFS(Seasons!$L$2:$L$2865,Seasons!$A$2:$A$2865,B177,Seasons!$B$2:$B$2865,">="&$B$10,Seasons!$B$2:$B$2865,"<="&$C$10) -> 0 | M177: =SUMIFS(Seasons!$N$2:$N$2865,Seasons!$A$2:$A$2865,B177,Seasons!$B$2:$B$2865,">="&$B$10,Seasons!$B$2:$B$2865,"<="&$C$10) -> 0 | N177: =IF(J177="",-1000000,J177+ROW()*0.000000001) -> 2.7462183 | O177: =IF(J177="","",SUMPRODUCT(($A$25:$A$534=A177)*($N$25:$N$534>N177))+1) -> 8 | P177: =A177&"|"&O177 -> 1950s|8
A178: 1950s | B178: PIT | C178: Established | D178: =COUNTIFS(Market_Panel!$A$2:$A$2705,B178,Market_Panel!$B$2:$B$2705,">="&$B$10,Market_Panel!$B$2:$B$2705,"<="&$C$10) -> 10 | E178: =IF(D178=0,"",AVERAGEIFS(Market_Panel!$M$2:$M$2705,Market_Panel!$A$2:$A$2705,B178,Market_Panel!$B$2:$B$2705,">="&$B$10,Market_Panel!$B$2:$B$2705,"<="&$C$10)) -> -0.099730374 | F178: =IF(D178=0,"",AVERAGEIFS(Market_Panel!$P$2:$P$2705,Market_Panel!$A$2:$A$2705,B178,Market_Panel!$B$2:$B$2705,">="&$B$10,Market_Panel!$B$2:$B$2705,"<="&$C$10)) -> -0.51649573 | G178: =IF(D178=0,"",AVERAGEIFS(Market_Panel!$R$2:$R$2705,Market_Panel!$A$2:$A$2705,B178,Market_Panel!$B$2:$B$2705,">="&$B$10,Market_Panel!$B$2:$B$2705,"<="&$C$10)) -> 0 | H178: =IF(OR(D178=0,$H$10=0),0,AVERAGEIFS(Market_Panel!$Y$2:$Y$2705,Market_Panel!$A$2:$A$2705,B178,Market_Panel!$B$2:$B$2705,">="&$B$10,Market_Panel!$B$2:$B$2705,"<="&$C$10)) -> 0 | I178: =IF(D178=0,"",$I$10+$F$10*F178+$G$10*G178+$H$10*H178) -> -0.02405724 | J178: =IF(D178<5,"",(E178-I178)*162) -> -12.259048 | K178: =IF(D178=0,"",E178*162) -> -16.156321 | L178: =SUMIFS(Seasons!$L$2:$L$2865,Seasons!$A$2:$A$2865,B178,Seasons!$B$2:$B$2865,">="&$B$10,Seasons!$B$2:$B$2865,"<="&$C$10) -> 0 | M178: =SUMIFS(Seasons!$N$2:$N$2865,Seasons!$A$2:$A$2865,B178,Seasons!$B$2:$B$2865,">="&$B$10,Seasons!$B$2:$B$2865,"<="&$C$10) -> 0 | N178: =IF(J178="",-1000000,J178+ROW()*0.000000001) -> -12.259047 | O178: =IF(J178="","",SUMPRODUCT(($A$25:$A$534=A178)*($N$25:$N$534>N178))+1) -> 15 | P178: =A178&"|"&O178 -> 1950s|15
A179: 1950s | B179: STL | C179: Established | D179: =COUNTIFS(Market_Panel!$A$2:$A$2705,B179,Market_Panel!$B$2:$B$2705,">="&$B$10,Market_Panel!$B$2:$B$2705,"<="&$C$10) -> 10 | E179: =IF(D179=0,"",AVERAGEIFS(Market_Panel!$M$2:$M$2705,Market_Panel!$A$2:$A$2705,B179,Market_Panel!$B$2:$B$2705,">="&$B$10,Market_Panel!$B$2:$B$2705,"<="&$C$10)) -> 0.0042548567 | F179: =IF(D179=0,"",AVERAGEIFS(Market_Panel!$P$2:$P$2705,Market_Panel!$A$2:$A$2705,B179,Market_Panel!$B$2:$B$2705,">="&$B$10,Market_Panel!$B$2:$B$2705,"<="&$C$10)) -> -0.56686338 | G179: =IF(D179=0,"",AVERAGEIFS(Market_Panel!$R$2:$R$2705,Market_Panel!$A$2:$A$2705,B179,Market_Panel!$B$2:$B$2705,">="&$B$10,Market_Panel!$B$2:$B$2705,"<="&$C$10)) -> 0 | H179: =IF(OR(D179=0,$H$10=0),0,AVERAGEIFS(Market_Panel!$Y$2:$Y$2705,Market_Panel!$A$2:$A$2705,B179,Market_Panel!$B$2:$B$2705,">="&$B$10,Market_Panel!$B$2:$B$2705,"<="&$C$10)) -> 0 | I179: =IF(D179=0,"",$I$10+$F$10*F179+$G$10*G179+$H$10*H179) -> -0.026403256 | J179: =IF(D179<5,"",(E179-I179)*162) -> 4.9666142 | K179: =IF(D179=0,"",E179*162) -> 0.68928679 | L179: =SUMIFS(Seasons!$L$2:$L$2865,Seasons!$A$2:$A$2865,B179,Seasons!$B$2:$B$2865,">="&$B$10,Seasons!$B$2:$B$2865,"<="&$C$10) -> 0 | M179: =SUMIFS(Seasons!$N$2:$N$2865,Seasons!$A$2:$A$2865,B179,Seasons!$B$2:$B$2865,">="&$B$10,Seasons!$B$2:$B$2865,"<="&$C$10) -> 0 | N179: =IF(J179="",-1000000,J179+ROW()*0.000000001) -> 4.9666144 | O179: =IF(J179="","",SUMPRODUCT(($A$25:$A$534=A179)*($N$25:$N$534>N179))+1) -> 6 | P179: =A179&"|"&O179 -> 1950s|6
A180: 1950s | B180: PHI | C180: Established | D180: =COUNTIFS(Market_Panel!$A$2:$A$2705,B180,Market_Panel!$B$2:$B$2705,">="&$B$10,Market_Panel!$B$2:$B$2705,"<="&$C$10) -> 10 | E180: =IF(D180=0,"",AVERAGEIFS(Market_Panel!$M$2:$M$2705,Market_Panel!$A$2:$A$2705,B180,Market_Panel!$B$2:$B$2705,">="&$B$10,Market_Panel!$B$2:$B$2705,"<="&$C$10)) -> -0.0019203406 | F180: =IF(D180=0,"",AVERAGEIFS(Market_Panel!$P$2:$P$2705,Market_Panel!$A$2:$A$2705,B180,Market_Panel!$B$2:$B$2705,">="&$B$10,Market_Panel!$B$2:$B$2705,"<="&$C$10)) -> 0.29132781 | G180: =IF(D180=0,"",AVERAGEIFS(Market_Panel!$R$2:$R$2705,Market_Panel!$A$2:$A$2705,B180,Market_Panel!$B$2:$B$2705,">="&$B$10,Market_Panel!$B$2:$B$2705,"<="&$C$10)) -> 0 | H180: =IF(OR(D180=0,$H$10=0),0,AVERAGEIFS(Market_Panel!$Y$2:$Y$2705,Market_Panel!$A$2:$A$2705,B180,Market_Panel!$B$2:$B$2705,">="&$B$10,Market_Panel!$B$2:$B$2705,"<="&$C$10)) -> 0 | I180: =IF(D180=0,"",$I$10+$F$10*F180+$G$10*G180+$H$10*H180) -> 0.013569412 | J180: =IF(D180<5,"",(E180-I180)*162) -> -2.5093399 | K180: =IF(D180=0,"",E180*162) -> -0.31109518 | L180: =SUMIFS(Seasons!$L$2:$L$2865,Seasons!$A$2:$A$2865,B180,Seasons!$B$2:$B$2865,">="&$B$10,Seasons!$B$2:$B$2865,"<="&$C$10) -> 1 | M180: =SUMIFS(Seasons!$N$2:$N$2865,Seasons!$A$2:$A$2865,B180,Seasons!$B$2:$B$2865,">="&$B$10,Seasons!$B$2:$B$2865,"<="&$C$10) -> 0 | N180: =IF(J180="",-1000000,J180+ROW()*0.000000001) -> -2.5093397 | O180: =IF(J180="","",SUMPRODUCT(($A$25:$A$534=A180)*($N$25:$N$534>N180))+1) -> 10 | P180: =A180&"|"&O180 -> 1950s|10
A181: 1950s | B181: SFG | C181: Established | D181: =COUNTIFS(Market_Panel!$A$2:$A$2705,B181,Market_Panel!$B$2:$B$2705,">="&$B$10,Market_Panel!$B$2:$B$2705,"<="&$C$10) -> 10 | E181: =IF(D181=0,"",AVERAGEIFS(Market_Panel!$M$2:$M$2705,Market_Panel!$A$2:$A$2705,B181,Market_Panel!$B$2:$B$2705,">="&$B$10,Market_Panel!$B$2:$B$2705,"<="&$C$10)) -> 0.032577964 | F181: =IF(D181=0,"",AVERAGEIFS(Market_Panel!$P$2:$P$2705,Market_Panel!$A$2:$A$2705,B181,Market_Panel!$B$2:$B$2705,">="&$B$10,Market_Panel!$B$2:$B$2705,"<="&$C$10)) -> 0.63595036 | G181: =IF(D181=0,"",AVERAGEIFS(Market_Panel!$R$2:$R$2705,Market_Panel!$A$2:$A$2705,B181,Market_Panel!$B$2:$B$2705,">="&$B$10,Market_Panel!$B$2:$B$2705,"<="&$C$10)) -> 0 | H181: =IF(OR(D181=0,$H$10=0),0,AVERAGEIFS(Market_Panel!$Y$2:$Y$2705,Market_Panel!$A$2:$A$2705,B181,Market_Panel!$B$2:$B$2705,">="&$B$10,Market_Panel!$B$2:$B$2705,"<="&$C$10)) -> 0 | I181: =IF(D181=0,"",$I$10+$F$10*F181+$G$10*G181+$H$10*H181) -> 0.029621176 | J181: =IF(D181<5,"",(E181-I181)*162) -> 0.47899966 | K181: =IF(D181=0,"",E181*162) -> 5.2776301 | L181: =SUMIFS(Seasons!$L$2:$L$2865,Seasons!$A$2:$A$2865,B181,Seasons!$B$2:$B$2865,">="&$B$10,Seasons!$B$2:$B$2865,"<="&$C$10) -> 2 | M181: =SUMIFS(Seasons!$N$2:$N$2865,Seasons!$A$2:$A$2865,B181,Seasons!$B$2:$B$2865,">="&$B$10,Seasons!$B$2:$B$2865,"<="&$C$10) -> 1 | N181: =IF(J181="",-1000000,J181+ROW()*0.000000001) -> 0.47899984 | O181: =IF(J181="","",SUMPRODUCT(($A$25:$A$534=A181)*($N$25:$N$534>N181))+1) -> 9 | P181: =A181&"|"&O181 -> 1950s|9
A182: 1950s | B182: LAD | C182: Established | D182: =COUNTIFS(Market_Panel!$A$2:$A$2705,B182,Market_Panel!$B$2:$B$2705,">="&$B$10,Market_Panel!$B$2:$B$2705,"<="&$C$10) -> 10 | E182: =IF(D182=0,"",AVERAGEIFS(Market_Panel!$M$2:$M$2705,Market_Panel!$A$2:$A$2705,B182,Market_Panel!$B$2:$B$2705,">="&$B$10,Market_Panel!$B$2:$B$2705,"<="&$C$10)) -> 0.09177204 | F182: =IF(D182=0,"",AVERAGEIFS(Market_Panel!$P$2:$P$2705,Market_Panel!$A$2:$A$2705,B182,Market_Panel!$B$2:$B$2705,">="&$B$10,Market_Panel!$B$2:$B$2705,"<="&$C$10)) -> 0.86938148 | G182: =IF(D182=0,"",AVERAGEIFS(Market_Panel!$R$2:$R$2705,Market_Panel!$A$2:$A$2705,B182,Market_Panel!$B$2:$B$2705,">="&$B$10,Market_Panel!$B$2:$B$2705,"<="&$C$10)) -> 0 | H182: =IF(OR(D182=0,$H$10=0),0,AVERAGEIFS(Market_Panel!$Y$2:$Y$2705,Market_Panel!$A$2:$A$2705,B182,Market_Panel!$B$2:$B$2705,">="&$B$10,Market_Panel!$B$2:$B$2705,"<="&$C$10)) -> 0 | I182: =IF(D182=0,"",$I$10+$F$10*F182+$G$10*G182+$H$10*H182) -> 0.040493886 | J182: =IF(D182<5,"",(E182-I182)*162) -> 8.3070609 | K182: =IF(D182=0,"",E182*162) -> 14.86707 | L182: =SUMIFS(Seasons!$L$2:$L$2865,Seasons!$A$2:$A$2865,B182,Seasons!$B$2:$B$2865,">="&$B$10,Seasons!$B$2:$B$2865,"<="&$C$10) -> 5 | M182: =SUMIFS(Seasons!$N$2:$N$2865,Seasons!$A$2:$A$2865,B182,Seasons!$B$2:$B$2865,">="&$B$10,Seasons!$B$2:$B$2865,"<="&$C$10) -> 2 | N182: =IF(J182="",-1000000,J182+ROW()*0.000000001) -> 8.3070611 | O182: =IF(J182="","",SUMPRODUCT(($A$25:$A$534=A182)*($N$25:$N$534>N182))+1) -> 5 | P182: =A182&"|"&O182 -> 1950s|5
A183: 1950s | B183: BAL | C183: Established | D183: =COUNTIFS(Market_Panel!$A$2:$A$2705,B183,Market_Panel!$B$2:$B$2705,">="&$B$10,Market_Panel!$B$2:$B$2705,"<="&$C$10) -> 10 | E183: =IF(D183=0,"",AVERAGEIFS(Market_Panel!$M$2:$M$2705,Market_Panel!$A$2:$A$2705,B183,Market_Panel!$B$2:$B$2705,">="&$B$10,Market_Panel!$B$2:$B$2705,"<="&$C$10)) -> -0.088619263 | F183: =IF(D183=0,"",AVERAGEIFS(Market_Panel!$P$2:$P$2705,Market_Panel!$A$2:$A$2705,B183,Market_Panel!$B$2:$B$2705,">="&$B$10,Market_Panel!$B$2:$B$2705,"<="&$C$10)) -> -0.45759696 | G183: =IF(D183=0,"",AVERAGEIFS(Market_Panel!$R$2:$R$2705,Market_Panel!$A$2:$A$2705,B183,Market_Panel!$B$2:$B$2705,">="&$B$10,Market_Panel!$B$2:$B$2705,"<="&$C$10)) -> 0 | H183: =IF(OR(D183=0,$H$10=0),0,AVERAGEIFS(Market_Panel!$Y$2:$Y$2705,Market_Panel!$A$2:$A$2705,B183,Market_Panel!$B$2:$B$2705,">="&$B$10,Market_Panel!$B$2:$B$2705,"<="&$C$10)) -> 0 | I183: =IF(D183=0,"",$I$10+$F$10*F183+$G$10*G183+$H$10*H183) -> -0.021313865 | J183: =IF(D183<5,"",(E183-I183)*162) -> -10.903474 | K183: =IF(D183=0,"",E183*162) -> -14.356321 | L183: =SUMIFS(Seasons!$L$2:$L$2865,Seasons!$A$2:$A$2865,B183,Seasons!$B$2:$B$2865,">="&$B$10,Seasons!$B$2:$B$2865,"<="&$C$10) -> 0 | M183: =SUMIFS(Seasons!$N$2:$N$2865,Seasons!$A$2:$A$2865,B183,Seasons!$B$2:$B$2865,">="&$B$10,Seasons!$B$2:$B$2865,"<="&$C$10) -> 0 | N183: =IF(J183="",-1000000,J183+ROW()*0.000000001) -> -10.903474 | O183: =IF(J183="","",SUMPRODUCT(($A$25:$A$534=A183)*($N$25:$N$534>N183))+1) -> 12 | P183: =A183&"|"&O183 -> 1950s|12
A184: 1950s | B184: BOS | C184: Established | D184: =COUNTIFS(Market_Panel!$A$2:$A$2705,B184,Market_Panel!$B$2:$B$2705,">="&$B$10,Market_Panel!$B$2:$B$2705,"<="&$C$10) -> 10 | E184: =IF(D184=0,"",AVERAGEIFS(Market_Panel!$M$2:$M$2705,Market_Panel!$A$2:$A$2705,B184,Market_Panel!$B$2:$B$2705,">="&$B$10,Market_Panel!$B$2:$B$2705,"<="&$C$10)) -> 0.028955646 | F184: =IF(D184=0,"",AVERAGEIFS(Market_Panel!$P$2:$P$2705,Market_Panel!$A$2:$A$2705,B184,Market_Panel!$B$2:$B$2705,">="&$B$10,Market_Panel!$B$2:$B$2705,"<="&$C$10)) -> -0.56714822 | G184: =IF(D184=0,"",AVERAGEIFS(Market_Panel!$R$2:$R$2705,Market_Panel!$A$2:$A$2705,B184,Market_Panel!$B$2:$B$2705,">="&$B$10,Market_Panel!$B$2:$B$2705,"<="&$C$10)) -> 0 | H184: =IF(OR(D184=0,$H$10=0),0,AVERAGEIFS(Market_Panel!$Y$2:$Y$2705,Market_Panel!$A$2:$A$2705,B184,Market_Panel!$B$2:$B$2705,">="&$B$10,Market_Panel!$B$2:$B$2705,"<="&$C$10)) -> 0 | I184: =IF(D184=0,"",$I$10+$F$10*F184+$G$10*G184+$H$10*H184) -> -0.026416522 | J184: =IF(D184<5,"",(E184-I184)*162) -> 8.9702913 | K184: =IF(D184=0,"",E184*162) -> 4.6908147 | L184: =SUMIFS(Seasons!$L$2:$L$2865,Seasons!$A$2:$A$2865,B184,Seasons!$B$2:$B$2865,">="&$B$10,Seasons!$B$2:$B$2865,"<="&$C$10) -> 0 | M184: =SUMIFS(Seasons!$N$2:$N$2865,Seasons!$A$2:$A$2865,B184,Seasons!$B$2:$B$2865,">="&$B$10,Seasons!$B$2:$B$2865,"<="&$C$10) -> 0 | N184: =IF(J184="",-1000000,J184+ROW()*0.000000001) -> 8.9702915 | O184: =IF(J184="","",SUMPRODUCT(($A$25:$A$534=A184)*($N$25:$N$534>N184))+1) -> 4 | P184: =A184&"|"&O184 -> 1950s|4
A185: 1950s | B185: CHW | C185: Established | D185: =COUNTIFS(Market_Panel!$A$2:$A$2705,B185,Market_Panel!$B$2:$B$2705,">="&$B$10,Market_Panel!$B$2:$B$2705,"<="&$C$10) -> 10 | E185: =IF(D185=0,"",AVERAGEIFS(Market_Panel!$M$2:$M$2705,Market_Panel!$A$2:$A$2705,B185,Market_Panel!$B$2:$B$2705,">="&$B$10,Market_Panel!$B$2:$B$2705,"<="&$C$10)) -> 0.050027711 | F185: =IF(D185=0,"",AVERAGEIFS(Market_Panel!$P$2:$P$2705,Market_Panel!$A$2:$A$2705,B185,Market_Panel!$B$2:$B$2705,">="&$B$10,Market_Panel!$B$2:$B$2705,"<="&$C$10)) -> 0.50957961 | G185: =IF(D185=0,"",AVERAGEIFS(Market_Panel!$R$2:$R$2705,Market_Panel!$A$2:$A$2705,B185,Market_Panel!$B$2:$B$2705,">="&$B$10,Market_Panel!$B$2:$B$2705,"<="&$C$10)) -> 0 | H185: =IF(OR(D185=0,$H$10=0),0,AVERAGEIFS(Market_Panel!$Y$2:$Y$2705,Market_Panel!$A$2:$A$2705,B185,Market_Panel!$B$2:$B$2705,">="&$B$10,Market_Panel!$B$2:$B$2705,"<="&$C$10)) -> 0 | I185: =IF(D185=0,"",$I$10+$F$10*F185+$G$10*G185+$H$10*H185) -> 0.023735103 | J185: =IF(D185<5,"",(E185-I185)*162) -> 4.2594026 | K185: =IF(D185=0,"",E185*162) -> 8.1044892 | L185: =SUMIFS(Seasons!$L$2:$L$2865,Seasons!$A$2:$A$2865,B185,Seasons!$B$2:$B$2865,">="&$B$10,Seasons!$B$2:$B$2865,"<="&$C$10) -> 1 | M185: =SUMIFS(Seasons!$N$2:$N$2865,Seasons!$A$2:$A$2865,B185,Seasons!$B$2:$B$2865,">="&$B$10,Seasons!$B$2:$B$2865,"<="&$C$10) -> 0 | N185: =IF(J185="",-1000000,J185+ROW()*0.000000001) -> 4.2594028 | O185: =IF(J185="","",SUMPRODUCT(($A$25:$A$534=A185)*($N$25:$N$534>N185))+1) -> 7 | P185: =A185&"|"&O185 -> 1950s|7
A186: 1950s | B186: CLE | C186: Established | D186: =COUNTIFS(Market_Panel!$A$2:$A$2705,B186,Market_Panel!$B$2:$B$2705,">="&$B$10,Market_Panel!$B$2:$B$2705,"<="&$C$10) -> 10 | E186: =IF(D186=0,"",AVERAGEIFS(Market_Panel!$M$2:$M$2705,Market_Panel!$A$2:$A$2705,B186,Market_Panel!$B$2:$B$2705,">="&$B$10,Market_Panel!$B$2:$B$2705,"<="&$C$10)) -> 0.087690049 | F186: =IF(D186=0,"",AVERAGEIFS(Market_Panel!$P$2:$P$2705,Market_Panel!$A$2:$A$2705,B186,Market_Panel!$B$2:$B$2705,">="&$B$10,Market_Panel!$B$2:$B$2705,"<="&$C$10)) -> -0.18367973 | G186: =IF(D186=0,"",AVERAGEIFS(Market_Panel!$R$2:$R$2705,Market_Panel!$A$2:$A$2705,B186,Market_Panel!$B$2:$B$2705,">="&$B$10,Market_Panel!$B$2:$B$2705,"<="&$C$10)) -> 0 | H186: =IF(OR(D186=0,$H$10=0),0,AVERAGEIFS(Market_Panel!$Y$2:$Y$2705,Market_Panel!$A$2:$A$2705,B186,Market_Panel!$B$2:$B$2705,">="&$B$10,Market_Panel!$B$2:$B$2705,"<="&$C$10)) -> 0 | I186: =IF(D186=0,"",$I$10+$F$10*F186+$G$10*G186+$H$10*H186) -> -0.0085553999 | J186: =IF(D186<5,"",(E186-I186)*162) -> 15.591763 | K186: =IF(D186=0,"",E186*162) -> 14.205788 | L186: =SUMIFS(Seasons!$L$2:$L$2865,Seasons!$A$2:$A$2865,B186,Seasons!$B$2:$B$2865,">="&$B$10,Seasons!$B$2:$B$2865,"<="&$C$10) -> 1 | M186: =SUMIFS(Seasons!$N$2:$N$2865,Seasons!$A$2:$A$2865,B186,Seasons!$B$2:$B$2865,">="&$B$10,Seasons!$B$2:$B$2865,"<="&$C$10) -> 0 | N186: =IF(J186="",-1000000,J186+ROW()*0.000000001) -> 15.591763 | O186: =IF(J186="","",SUMPRODUCT(($A$25:$A$534=A186)*($N$25:$N$534>N186))+1) -> 1 | P186: =A186&"|"&O186 -> 1950s|1
... A204: 1950s | B204: TBD | C204: Expansion | D204: =COUNTIFS(Market_Panel!$A$2:$A$2705,B204,Market_Panel!$B$2:$B$2705,">="&$B$10,Market_Panel!$B$2:$B$2705,"<="&$C$10) -> 0 | E204: =IF(D204=0,"",AVERAGEIFS(Market_Panel!$M$2:$M$2705,Market_Panel!$A$2:$A$2705,B204,Market_Panel!$B$2:$B$2705,">="&$B$10,Market_Panel!$B$2:$B$2705,"<="&$C$10)) | F204: =IF(D204=0,"",AVERAGEIFS(Market_Panel!$P$2:$P$2705,Market_Panel!$A$2:$A$2705,B204,Market_Panel!$B$2:$B$2705,">="&$B$10,Market_Panel!$B$2:$B$2705,"<="&$C$10)) | G204: =IF(D204=0,"",AVERAGEIFS(Market_Panel!$R$2:$R$2705,Market_Panel!$A$2:$A$2705,B204,Market_Panel!$B$2:$B$2705,">="&$B$10,Market_Panel!$B$2:$B$2705,"<="&$C$10)) | H204: =IF(OR(D204=0,$H$10=0),0,AVERAGEIFS(Market_Panel!$Y$2:$Y$2705,Market_Panel!$A$2:$A$2705,B204,Market_Panel!$B$2:$B$2705,">="&$B$10,Market_Panel!$B$2:$B$2705,"<="&$C$10)) -> 0 | I204: =IF(D204=0,"",$I$10+$F$10*F204+$G$10*G204+$H$10*H204) | J204: =IF(D204<5,"",(E204-I204)*162) | K204: =IF(D204=0,"",E204*162) | L204: =SUMIFS(Seasons!$L$2:$L$2865,Seasons!$A$2:$A$2865,B204,Seasons!$B$2:$B$2865,">="&$B$10,Seasons!$B$2:$B$2865,"<="&$C$10) -> 0 | M204: =SUMIFS(Seasons!$N$2:$N$2865,Seasons!$A$2:$A$2865,B204,Seasons!$B$2:$B$2865,">="&$B$10,Seasons!$B$2:$B$2865,"<="&$C$10) -> 0 | N204: =IF(J204="",-1000000,J204+ROW()*0.000000001) -> -1000000 | O204: =IF(J204="","",SUMPRODUCT(($A$25:$A$534=A204)*($N$25:$N$534>N204))+1) | P204: =A204&"|"&O204 -> 1950s|
...

Sheet Survivorship
A1: Survivorship: how much of the established clubs' edge is selection?
A2: Pooled win-loss records of the 30 surviving franchises by era, from the Seasons sheet, against the folded clubs on the Defunct sheet. The league as a whole is .500 by construction, so any survivor edge must be offset by someone else's losses.
A4: Group / era | B4: From | C4: To | D4: Wins | E4: Losses | F4: Win% | G4: Team-seasons
A5: All 30 survivors, 1871-1900 | B5: 1871 | C5: 1900 | D5: =SUMIFS(Seasons!$D$2:$D$2865,Seasons!$B$2:$B$2865,">="&B5,Seasons!$B$2:$B$2865,"<="&C5) -> 10733 | E5: =SUMIFS(Seasons!$E$2:$E$2865,Seasons!$B$2:$B$2865,">="&B5,Seasons!$B$2:$B$2865,"<="&C5) -> 9244 | F5: =D5/(D5+E5) -> 0.53726786 | G5: =COUNTIFS(Seasons!$B$2:$B$2865,">="&B5,Seasons!$B$2:$B$2865,"<="&C5) -> 160
A6: All 30 survivors, 1901-1960 (closed 16-club league) | B6: 1901 | C6: 1960 | D6: =SUMIFS(Seasons!$D$2:$D$2865,Seasons!$B$2:$B$2865,">="&B6,Seasons!$B$2:$B$2865,"<="&C6) -> 72658 | E6: =SUMIFS(Seasons!$E$2:$E$2865,Seasons!$B$2:$B$2865,">="&B6,Seasons!$B$2:$B$2865,"<="&C6) -> 72623 | F6: =D6/(D6+E6) -> 0.50012046 | G6: =COUNTIFS(Seasons!$B$2:$B$2865,">="&B6,Seasons!$B$2:$B$2865,"<="&C6) -> 958
A7: 16 older clubs, 1961-2025 | B7: 1961 | C7: 2025 | D7: =SUMIFS(Seasons!$D$2:$D$2865,Seasons!$A$2:$A$2865,"ATL",Seasons!$B$2:$B$2865,">="&B7,Seasons!$B$2:$B$2865,"<="&C7)+SUMIFS(Seasons!$D$2:$D$2865,Seasons!$A$2:$A$2865,"CHC",Seasons!$B$2:$B$2865,">="&B7,Seasons!$B$2:$B$2865,"<="&C7)+SUMIFS(Seasons!$D$2:$D$2865,Seasons!$A$2:$A$2865,"CIN",Seasons!$B$2:$B$2865,">="&B7,Seasons!$B$2:$B$2865,"<="&C7)+SUMIFS(Seasons!$D$2:$D$2865,Seasons!$A$2:$A$2865,"PIT",Seasons!$B$2:$B$2865,">="&B7,Seasons!$B$2:$B$2865,"<="&C7)+SUMIFS(Seasons!$D$2:$D$2865,Seasons!$A$2:$A$2865,"STL",Seasons!$B$2:$B$2865,">="&B7,Seasons!$B$2:$B$2865,"<="&C7)+SUMIFS(Seasons!$D$2:$D$2865,Seasons!$A$2:$A$2865,"PHI",Seasons!$B$2:$B$2865,">="&B7,Seasons!$B$2:$B$2865,"<="&C7)+SUMIFS(Seasons!$D$2:$D$2865,Seasons!$A$2:$A$2865,"SFG",Seasons!$B$2:$B$2865,">="&B7,Seasons!$B$2:$B$2865,"<="&C7)+SUMIFS(Seasons!$D$2:$D$2865,Seasons!$A$2:$A$2865,"LAD",Seasons!$B$2:$B$2865,">="&B7,Seasons!$B$2:$B$2865,"<="&C7)+SUMIFS(Seasons!$D$2:$D$2865,Seasons!$A$2:$A$2865,"BAL",Seasons!$B$2:$B$2865,">="&B7,Seasons!$B$2:$B$2865,"<="&C7)+SUMIFS(Seasons!$D$2:$D$2865,Seasons!$A$2:$A$2865,"BOS",Seasons!$B$2:$B$2865,">="&B7,Seasons!$B$2:$B$2865,"<="&C7)+SUMIFS(Seasons!$D$2:$D$2865,Seasons!$A$2:$A$2865,"CHW",Seasons!$B$2:$B$2865,">="&B7,Seasons!$B$2:$B$2865,"<="&C7)+SUMIFS(Seasons!$D$2:$D$2865,Seasons!$A$2:$A$2865,"CLE",Seasons!$B$2:$B$2865,">="&B7,Seasons!$B$2:$B$2865,"<="&C7)+SUMIFS(Seasons!$D$2:$D$2865,Seasons!$A$2:$A$2865,"DET",Seasons!$B$2:$B$2865,">="&B7,Seasons!$B$2:$B$2865,"<="&C7)+SUMIFS(Seasons!$D$2:$D$2865,Seasons!$A$2:$A$2865,"MIN",Seasons!$B$2:$B$2865,">="&B7,Seasons!$B$2:$B$2865,"<="&C7)+SUMIFS(Seasons!$D$2:$D$2865,Seasons!$A$2:$A$2865,"OAK",Seasons!$B$2:$B$2865,">="&B7,Seasons!$B$2:$B$2865,"<="&C7)+SUMIFS(Seasons!$D$2:$D$2865,Seasons!$A$2:$A$2865,"NYY",Seasons!$B$2:$B$2865,">="&B7,Seasons!$B$2:$B$2865,"<="&C7) -> 84160 | E7: =SUMIFS(Seasons!$E$2:$E$2865,Seasons!$A$2:$A$2865,"ATL",Seasons!$B$2:$B$2865,">="&B7,Seasons!$B$2:$B$2865,"<="&C7)+SUMIFS(Seasons!$E$2:$E$2865,Seasons!$A$2:$A$2865,"CHC",Seasons!$B$2:$B$2865,">="&B7,Seasons!$B$2:$B$2865,"<="&C7)+SUMIFS(Seasons!$E$2:$E$2865,Seasons!$A$2:$A$2865,"CIN",Seasons!$B$2:$B$2865,">="&B7,Seasons!$B$2:$B$2865,"<="&C7)+SUMIFS(Seasons!$E$2:$E$2865,Seasons!$A$2:$A$2865,"PIT",Seasons!$B$2:$B$2865,">="&B7,Seasons!$B$2:$B$2865,"<="&C7)+SUMIFS(Seasons!$E$2:$E$2865,Seasons!$A$2:$A$2865,"STL",Seasons!$B$2:$B$2865,">="&B7,Seasons!$B$2:$B$2865,"<="&C7)+SUMIFS(Seasons!$E$2:$E$2865,Seasons!$A$2:$A$2865,"PHI",Seasons!$B$2:$B$2865,">="&B7,Seasons!$B$2:$B$2865,"<="&C7)+SUMIFS(Seasons!$E$2:$E$2865,Seasons!$A$2:$A$2865,"SFG",Seasons!$B$2:$B$2865,">="&B7,Seasons!$B$2:$B$2865,"<="&C7)+SUMIFS(Seasons!$E$2:$E$2865,Seasons!$A$2:$A$2865,"LAD",Seasons!$B$2:$B$2865,">="&B7,Seasons!$B$2:$B$2865,"<="&C7)+SUMIFS(Seasons!$E$2:$E$2865,Seasons!$A$2:$A$2865,"BAL",Seasons!$B$2:$B$2865,">="&B7,Seasons!$B$2:$B$2865,"<="&C7)+SUMIFS(Seasons!$E$2:$E$2865,Seasons!$A$2:$A$2865,"BOS",Seasons!$B$2:$B$2865,">="&B7,Seasons!$B$2:$B$2865,"<="&C7)+SUMIFS(Seasons!$E$2:$E$2865,Seasons!$A$2:$A$2865,"CHW",Seasons!$B$2:$B$2865,">="&B7,Seasons!$B$2:$B$2865,"<="&C7)+SUMIFS(Seasons!$E$2:$E$2865,Seasons!$A$2:$A$2865,"CLE",Seasons!$B$2:$B$2865,">="&B7,Seasons!$B$2:$B$2865,"<="&C7)+SUMIFS(Seasons!$E$2:$E$2865,Seasons!$A$2:$A$2865,"DET",Seasons!$B$2:$B$2865,">="&B7,Seasons!$B$2:$B$2865,"<="&C7)+SUMIFS(Seasons!$E$2:$E$2865,Seasons!$A$2:$A$2865,"MIN",Seasons!$B$2:$B$2865,">="&B7,Seasons!$B$2:$B$2865,"<="&C7)+SUMIFS(Seasons!$E$2:$E$2865,Seasons!$A$2:$A$2865,"OAK",Seasons!$B$2:$B$2865,">="&B7,Seasons!$B$2:$B$2865,"<="&C7)+SUMIFS(Seasons!$E$2:$E$2865,Seasons!$A$2:$A$2865,"NYY",Seasons!$B$2:$B$2865,">="&B7,Seasons!$B$2:$B$2865,"<="&C7) -> 80389 | F7: =D7/(D7+E7) -> 0.51145859 | G7: =COUNTIFS(Seasons!$A$2:$A$2865,"ATL",Seasons!$B$2:$B$2865,">="&B7,Seasons!$B$2:$B$2865,"<="&C7)+COUNTIFS(Seasons!$A$2:$A$2865,"CHC",Seasons!$B$2:$B$2865,">="&B7,Seasons!$B$2:$B$2865,"<="&C7)+COUNTIFS(Seasons!$A$2:$A$2865,"CIN",Seasons!$B$2:$B$2865,">="&B7,Seasons!$B$2:$B$2865,"<="&C7)+COUNTIFS(Seasons!$A$2:$A$2865,"PIT",Seasons!$B$2:$B$2865,">="&B7,Seasons!$B$2:$B$2865,"<="&C7)+COUNTIFS(Seasons!$A$2:$A$2865,"STL",Seasons!$B$2:$B$2865,">="&B7,Seasons!$B$2:$B$2865,"<="&C7)+COUNTIFS(Seasons!$A$2:$A$2865,"PHI",Seasons!$B$2:$B$2865,">="&B7,Seasons!$B$2:$B$2865,"<="&C7)+COUNTIFS(Seasons!$A$2:$A$2865,"SFG",Seasons!$B$2:$B$2865,">="&B7,Seasons!$B$2:$B$2865,"<="&C7)+COUNTIFS(Seasons!$A$2:$A$2865,"LAD",Seasons!$B$2:$B$2865,">="&B7,Seasons!$B$2:$B$2865,"<="&C7)+COUNTIFS(Seasons!$A$2:$A$2865,"BAL",Seasons!$B$2:$B$2865,">="&B7,Seasons!$B$2:$B$2865,"<="&C7)+COUNTIFS(Seasons!$A$2:$A$2865,"BOS",Seasons!$B$2:$B$2865,">="&B7,Seasons!$B$2:$B$2865,"<="&C7)+COUNTIFS(Seasons!$A$2:$A$2865,"CHW",Seasons!$B$2:$B$2865,">="&B7,Seasons!$B$2:$B$2865,"<="&C7)+COUNTIFS(Seasons!$A$2:$A$2865,"CLE",Seasons!$B$2:$B$2865,">="&B7,Seasons!$B$2:$B$2865,"<="&C7)+COUNTIFS(Seasons!$A$2:$A$2865,"DET",Seasons!$B$2:$B$2865,">="&B7,Seasons!$B$2:$B$2865,"<="&C7)+COUNTIFS(Seasons!$A$2:$A$2865,"MIN",Seasons!$B$2:$B$2865,">="&B7,Seasons!$B$2:$B$2865,"<="&C7)+COUNTIFS(Seasons!$A$2:$A$2865,"OAK",Seasons!$B$2:$B$2865,">="&B7,Seasons!$B$2:$B$2865,"<="&C7)+COUNTIFS(Seasons!$A$2:$A$2865,"NYY",Seasons!$B$2:$B$2865,">="&B7,Seasons!$B$2:$B$2865,"<="&C7) -> 1040
A8: 14 expansion clubs, 1961-2025 | B8: 1961 | C8: 2025 | D8: =SUMIFS(Seasons!$D$2:$D$2865,Seasons!$A$2:$A$2865,"ANA",Seasons!$B$2:$B$2865,">="&B8,Seasons!$B$2:$B$2865,"<="&C8)+SUMIFS(Seasons!$D$2:$D$2865,Seasons!$A$2:$A$2865,"TEX",Seasons!$B$2:$B$2865,">="&B8,Seasons!$B$2:$B$2865,"<="&C8)+SUMIFS(Seasons!$D$2:$D$2865,Seasons!$A$2:$A$2865,"HOU",Seasons!$B$2:$B$2865,">="&B8,Seasons!$B$2:$B$2865,"<="&C8)+SUMIFS(Seasons!$D$2:$D$2865,Seasons!$A$2:$A$2865,"NYM",Seasons!$B$2:$B$2865,">="&B8,Seasons!$B$2:$B$2865,"<="&C8)+SUMIFS(Seasons!$D$2:$D$2865,Seasons!$A$2:$A$2865,"KCR",Seasons!$B$2:$B$2865,">="&B8,Seasons!$B$2:$B$2865,"<="&C8)+SUMIFS(Seasons!$D$2:$D$2865,Seasons!$A$2:$A$2865,"MIL",Seasons!$B$2:$B$2865,">="&B8,Seasons!$B$2:$B$2865,"<="&C8)+SUMIFS(Seasons!$D$2:$D$2865,Seasons!$A$2:$A$2865,"SDP",Seasons!$B$2:$B$2865,">="&B8,Seasons!$B$2:$B$2865,"<="&C8)+SUMIFS(Seasons!$D$2:$D$2865,Seasons!$A$2:$A$2865,"WSN",Seasons!$B$2:$B$2865,">="&B8,Seasons!$B$2:$B$2865,"<="&C8)+SUMIFS(Seasons!$D$2:$D$2865,Seasons!$A$2:$A$2865,"SEA",Seasons!$B$2:$B$2865,">="&B8,Seasons!$B$2:$B$2865,"<="&C8)+SUMIFS(Seasons!$D$2:$D$2865,Seasons!$A$2:$A$2865,"TOR",Seasons!$B$2:$B$2865,">="&B8,Seasons!$B$2:$B$2865,"<="&C8)+SUMIFS(Seasons!$D$2:$D$2865,Seasons!$A$2:$A$2865,"COL",Seasons!$B$2:$B$2865,">="&B8,Seasons!$B$2:$B$2865,"<="&C8)+SUMIFS(Seasons!$D$2:$D$2865,Seasons!$A$2:$A$2865,"FLA",Seasons!$B$2:$B$2865,">="&B8,Seasons!$B$2:$B$2865,"<="&C8)+SUMIFS(Seasons!$D$2:$D$2865,Seasons!$A$2:$A$2865,"ARI",Seasons!$B$2:$B$2865,">="&B8,Seasons!$B$2:$B$2865,"<="&C8)+SUMIFS(Seasons!$D$2:$D$2865,Seasons!$A$2:$A$2865,"TBD",Seasons!$B$2:$B$2865,">="&B8,Seasons!$B$2:$B$2865,"<="&C8) -> 53855 | E8: =SUMIFS(Seasons!$E$2:$E$2865,Seasons!$A$2:$A$2865,"ANA",Seasons!$B$2:$B$2865,">="&B8,Seasons!$B$2:$B$2865,"<="&C8)+SUMIFS(Seasons!$E$2:$E$2865,Seasons!$A$2:$A$2865,"TEX",Seasons!$B$2:$B$2865,">="&B8,Seasons!$B$2:$B$2865,"<="&C8)+SUMIFS(Seasons!$E$2:$E$2865,Seasons!$A$2:$A$2865,"HOU",Seasons!$B$2:$B$2865,">="&B8,Seasons!$B$2:$B$2865,"<="&C8)+SUMIFS(Seasons!$E$2:$E$2865,Seasons!$A$2:$A$2865,"NYM",Seasons!$B$2:$B$2865,">="&B8,Seasons!$B$2:$B$2865,"<="&C8)+SUMIFS(Seasons!$E$2:$E$2865,Seasons!$A$2:$A$2865,"KCR",Seasons!$B$2:$B$2865,">="&B8,Seasons!$B$2:$B$2865,"<="&C8)+SUMIFS(Seasons!$E$2:$E$2865,Seasons!$A$2:$A$2865,"MIL",Seasons!$B$2:$B$2865,">="&B8,Seasons!$B$2:$B$2865,"<="&C8)+SUMIFS(Seasons!$E$2:$E$2865,Seasons!$A$2:$A$2865,"SDP",Seasons!$B$2:$B$2865,">="&B8,Seasons!$B$2:$B$2865,"<="&C8)+SUMIFS(Seasons!$E$2:$E$2865,Seasons!$A$2:$A$2865,"WSN",Seasons!$B$2:$B$2865,">="&B8,Seasons!$B$2:$B$2865,"<="&C8)+SUMIFS(Seasons!$E$2:$E$2865,Seasons!$A$2:$A$2865,"SEA",Seasons!$B$2:$B$2865,">="&B8,Seasons!$B$2:$B$2865,"<="&C8)+SUMIFS(Seasons!$E$2:$E$2865,Seasons!$A$2:$A$2865,"TOR",Seasons!$B$2:$B$2865,">="&B8,Seasons!$B$2:$B$2865,"<="&C8)+SUMIFS(Seasons!$E$2:$E$2865,Seasons!$A$2:$A$2865,"COL",Seasons!$B$2:$B$2865,">="&B8,Seasons!$B$2:$B$2865,"<="&C8)+SUMIFS(Seasons!$E$2:$E$2865,Seasons!$A$2:$A$2865,"FLA",Seasons!$B$2:$B$2865,">="&B8,Seasons!$B$2:$B$2865,"<="&C8)+SUMIFS(Seasons!$E$2:$E$2865,Seasons!$A$2:$A$2865,"ARI",Seasons!$B$2:$B$2865,">="&B8,Seasons!$B$2:$B$2865,"<="&C8)+SUMIFS(Seasons!$E$2:$E$2865,Seasons!$A$2:$A$2865,"TBD",Seasons!$B$2:$B$2865,">="&B8,Seasons!$B$2:$B$2865,"<="&C8) -> 57626 | F8: =D8/(D8+E8) -> 0.4830868 | G8: =COUNTIFS(Seasons!$A$2:$A$2865,"ANA",Seasons!$B$2:$B$2865,">="&B8,Seasons!$B$2:$B$2865,"<="&C8)+COUNTIFS(Seasons!$A$2:$A$2865,"TEX",Seasons!$B$2:$B$2865,">="&B8,Seasons!$B$2:$B$2865,"<="&C8)+COUNTIFS(Seasons!$A$2:$A$2865,"HOU",Seasons!$B$2:$B$2865,">="&B8,Seasons!$B$2:$B$2865,"<="&C8)+COUNTIFS(Seasons!$A$2:$A$2865,"NYM",Seasons!$B$2:$B$2865,">="&B8,Seasons!$B$2:$B$2865,"<="&C8)+COUNTIFS(Seasons!$A$2:$A$2865,"KCR",Seasons!$B$2:$B$2865,">="&B8,Seasons!$B$2:$B$2865,"<="&C8)+COUNTIFS(Seasons!$A$2:$A$2865,"MIL",Seasons!$B$2:$B$2865,">="&B8,Seasons!$B$2:$B$2865,"<="&C8)+COUNTIFS(Seasons!$A$2:$A$2865,"SDP",Seasons!$B$2:$B$2865,">="&B8,Seasons!$B$2:$B$2865,"<="&C8)+COUNTIFS(Seasons!$A$2:$A$2865,"WSN",Seasons!$B$2:$B$2865,">="&B8,Seasons!$B$2:$B$2865,"<="&C8)+COUNTIFS(Seasons!$A$2:$A$2865,"SEA",Seasons!$B$2:$B$2865,">="&B8,Seasons!$B$2:$B$2865,"<="&C8)+COUNTIFS(Seasons!$A$2:$A$2865,"TOR",Seasons!$B$2:$B$2865,">="&B8,Seasons!$B$2:$B$2865,"<="&C8)+COUNTIFS(Seasons!$A$2:$A$2865,"COL",Seasons!$B$2:$B$2865,">="&B8,Seasons!$B$2:$B$2865,"<="&C8)+COUNTIFS(Seasons!$A$2:$A$2865,"FLA",Seasons!$B$2:$B$2865,">="&B8,Seasons!$B$2:$B$2865,"<="&C8)+COUNTIFS(Seasons!$A$2:$A$2865,"ARI",Seasons!$B$2:$B$2865,">="&B8,Seasons!$B$2:$B$2865,"<="&C8)+COUNTIFS(Seasons!$A$2:$A$2865,"TBD",Seasons!$B$2:$B$2865,">="&B8,Seasons!$B$2:$B$2865,"<="&C8) -> 706
A9: 65 folded clubs, 1871-1915 (Defunct sheet) | B9: 1871 | C9: 1915 | D9: =SUM(Defunct!G2:G66) -> 9843 | E9: =SUM(Defunct!H2:H66) -> 11332 | F9: =D9/(D9+E9) -> 0.46484061 | G9: =SUM(Defunct!F2:F66) -> 189
A11: Share of all games ever played (survivors + folded) that involved a folded club | F11: =D9/(D9+E9)*0+(D9+E9)/((D9+E9)+(D5+E5)+(D6+E6)+(D7+E7)+(D8+E8)) -> 0.045787447
A12: Note: games in 1871-1960 only; the 1961-2025 rows overlap nothing above. The 'share' figure is folded-club games over all games in the table.

Sheet Market_Findings
A1: Does market size explain MLB success? Win% vs relative market size
A2: Each team-season: win% minus that season's league average, against ln(market population per club) minus that season's average. Market = home city proper (decennial Census, interpolated); clubs sharing a city split it equally. 1901-2025.
A4: Sample | B4: Seasons | C4: Slope (win% per ln unit) | D4: Correlation | E4: Wins/162 for a market twice the size | F4: Rows
A5: All seasons, 1901-2025 | B5: =COUNT(Market_Panel!$M$2:$M$2705) -> 2704 | C5: =SLOPE(Market_Panel!$M$2:$M$2705,Market_Panel!$P$2:$P$2705) -> 0.017006011 | D5: =CORREL(Market_Panel!$M$2:$M$2705,Market_Panel!$P$2:$P$2705) -> 0.14277559 | E5: =C5*LN(2)*162 -> 1.9096023 | F5: Market_Panel rows 2-2705
A6: 1901-1960 (16-club, closed league) | B6: =COUNT(Market_Panel!$M$2:$M$959) -> 958 | C6: =SLOPE(Market_Panel!$M$2:$M$959,Market_Panel!$P$2:$P$959) -> 0.035575349 | D6: =CORREL(Market_Panel!$M$2:$M$959,Market_Panel!$P$2:$P$959) -> 0.23742532 | E6: =C6*LN(2)*162 -> 3.9947504 | F6: Market_Panel rows 2-959
A7: 1961-2025 (expansion era) | B7: =COUNT(Market_Panel!$M$960:$M$2705) -> 1746 | C7: =SLOPE(Market_Panel!$M$960:$M$2705,Market_Panel!$P$960:$P$2705) -> 0.0086531637 | D7: =CORREL(Market_Panel!$M$960:$M$2705,Market_Panel!$P$960:$P$2705) -> 0.084567944 | E7: =C7*LN(2)*162 -> 0.9716624 | F7: Market_Panel rows 960-2705
A8: 1990-2025 | B8: =COUNT(Market_Panel!$M$1648:$M$2705) -> 1058 | C8: =SLOPE(Market_Panel!$M$1648:$M$2705,Market_Panel!$P$1648:$P$2705) -> 0.012100029 | D8: =CORREL(Market_Panel!$M$1648:$M$2705,Market_Panel!$P$1648:$P$2705) -> 0.12379974 | E8: =C8*LN(2)*162 -> 1.3587104 | F8: Market_Panel rows 1648-2705
A10: Controlled model, 1961-2025 (LINEST: win% vs avg on relative size, expansion, expansion first 10 yrs, Yankees)
A11: Variable | B11: Model A coefficient | C11: Wins/162 (A) | D11: Model B coefficient (adds Yankees) | E11: Wins/162 (B)
A12: Relative market size (per ln unit) | B12: =INDEX(LINEST(Market_Panel!$M$960:$M$2705,Market_Panel!$P$960:$R$2705),1,3) -> 0.010901015 | C12: =B12*LN(2)*162 -> 1.2240733 | D12: =INDEX(LINEST(Market_Panel!$M$960:$M$2705,Market_Panel!$P$960:$S$2705),1,4) -> 0.0053516615 | E12: =D12*LN(2)*162 -> 0.60093723
A13: Expansion club | B13: =INDEX(LINEST(Market_Panel!$M$960:$M$2705,Market_Panel!$P$960:$R$2705),1,2) -> -0.023407169 | C13: =B13*162 -> -3.7919613 | D13: =INDEX(LINEST(Market_Panel!$M$960:$M$2705,Market_Panel!$P$960:$S$2705),1,3) -> -0.018644497 | E13: =D13*162 -> -3.0204085
A14: Expansion club, first 10 seasons (extra) | B14: =INDEX(LINEST(Market_Panel!$M$960:$M$2705,Market_Panel!$P$960:$R$2705),1,1) -> -0.042227859 | C14: =B14*162 -> -6.8409131 | D14: =INDEX(LINEST(Market_Panel!$M$960:$M$2705,Market_Panel!$P$960:$S$2705),1,2) -> -0.044444712 | E14: =D14*162 -> -7.2000433
A15: Yankees | B15: n/a | D15: =INDEX(LINEST(Market_Panel!$M$960:$M$2705,Market_Panel!$P$960:$S$2705),1,1) -> 0.04339145 | E15: =D15*162 -> 7.0294149
A16: Intercept | B16: =INDEX(LINEST(Market_Panel!$M$960:$M$2705,Market_Panel!$P$960:$R$2705),1,4) -> 0.012850722 | C16: =B16*162 -> 2.081817 | D16: =INDEX(LINEST(Market_Panel!$M$960:$M$2705,Market_Panel!$P$960:$S$2705),1,5) -> 0.0094873024 | E16: =D16*162 -> 1.536943
A17: Coefficients are in win% points (0.01 = 1 point = about 1.6 wins per 162 games). The relative-size row's wins column is for a market twice the size. Standard errors are not computed here; see Notes.
A19: Club table: current market (2020 metro) vs 1995-2025 performance
A20: Franchise | B20: Group | C20: Market (2020) | D20: 2020 metro pop | E20: Clubs in market | F20: Metro pop per club | G20: ln | H20: Avg win% vs avg, 1995-2025 | I20: Predicted from market | J20: Over/under market | K20: Avg win% vs avg, all seasons | L20: Avg relative size, all seasons
A21: ATL | B21: Established | C21: Atlanta | D21: =INDEX(Pop_Inputs!$O$2:$O$29,MATCH(C21,Pop_Inputs!$A$2:$A$29,0)) -> 6411149 | E21: =COUNTIF($C$21:$C$50,C21) -> 1 | F21: =D21/E21 -> 6411149 | G21: =LN(F21) -> 15.673549 | H21: =AVERAGEIFS(Market_Panel!$M$2:$M$2705,Market_Panel!$A$2:$A$2705,A21,Market_Panel!$B$2:$B$2705,">=1995") -> 0.056962514 | I21: =$C$53+$C$52*G21 -> 0.0098732204 | J21: =H21-I21 -> 0.047089293 | K21: =AVERAGEIFS(Market_Panel!$M$2:$M$2705,Market_Panel!$A$2:$A$2705,A21) -> -0.0096283989 | L21: =AVERAGEIFS(Market_Panel!$P$2:$P$2705,Market_Panel!$A$2:$A$2705,A21) -> -0.68551508
A22: CHC | B22: Established | C22: Chicago | D22: =INDEX(Pop_Inputs!$O$2:$O$29,MATCH(C22,Pop_Inputs!$A$2:$A$29,0)) -> 9618502 | E22: =COUNTIF($C$21:$C$50,C22) -> 2 | F22: =D22/E22 -> 4809251 | G22: =LN(F22) -> 15.386052 | H22: =AVERAGEIFS(Market_Panel!$M$2:$M$2705,Market_Panel!$A$2:$A$2705,A22,Market_Panel!$B$2:$B$2705,">=1995") -> -0.0016662497 | I22: =$C$53+$C$52*G22 -> 0.0030352511 | J22: =H22-I22 -> -0.0047015008 | K22: =AVERAGEIFS(Market_Panel!$M$2:$M$2705,Market_Panel!$A$2:$A$2705,A22) -> 0.0055478383 | L22: =AVERAGEIFS(Market_Panel!$P$2:$P$2705,Market_Panel!$A$2:$A$2705,A22) -> 0.54614014
A23: CIN | B23: Established | C23: Cincinnati | D23: =INDEX(Pop_Inputs!$O$2:$O$29,MATCH(C23,Pop_Inputs!$A$2:$A$29,0)) -> 2265051 | E23: =COUNTIF($C$21:$C$50,C23) -> 1 | F23: =D23/E23 -> 2265051 | G23: =LN(F23) -> 14.633108 | H23: =AVERAGEIFS(Market_Panel!$M$2:$M$2705,Market_Panel!$A$2:$A$2705,A23,Market_Panel!$B$2:$B$2705,">=1995") -> -0.017757797 | I23: =$C$53+$C$52*G23 -> -0.01487313 | J23: =H23-I23 -> -0.0028846673 | K23: =AVERAGEIFS(Market_Panel!$M$2:$M$2705,Market_Panel!$A$2:$A$2705,A23) -> -0.0010307849 | L23: =AVERAGEIFS(Market_Panel!$P$2:$P$2705,Market_Panel!$A$2:$A$2705,A23) -> -0.77301997
A24: PIT | B24: Established | C24: Pittsburgh | D24: =INDEX(Pop_Inputs!$O$2:$O$29,MATCH(C24,Pop_Inputs!$A$2:$A$29,0)) -> 2429917 | E24: =COUNTIF($C$21:$C$50,C24) -> 1 | F24: =D24/E24 -> 2429917 | G24: =LN(F24) -> 14.703368 | H24: =AVERAGEIFS(Market_Panel!$M$2:$M$2705,Market_Panel!$A$2:$A$2705,A24,Market_Panel!$B$2:$B$2705,">=1995") -> -0.054481867 | I24: =$C$53+$C$52*G24 -> -0.013202037 | J24: =H24-I24 -> -0.04127983 | K24: =AVERAGEIFS(Market_Panel!$M$2:$M$2705,Market_Panel!$A$2:$A$2705,A24) -> 0.0032907952 | L24: =AVERAGEIFS(Market_Panel!$P$2:$P$2705,Market_Panel!$A$2:$A$2705,A24) -> -0.58974549
A25: STL | B25: Established | C25: St. Louis | D25: =INDEX(Pop_Inputs!$O$2:$O$29,MATCH(C25,Pop_Inputs!$A$2:$A$29,0)) -> 2809299 | E25: =COUNTIF($C$21:$C$50,C25) -> 1 | F25: =D25/E25 -> 2809299 | G25: =LN(F25) -> 14.848446 | H25: =AVERAGEIFS(Market_Panel!$M$2:$M$2705,Market_Panel!$A$2:$A$2705,A25,Market_Panel!$B$2:$B$2705,">=1995") -> 0.037852754 | I25: =$C$53+$C$52*G25 -> -0.0097514351 | J25: =H25-I25 -> 0.047604189 | K25: =AVERAGEIFS(Market_Panel!$M$2:$M$2705,Market_Panel!$A$2:$A$2705,A25) -> 0.020841928 | L25: =AVERAGEIFS(Market_Panel!$P$2:$P$2705,Market_Panel!$A$2:$A$2705,A25) -> -0.71539602
A26: PHI | B26: Established | C26: Philadelphia | D26: =INDEX(Pop_Inputs!$O$2:$O$29,MATCH(C26,Pop_Inputs!$A$2:$A$29,0)) -> 6245051 | E26: =COUNTIF($C$21:$C$50,C26) -> 1 | F26: =D26/E26 -> 6245051 | G26: =LN(F26) -> 15.6473 | H26: =AVERAGEIFS(Market_Panel!$M$2:$M$2705,Market_Panel!$A$2:$A$2705,A26,Market_Panel!$B$2:$B$2705,">=1995") -> 0.0033465141 | I26: =$C$53+$C$52*G26 -> 0.009248897 | J26: =H26-I26 -> -0.0059023829 | K26: =AVERAGEIFS(Market_Panel!$M$2:$M$2705,Market_Panel!$A$2:$A$2705,A26) -> -0.031505484 | L26: =AVERAGEIFS(Market_Panel!$P$2:$P$2705,Market_Panel!$A$2:$A$2705,A26) -> 0.41423074
A27: SFG | B27: Established | C27: San Francisco | D27: =INDEX(Pop_Inputs!$O$2:$O$29,MATCH(C27,Pop_Inputs!$A$2:$A$29,0)) -> 4648486 | E27: =COUNTIF($C$21:$C$50,C27) -> 2 | F27: =D27/E27 -> 2324243 | G27: =LN(F27) -> 14.658905 | H27: =AVERAGEIFS(Market_Panel!$M$2:$M$2705,Market_Panel!$A$2:$A$2705,A27,Market_Panel!$B$2:$B$2705,">=1995") -> 0.016108426 | I27: =$C$53+$C$52*G27 -> -0.014259559 | J27: =H27-I27 -> 0.030367985 | K27: =AVERAGEIFS(Market_Panel!$M$2:$M$2705,Market_Panel!$A$2:$A$2705,A27) -> 0.033408434 | L27: =AVERAGEIFS(Market_Panel!$P$2:$P$2705,Market_Panel!$A$2:$A$2705,A27) -> 0.34687857
A28: LAD | B28: Established | C28: Los Angeles | D28: =INDEX(Pop_Inputs!$O$2:$O$29,MATCH(C28,Pop_Inputs!$A$2:$A$29,0)) -> 13200998 | E28: =COUNTIF($C$21:$C$50,C28) -> 2 | F28: =D28/E28 -> 6600499 | G28: =LN(F28) -> 15.702656 | H28: =AVERAGEIFS(Market_Panel!$M$2:$M$2705,Market_Panel!$A$2:$A$2705,A28,Market_Panel!$B$2:$B$2705,">=1995") -> 0.063695579 | I28: =$C$53+$C$52*G28 -> 0.010565509 | J28: =H28-I28 -> 0.05313007 | K28: =AVERAGEIFS(Market_Panel!$M$2:$M$2705,Market_Panel!$A$2:$A$2705,A28) -> 0.031779889 | L28: =AVERAGEIFS(Market_Panel!$P$2:$P$2705,Market_Panel!$A$2:$A$2705,A28) -> 0.78593651
A29: BAL | B29: Established | C29: Baltimore | D29: =INDEX(Pop_Inputs!$O$2:$O$29,MATCH(C29,Pop_Inputs!$A$2:$A$29,0)) -> 2859024 | E29: =COUNTIF($C$21:$C$50,C29) -> 1 | F29: =D29/E29 -> 2859024 | G29: =LN(F29) -> 14.865991 | H29: =AVERAGEIFS(Market_Panel!$M$2:$M$2705,Market_Panel!$A$2:$A$2705,A29,Market_Panel!$B$2:$B$2705,">=1995") -> -0.032801082 | I29: =$C$53+$C$52*G29 -> -0.0093341288 | J29: =H29-I29 -> -0.023466954 | K29: =AVERAGEIFS(Market_Panel!$M$2:$M$2705,Market_Panel!$A$2:$A$2705,A29) -> -0.025935978 | L29: =AVERAGEIFS(Market_Panel!$P$2:$P$2705,Market_Panel!$A$2:$A$2705,A29) -> -0.41974388
A30: BOS | B30: Established | C30: Boston | D30: =INDEX(Pop_Inputs!$O$2:$O$29,MATCH(C30,Pop_Inputs!$A$2:$A$29,0)) -> 4941632 | E30: =COUNTIF($C$21:$C$50,C30) -> 1 | F30: =D30/E30 -> 4941632 | G30: =LN(F30) -> 15.413206 | H30: =AVERAGEIFS(Market_Panel!$M$2:$M$2705,Market_Panel!$A$2:$A$2705,A30,Market_Panel!$B$2:$B$2705,">=1995") -> 0.041844607 | I30: =$C$53+$C$52*G30 -> 0.0036811016 | J30: =H30-I30 -> 0.038163505 | K30: =AVERAGEIFS(Market_Panel!$M$2:$M$2705,Market_Panel!$A$2:$A$2705,A30) -> 0.017631147 | L30: =AVERAGEIFS(Market_Panel!$P$2:$P$2705,Market_Panel!$A$2:$A$2705,A30) -> -0.52883301
A31: CHW | B31: Established | C31: Chicago | D31: =INDEX(Pop_Inputs!$O$2:$O$29,MATCH(C31,Pop_Inputs!$A$2:$A$29,0)) -> 9618502 | E31: =COUNTIF($C$21:$C$50,C31) -> 2 | F31: =D31/E31 -> 4809251 | G31: =LN(F31) -> 15.386052 | H31: =AVERAGEIFS(Market_Panel!$M$2:$M$2705,Market_Panel!$A$2:$A$2705,A31,Market_Panel!$B$2:$B$2705,">=1995") -> -0.01653759 | I31: =$C$53+$C$52*G31 -> 0.0030352511 | J31: =H31-I31 -> -0.019572841 | K31: =AVERAGEIFS(Market_Panel!$M$2:$M$2705,Market_Panel!$A$2:$A$2705,A31) -> -0.00068355747 | L31: =AVERAGEIFS(Market_Panel!$P$2:$P$2705,Market_Panel!$A$2:$A$2705,A31) -> 0.54614014
A32: CLE | B32: Established | C32: Cleveland | D32: =INDEX(Pop_Inputs!$O$2:$O$29,MATCH(C32,Pop_Inputs!$A$2:$A$29,0)) -> 2171877 | E32: =COUNTIF($C$21:$C$50,C32) -> 1 | F32: =D32/E32 -> 2171877 | G32: =LN(F32) -> 14.591102 | H32: =AVERAGEIFS(Market_Panel!$M$2:$M$2705,Market_Panel!$A$2:$A$2705,A32,Market_Panel!$B$2:$B$2705,">=1995") -> 0.033630377 | I32: =$C$53+$C$52*G32 -> -0.015872209 | J32: =H32-I32 -> 0.049502586 | K32: =AVERAGEIFS(Market_Panel!$M$2:$M$2705,Market_Panel!$A$2:$A$2705,A32) -> 0.01389943 | L32: =AVERAGEIFS(Market_Panel!$P$2:$P$2705,Market_Panel!$A$2:$A$2705,A32) -> -0.31098606
... A50: TBD | B50: Expansion | C50: Tampa | D50: =INDEX(Pop_Inputs!$O$2:$O$29,MATCH(C50,Pop_Inputs!$A$2:$A$29,0)) -> 3175275 | E50: =COUNTIF($C$21:$C$50,C50) -> 1 | F50: =D50/E50 -> 3175275 | G50: =LN(F50) -> 14.970905 | H50: =AVERAGEIFS(Market_Panel!$M$2:$M$2705,Market_Panel!$A$2:$A$2705,A50,Market_Panel!$B$2:$B$2705,">=1995") -> -0.0068966699 | I50: =$C$53+$C$52*G50 -> -0.0068388058 | J50: =H50-I50 -> -5.7864149e-05 | K50: =AVERAGEIFS(Market_Panel!$M$2:$M$2705,Market_Panel!$A$2:$A$2705,A50) -> -0.0068966699 | L50: =AVERAGEIFS(Market_Panel!$P$2:$P$2705,Market_Panel!$A$2:$A$2705,A50) -> -0.89842011
A52: Cross-section slope (30 clubs) | C52: =SLOPE(H21:H50,G21:G50) -> 0.023784477
A53: Cross-section intercept | C53: =INTERCEPT(H21:H50,G21:G50) -> -0.36291394
A54: Cross-section correlation | C54: =CORREL(H21:H50,G21:G50) -> 0.35280286
A55: Wins/162 for a market twice the size | C55: =C52*LN(2)*162 -> 2.6707552
A57: Payroll relationships (1985-2025 team-seasons with payroll)
A58: Correlation: relative payroll vs relative market size | C58: =CORREL(Market_Panel!$Y$2:$Y$2705,Market_Panel!$P$2:$P$2705) -> 0.41645709
A59: Correlation: relative payroll vs win% vs league | C59: =CORREL(Market_Panel!$Y$2:$Y$2705,Market_Panel!$M$2:$M$2705) -> 0.35804889
A60: Slope: win% per ln unit of relative payroll | C60: =SLOPE(Market_Panel!$M$2:$M$2705,Market_Panel!$Y$2:$Y$2705) -> 0.066631377
A61: Wins/162 for a payroll twice the size | C61: =C60*LN(2)*162 -> 7.4820269

Sheet Hole_Adjusted
A1: Digging out of the hole: expansion clubs judged without the start-up penalty
A2: Entry year = a club's first season. 'Hole' = games under .500 accumulated in the first N seasons. 'Hole-free record' = W-L% after the first 10 seasons for expansion clubs; for established clubs, 1961-2025 (the same calendar span, with no start-up years). Seasons through 2025.
A3: Hole length (seasons) used in 'after the hole' columns: | E3: 5 | F3: (change to test other lengths; the 10-year columns are fixed)
A5: Franchise | B5: Group | C5: Entry year | D5: Seasons played | E5: All-time W-L% | F5: W-L% first N seasons | G5: Games under .500 after first N seasons | H5: W-L% after first N seasons | I5: W-L% first 10 | J5: W-L% after first 10 | K5: Hole-free record (see note) | L5: Rank of 30 by hole-free record | M5: All-time W-L% minus hole-free | N5: Wins per 162 above .500 after hole | O5: Seasons at post-hole pace to erase hole | P5: Share of all-time deficit created in first N
A6: ATL | B6: =Franchise_Totals!C2 -> Established | C6: =_xlfn.MINIFS(Seasons!$B$2:$B$2865,Seasons!$A$2:$A$2865,A6) -> 1876 | D6: =COUNTIFS(Seasons!$A$2:$A$2865,A6) -> 150 | E6: =SUMIFS(Seasons!$D$2:$D$2865,Seasons!$A$2:$A$2865,A6)/(SUMIFS(Seasons!$D$2:$D$2865,Seasons!$A$2:$A$2865,A6)+SUMIFS(Seasons!$E$2:$E$2865,Seasons!$A$2:$A$2865,A6)) -> 0.50348706 | F6: =IF(B6<>"Expansion","",SUMIFS(Seasons!$D$2:$D$2865,Seasons!$A$2:$A$2865,A6,Seasons!$B$2:$B$2865,"<"&(C6+$E$3))/(SUMIFS(Seasons!$D$2:$D$2865,Seasons!$A$2:$A$2865,A6,Seasons!$B$2:$B$2865,"<"&(C6+$E$3))+SUMIFS(Seasons!$E$2:$E$2865,Seasons!$A$2:$A$2865,A6,Seasons!$B$2:$B$2865,"<"&(C6+$E$3)))) | G6: =IF(B6<>"Expansion","",(SUMIFS(Seasons!$E$2:$E$2865,Seasons!$A$2:$A$2865,A6,Seasons!$B$2:$B$2865,"<"&(C6+$E$3))-SUMIFS(Seasons!$D$2:$D$2865,Seasons!$A$2:$A$2865,A6,Seasons!$B$2:$B$2865,"<"&(C6+$E$3)))/2) | H6: =IF(B6<>"Expansion","",SUMIFS(Seasons!$D$2:$D$2865,Seasons!$A$2:$A$2865,A6,Seasons!$B$2:$B$2865,">="&(C6+$E$3))/(SUMIFS(Seasons!$D$2:$D$2865,Seasons!$A$2:$A$2865,A6,Seasons!$B$2:$B$2865,">="&(C6+$E$3))+SUMIFS(Seasons!$E$2:$E$2865,Seasons!$A$2:$A$2865,A6,Seasons!$B$2:$B$2865,">="&(C6+$E$3)))) | I6: =IF(B6<>"Expansion","",SUMIFS(Seasons!$D$2:$D$2865,Seasons!$A$2:$A$2865,A6,Seasons!$B$2:$B$2865,"<"&(C6+10))/(SUMIFS(Seasons!$D$2:$D$2865,Seasons!$A$2:$A$2865,A6,Seasons!$B$2:$B$2865,"<"&(C6+10))+SUMIFS(Seasons!$E$2:$E$2865,Seasons!$A$2:$A$2865,A6,Seasons!$B$2:$B$2865,"<"&(C6+10)))) | J6: =IF(B6<>"Expansion","",SUMIFS(Seasons!$D$2:$D$2865,Seasons!$A$2:$A$2865,A6,Seasons!$B$2:$B$2865,">="&(C6+10))/(SUMIFS(Seasons!$D$2:$D$2865,Seasons!$A$2:$A$2865,A6,Seasons!$B$2:$B$2865,">="&(C6+10))+SUMIFS(Seasons!$E$2:$E$2865,Seasons!$A$2:$A$2865,A6,Seasons!$B$2:$B$2865,">="&(C6+10)))) | K6: =IF(B6="Expansion",J6,SUMIFS(Seasons!$D$2:$D$2865,Seasons!$A$2:$A$2865,A6,Seasons!$B$2:$B$2865,">=1961")/(SUMIFS(Seasons!$D$2:$D$2865,Seasons!$A$2:$A$2865,A6,Seasons!$B$2:$B$2865,">=1961")+SUMIFS(Seasons!$E$2:$E$2865,Seasons!$A$2:$A$2865,A6,Seasons!$B$2:$B$2865,">=1961"))) -> 0.52097324 | L6: =RANK(K6,$K$6:$K$35) -> 6 | M6: =E6-K6 -> -0.017486172 | N6: =IF(B6="Expansion",(H6-0.5)*162,"") | O6: =IF(B6<>"Expansion","",IF(E6>=0.5,"already erased",IF(H6>0.5,G6/((H6-0.5)*162),"never at post-hole pace"))) | P6: =IF(B6<>"Expansion","",IF((SUMIFS(Seasons!$E$2:$E$2865,Seasons!$A$2:$A$2865,A6)-SUMIFS(Seasons!$D$2:$D$2865,Seasons!$A$2:$A$2865,A6))<=0,"n/a (all-time .500+)",IF(G6/((SUMIFS(Seasons!$E$2:$E$2865,Seasons!$A$2:$A$2865,A6)-SUMIFS(Seasons!$D$2:$D$2865,Seasons!$A$2:$A$2865,A6))/2)>1,">100%",G6/((SUMIFS(Seasons!$E$2:$E$2865,Seasons!$A$2:$A$2865,A6)-SUMIFS(Seasons!$D$2:$D$2865,Seasons!$A$2:$A$2865,A6))/2))))
A7: CHC | B7: =Franchise_Totals!C3 -> Established | C7: =_xlfn.MINIFS(Seasons!$B$2:$B$2865,Seasons!$A$2:$A$2865,A7) -> 1876 | D7: =COUNTIFS(Seasons!$A$2:$A$2865,A7) -> 150 | E7: =SUMIFS(Seasons!$D$2:$D$2865,Seasons!$A$2:$A$2865,A7)/(SUMIFS(Seasons!$D$2:$D$2865,Seasons!$A$2:$A$2865,A7)+SUMIFS(Seasons!$E$2:$E$2865,Seasons!$A$2:$A$2865,A7)) -> 0.51307513 | F7: =IF(B7<>"Expansion","",SUMIFS(Seasons!$D$2:$D$2865,Seasons!$A$2:$A$2865,A7,Seasons!$B$2:$B$2865,"<"&(C7+$E$3))/(SUMIFS(Seasons!$D$2:$D$2865,Seasons!$A$2:$A$2865,A7,Seasons!$B$2:$B$2865,"<"&(C7+$E$3))+SUMIFS(Seasons!$E$2:$E$2865,Seasons!$A$2:$A$2865,A7,Seasons!$B$2:$B$2865,"<"&(C7+$E$3)))) | G7: =IF(B7<>"Expansion","",(SUMIFS(Seasons!$E$2:$E$2865,Seasons!$A$2:$A$2865,A7,Seasons!$B$2:$B$2865,"<"&(C7+$E$3))-SUMIFS(Seasons!$D$2:$D$2865,Seasons!$A$2:$A$2865,A7,Seasons!$B$2:$B$2865,"<"&(C7+$E$3)))/2) | H7: =IF(B7<>"Expansion","",SUMIFS(Seasons!$D$2:$D$2865,Seasons!$A$2:$A$2865,A7,Seasons!$B$2:$B$2865,">="&(C7+$E$3))/(SUMIFS(Seasons!$D$2:$D$2865,Seasons!$A$2:$A$2865,A7,Seasons!$B$2:$B$2865,">="&(C7+$E$3))+SUMIFS(Seasons!$E$2:$E$2865,Seasons!$A$2:$A$2865,A7,Seasons!$B$2:$B$2865,">="&(C7+$E$3)))) | I7: =IF(B7<>"Expansion","",SUMIFS(Seasons!$D$2:$D$2865,Seasons!$A$2:$A$2865,A7,Seasons!$B$2:$B$2865,"<"&(C7+10))/(SUMIFS(Seasons!$D$2:$D$2865,Seasons!$A$2:$A$2865,A7,Seasons!$B$2:$B$2865,"<"&(C7+10))+SUMIFS(Seasons!$E$2:$E$2865,Seasons!$A$2:$A$2865,A7,Seasons!$B$2:$B$2865,"<"&(C7+10)))) | J7: =IF(B7<>"Expansion","",SUMIFS(Seasons!$D$2:$D$2865,Seasons!$A$2:$A$2865,A7,Seasons!$B$2:$B$2865,">="&(C7+10))/(SUMIFS(Seasons!$D$2:$D$2865,Seasons!$A$2:$A$2865,A7,Seasons!$B$2:$B$2865,">="&(C7+10))+SUMIFS(Seasons!$E$2:$E$2865,Seasons!$A$2:$A$2865,A7,Seasons!$B$2:$B$2865,">="&(C7+10)))) | K7: =IF(B7="Expansion",J7,SUMIFS(Seasons!$D$2:$D$2865,Seasons!$A$2:$A$2865,A7,Seasons!$B$2:$B$2865,">=1961")/(SUMIFS(Seasons!$D$2:$D$2865,Seasons!$A$2:$A$2865,A7,Seasons!$B$2:$B$2865,">=1961")+SUMIFS(Seasons!$E$2:$E$2865,Seasons!$A$2:$A$2865,A7,Seasons!$B$2:$B$2865,">=1961"))) -> 0.48603678 | L7: =RANK(K7,$K$6:$K$35) -> 25 | M7: =E7-K7 -> 0.027038345 | N7: =IF(B7="Expansion",(H7-0.5)*162,"") | O7: =IF(B7<>"Expansion","",IF(E7>=0.5,"already erased",IF(H7>0.5,G7/((H7-0.5)*162),"never at post-hole pace"))) | P7: =IF(B7<>"Expansion","",IF((SUMIFS(Seasons!$E$2:$E$2865,Seasons!$A$2:$A$2865,A7)-SUMIFS(Seasons!$D$2:$D$2865,Seasons!$A$2:$A$2865,A7))<=0,"n/a (all-time .500+)",IF(G7/((SUMIFS(Seasons!$E$2:$E$2865,Seasons!$A$2:$A$2865,A7)-SUMIFS(Seasons!$D$2:$D$2865,Seasons!$A$2:$A$2865,A7))/2)>1,">100%",G7/((SUMIFS(Seasons!$E$2:$E$2865,Seasons!$A$2:$A$2865,A7)-SUMIFS(Seasons!$D$2:$D$2865,Seasons!$A$2:$A$2865,A7))/2))))
A8: CIN | B8: =Franchise_Totals!C4 -> Established | C8: =_xlfn.MINIFS(Seasons!$B$2:$B$2865,Seasons!$A$2:$A$2865,A8) -> 1882 | D8: =COUNTIFS(Seasons!$A$2:$A$2865,A8) -> 144 | E8: =SUMIFS(Seasons!$D$2:$D$2865,Seasons!$A$2:$A$2865,A8)/(SUMIFS(Seasons!$D$2:$D$2865,Seasons!$A$2:$A$2865,A8)+SUMIFS(Seasons!$E$2:$E$2865,Seasons!$A$2:$A$2865,A8)) -> 0.50393377 | F8: =IF(B8<>"Expansion","",SUMIFS(Seasons!$D$2:$D$2865,Seasons!$A$2:$A$2865,A8,Seasons!$B$2:$B$2865,"<"&(C8+$E$3))/(SUMIFS(Seasons!$D$2:$D$2865,Seasons!$A$2:$A$2865,A8,Seasons!$B$2:$B$2865,"<"&(C8+$E$3))+SUMIFS(Seasons!$E$2:$E$2865,Seasons!$A$2:$A$2865,A8,Seasons!$B$2:$B$2865,"<"&(C8+$E$3)))) | G8: =IF(B8<>"Expansion","",(SUMIFS(Seasons!$E$2:$E$2865,Seasons!$A$2:$A$2865,A8,Seasons!$B$2:$B$2865,"<"&(C8+$E$3))-SUMIFS(Seasons!$D$2:$D$2865,Seasons!$A$2:$A$2865,A8,Seasons!$B$2:$B$2865,"<"&(C8+$E$3)))/2) | H8: =IF(B8<>"Expansion","",SUMIFS(Seasons!$D$2:$D$2865,Seasons!$A$2:$A$2865,A8,Seasons!$B$2:$B$2865,">="&(C8+$E$3))/(SUMIFS(Seasons!$D$2:$D$2865,Seasons!$A$2:$A$2865,A8,Seasons!$B$2:$B$2865,">="&(C8+$E$3))+SUMIFS(Seasons!$E$2:$E$2865,Seasons!$A$2:$A$2865,A8,Seasons!$B$2:$B$2865,">="&(C8+$E$3)))) | I8: =IF(B8<>"Expansion","",SUMIFS(Seasons!$D$2:$D$2865,Seasons!$A$2:$A$2865,A8,Seasons!$B$2:$B$2865,"<"&(C8+10))/(SUMIFS(Seasons!$D$2:$D$2865,Seasons!$A$2:$A$2865,A8,Seasons!$B$2:$B$2865,"<"&(C8+10))+SUMIFS(Seasons!$E$2:$E$2865,Seasons!$A$2:$A$2865,A8,Seasons!$B$2:$B$2865,"<"&(C8+10)))) | J8: =IF(B8<>"Expansion","",SUMIFS(Seasons!$D$2:$D$2865,Seasons!$A$2:$A$2865,A8,Seasons!$B$2:$B$2865,">="&(C8+10))/(SUMIFS(Seasons!$D$2:$D$2865,Seasons!$A$2:$A$2865,A8,Seasons!$B$2:$B$2865,">="&(C8+10))+SUMIFS(Seasons!$E$2:$E$2865,Seasons!$A$2:$A$2865,A8,Seasons!$B$2:$B$2865,">="&(C8+10)))) | K8: =IF(B8="Expansion",J8,SUMIFS(Seasons!$D$2:$D$2865,Seasons!$A$2:$A$2865,A8,Seasons!$B$2:$B$2865,">=1961")/(SUMIFS(Seasons!$D$2:$D$2865,Seasons!$A$2:$A$2865,A8,Seasons!$B$2:$B$2865,">=1961")+SUMIFS(Seasons!$E$2:$E$2865,Seasons!$A$2:$A$2865,A8,Seasons!$B$2:$B$2865,">=1961"))) -> 0.51326917 | L8: =RANK(K8,$K$6:$K$35) -> 9 | M8: =E8-K8 -> -0.0093354083 | N8: =IF(B8="Expansion",(H8-0.5)*162,"") | O8: =IF(B8<>"Expansion","",IF(E8>=0.5,"already erased",IF(H8>0.5,G8/((H8-0.5)*162),"never at post-hole pace"))) | P8: =IF(B8<>"Expansion","",IF((SUMIFS(Seasons!$E$2:$E$2865,Seasons!$A$2:$A$2865,A8)-SUMIFS(Seasons!$D$2:$D$2865,Seasons!$A$2:$A$2865,A8))<=0,"n/a (all-time .500+)",IF(G8/((SUMIFS(Seasons!$E$2:$E$2865,Seasons!$A$2:$A$2865,A8)-SUMIFS(Seasons!$D$2:$D$2865,Seasons!$A$2:$A$2865,A8))/2)>1,">100%",G8/((SUMIFS(Seasons!$E$2:$E$2865,Seasons!$A$2:$A$2865,A8)-SUMIFS(Seasons!$D$2:$D$2865,Seasons!$A$2:$A$2865,A8))/2))))
A9: PIT | B9: =Franchise_Totals!C5 -> Established | C9: =_xlfn.MINIFS(Seasons!$B$2:$B$2865,Seasons!$A$2:$A$2865,A9) -> 1882 | D9: =COUNTIFS(Seasons!$A$2:$A$2865,A9) -> 144 | E9: =SUMIFS(Seasons!$D$2:$D$2865,Seasons!$A$2:$A$2865,A9)/(SUMIFS(Seasons!$D$2:$D$2865,Seasons!$A$2:$A$2865,A9)+SUMIFS(Seasons!$E$2:$E$2865,Seasons!$A$2:$A$2865,A9)) -> 0.5 | F9: =IF(B9<>"Expansion","",SUMIFS(Seasons!$D$2:$D$2865,Seasons!$A$2:$A$2865,A9,Seasons!$B$2:$B$2865,"<"&(C9+$E$3))/(SUMIFS(Seasons!$D$2:$D$2865,Seasons!$A$2:$A$2865,A9,Seasons!$B$2:$B$2865,"<"&(C9+$E$3))+SUMIFS(Seasons!$E$2:$E$2865,Seasons!$A$2:$A$2865,A9,Seasons!$B$2:$B$2865,"<"&(C9+$E$3)))) | G9: =IF(B9<>"Expansion","",(SUMIFS(Seasons!$E$2:$E$2865,Seasons!$A$2:$A$2865,A9,Seasons!$B$2:$B$2865,"<"&(C9+$E$3))-SUMIFS(Seasons!$D$2:$D$2865,Seasons!$A$2:$A$2865,A9,Seasons!$B$2:$B$2865,"<"&(C9+$E$3)))/2) | H9: =IF(B9<>"Expansion","",SUMIFS(Seasons!$D$2:$D$2865,Seasons!$A$2:$A$2865,A9,Seasons!$B$2:$B$2865,">="&(C9+$E$3))/(SUMIFS(Seasons!$D$2:$D$2865,Seasons!$A$2:$A$2865,A9,Seasons!$B$2:$B$2865,">="&(C9+$E$3))+SUMIFS(Seasons!$E$2:$E$2865,Seasons!$A$2:$A$2865,A9,Seasons!$B$2:$B$2865,">="&(C9+$E$3)))) | I9: =IF(B9<>"Expansion","",SUMIFS(Seasons!$D$2:$D$2865,Seasons!$A$2:$A$2865,A9,Seasons!$B$2:$B$2865,"<"&(C9+10))/(SUMIFS(Seasons!$D$2:$D$2865,Seasons!$A$2:$A$2865,A9,Seasons!$B$2:$B$2865,"<"&(C9+10))+SUMIFS(Seasons!$E$2:$E$2865,Seasons!$A$2:$A$2865,A9,Seasons!$B$2:$B$2865,"<"&(C9+10)))) | J9: =IF(B9<>"Expansion","",SUMIFS(Seasons!$D$2:$D$2865,Seasons!$A$2:$A$2865,A9,Seasons!$B$2:$B$2865,">="&(C9+10))/(SUMIFS(Seasons!$D$2:$D$2865,Seasons!$A$2:$A$2865,A9,Seasons!$B$2:$B$2865,">="&(C9+10))+SUMIFS(Seasons!$E$2:$E$2865,Seasons!$A$2:$A$2865,A9,Seasons!$B$2:$B$2865,">="&(C9+10)))) | K9: =IF(B9="Expansion",J9,SUMIFS(Seasons!$D$2:$D$2865,Seasons!$A$2:$A$2865,A9,Seasons!$B$2:$B$2865,">=1961")/(SUMIFS(Seasons!$D$2:$D$2865,Seasons!$A$2:$A$2865,A9,Seasons!$B$2:$B$2865,">=1961")+SUMIFS(Seasons!$E$2:$E$2865,Seasons!$A$2:$A$2865,A9,Seasons!$B$2:$B$2865,">=1961"))) -> 0.48788321 | L9: =RANK(K9,$K$6:$K$35) -> 23 | M9: =E9-K9 -> 0.012116788 | N9: =IF(B9="Expansion",(H9-0.5)*162,"") | O9: =IF(B9<>"Expansion","",IF(E9>=0.5,"already erased",IF(H9>0.5,G9/((H9-0.5)*162),"never at post-hole pace"))) | P9: =IF(B9<>"Expansion","",IF((SUMIFS(Seasons!$E$2:$E$2865,Seasons!$A$2:$A$2865,A9)-SUMIFS(Seasons!$D$2:$D$2865,Seasons!$A$2:$A$2865,A9))<=0,"n/a (all-time .500+)",IF(G9/((SUMIFS(Seasons!$E$2:$E$2865,Seasons!$A$2:$A$2865,A9)-SUMIFS(Seasons!$D$2:$D$2865,Seasons!$A$2:$A$2865,A9))/2)>1,">100%",G9/((SUMIFS(Seasons!$E$2:$E$2865,Seasons!$A$2:$A$2865,A9)-SUMIFS(Seasons!$D$2:$D$2865,Seasons!$A$2:$A$2865,A9))/2))))
A10: STL | B10: =Franchise_Totals!C6 -> Established | C10: =_xlfn.MINIFS(Seasons!$B$2:$B$2865,Seasons!$A$2:$A$2865,A10) -> 1882 | D10: =COUNTIFS(Seasons!$A$2:$A$2865,A10) -> 144 | E10: =SUMIFS(Seasons!$D$2:$D$2865,Seasons!$A$2:$A$2865,A10)/(SUMIFS(Seasons!$D$2:$D$2865,Seasons!$A$2:$A$2865,A10)+SUMIFS(Seasons!$E$2:$E$2865,Seasons!$A$2:$A$2865,A10)) -> 0.52006957 | F10: =IF(B10<>"Expansion","",SUMIFS(Seasons!$D$2:$D$2865,Seasons!$A$2:$A$2865,A10,Seasons!$B$2:$B$2865,"<"&(C10+$E$3))/(SUMIFS(Seasons!$D$2:$D$2865,Seasons!$A$2:$A$2865,A10,Seasons!$B$2:$B$2865,"<"&(C10+$E$3))+SUMIFS(Seasons!$E$2:$E$2865,Seasons!$A$2:$A$2865,A10,Seasons!$B$2:$B$2865,"<"&(C10+$E$3)))) | G10: =IF(B10<>"Expansion","",(SUMIFS(Seasons!$E$2:$E$2865,Seasons!$A$2:$A$2865,A10,Seasons!$B$2:$B$2865,"<"&(C10+$E$3))-SUMIFS(Seasons!$D$2:$D$2865,Seasons!$A$2:$A$2865,A10,Seasons!$B$2:$B$2865,"<"&(C10+$E$3)))/2) | H10: =IF(B10<>"Expansion","",SUMIFS(Seasons!$D$2:$D$2865,Seasons!$A$2:$A$2865,A10,Seasons!$B$2:$B$2865,">="&(C10+$E$3))/(SUMIFS(Seasons!$D$2:$D$2865,Seasons!$A$2:$A$2865,A10,Seasons!$B$2:$B$2865,">="&(C10+$E$3))+SUMIFS(Seasons!$E$2:$E$2865,Seasons!$A$2:$A$2865,A10,Seasons!$B$2:$B$2865,">="&(C10+$E$3)))) | I10: =IF(B10<>"Expansion","",SUMIFS(Seasons!$D$2:$D$2865,Seasons!$A$2:$A$2865,A10,Seasons!$B$2:$B$2865,"<"&(C10+10))/(SUMIFS(Seasons!$D$2:$D$2865,Seasons!$A$2:$A$2865,A10,Seasons!$B$2:$B$2865,"<"&(C10+10))+SUMIFS(Seasons!$E$2:$E$2865,Seasons!$A$2:$A$2865,A10,Seasons!$B$2:$B$2865,"<"&(C10+10)))) | J10: =IF(B10<>"Expansion","",SUMIFS(Seasons!$D$2:$D$2865,Seasons!$A$2:$A$2865,A10,Seasons!$B$2:$B$2865,">="&(C10+10))/(SUMIFS(Seasons!$D$2:$D$2865,Seasons!$A$2:$A$2865,A10,Seasons!$B$2:$B$2865,">="&(C10+10))+SUMIFS(Seasons!$E$2:$E$2865,Seasons!$A$2:$A$2865,A10,Seasons!$B$2:$B$2865,">="&(C10+10)))) | K10: =IF(B10="Expansion",J10,SUMIFS(Seasons!$D$2:$D$2865,Seasons!$A$2:$A$2865,A10,Seasons!$B$2:$B$2865,">=1961")/(SUMIFS(Seasons!$D$2:$D$2865,Seasons!$A$2:$A$2865,A10,Seasons!$B$2:$B$2865,">=1961")+SUMIFS(Seasons!$E$2:$E$2865,Seasons!$A$2:$A$2865,A10,Seasons!$B$2:$B$2865,">=1961"))) -> 0.52903979 | L10: =RANK(K10,$K$6:$K$35) -> 5 | M10: =E10-K10 -> -0.0089702215 | N10: =IF(B10="Expansion",(H10-0.5)*162,"") | O10: =IF(B10<>"Expansion","",IF(E10>=0.5,"already erased",IF(H10>0.5,G10/((H10-0.5)*162),"never at post-hole pace"))) | P10: =IF(B10<>"Expansion","",IF((SUMIFS(Seasons!$E$2:$E$2865,Seasons!$A$2:$A$2865,A10)-SUMIFS(Seasons!$D$2:$D$2865,Seasons!$A$2:$A$2865,A10))<=0,"n/a (all-time .500+)",IF(G10/((SUMIFS(Seasons!$E$2:$E$2865,Seasons!$A$2:$A$2865,A10)-SUMIFS(Seasons!$D$2:$D$2865,Seasons!$A$2:$A$2865,A10))/2)>1,">100%",G10/((SUMIFS(Seasons!$E$2:$E$2865,Seasons!$A$2:$A$2865,A10)-SUMIFS(Seasons!$D$2:$D$2865,Seasons!$A$2:$A$2865,A10))/2))))
A11: PHI | B11: =Franchise_Totals!C7 -> Established | C11: =_xlfn.MINIFS(Seasons!$B$2:$B$2865,Seasons!$A$2:$A$2865,A11) -> 1883 | D11: =COUNTIFS(Seasons!$A$2:$A$2865,A11) -> 143 | E11: =SUMIFS(Seasons!$D$2:$D$2865,Seasons!$A$2:$A$2865,A11)/(SUMIFS(Seasons!$D$2:$D$2865,Seasons!$A$2:$A$2865,A11)+SUMIFS(Seasons!$E$2:$E$2865,Seasons!$A$2:$A$2865,A11)) -> 0.47490205 | F11: =IF(B11<>"Expansion","",SUMIFS(Seasons!$D$2:$D$2865,Seasons!$A$2:$A$2865,A11,Seasons!$B$2:$B$2865,"<"&(C11+$E$3))/(SUMIFS(Seasons!$D$2:$D$2865,Seasons!$A$2:$A$2865,A11,Seasons!$B$2:$B$2865,"<"&(C11+$E$3))+SUMIFS(Seasons!$E$2:$E$2865,Seasons!$A$2:$A$2865,A11,Seasons!$B$2:$B$2865,"<"&(C11+$E$3)))) | G11: =IF(B11<>"Expansion","",(SUMIFS(Seasons!$E$2:$E$2865,Seasons!$A$2:$A$2865,A11,Seasons!$B$2:$B$2865,"<"&(C11+$E$3))-SUMIFS(Seasons!$D$2:$D$2865,Seasons!$A$2:$A$2865,A11,Seasons!$B$2:$B$2865,"<"&(C11+$E$3)))/2) | H11: =IF(B11<>"Expansion","",SUMIFS(Seasons!$D$2:$D$2865,Seasons!$A$2:$A$2865,A11,Seasons!$B$2:$B$2865,">="&(C11+$E$3))/(SUMIFS(Seasons!$D$2:$D$2865,Seasons!$A$2:$A$2865,A11,Seasons!$B$2:$B$2865,">="&(C11+$E$3))+SUMIFS(Seasons!$E$2:$E$2865,Seasons!$A$2:$A$2865,A11,Seasons!$B$2:$B$2865,">="&(C11+$E$3)))) | I11: =IF(B11<>"Expansion","",SUMIFS(Seasons!$D$2:$D$2865,Seasons!$A$2:$A$2865,A11,Seasons!$B$2:$B$2865,"<"&(C11+10))/(SUMIFS(Seasons!$D$2:$D$2865,Seasons!$A$2:$A$2865,A11,Seasons!$B$2:$B$2865,"<"&(C11+10))+SUMIFS(Seasons!$E$2:$E$2865,Seasons!$A$2:$A$2865,A11,Seasons!$B$2:$B$2865,"<"&(C11+10)))) | J11: =IF(B11<>"Expansion","",SUMIFS(Seasons!$D$2:$D$2865,Seasons!$A$2:$A$2865,A11,Seasons!$B$2:$B$2865,">="&(C11+10))/(SUMIFS(Seasons!$D$2:$D$2865,Seasons!$A$2:$A$2865,A11,Seasons!$B$2:$B$2865,">="&(C11+10))+SUMIFS(Seasons!$E$2:$E$2865,Seasons!$A$2:$A$2865,A11,Seasons!$B$2:$B$2865,">="&(C11+10)))) | K11: =IF(B11="Expansion",J11,SUMIFS(Seasons!$D$2:$D$2865,Seasons!$A$2:$A$2865,A11,Seasons!$B$2:$B$2865,">=1961")/(SUMIFS(Seasons!$D$2:$D$2865,Seasons!$A$2:$A$2865,A11,Seasons!$B$2:$B$2865,">=1961")+SUMIFS(Seasons!$E$2:$E$2865,Seasons!$A$2:$A$2865,A11,Seasons!$B$2:$B$2865,">=1961"))) -> 0.4998056 | L11: =RANK(K11,$K$6:$K$35) -> 14 | M11: =E11-K11 -> -0.024903548 | N11: =IF(B11="Expansion",(H11-0.5)*162,"") | O11: =IF(B11<>"Expansion","",IF(E11>=0.5,"already erased",IF(H11>0.5,G11/((H11-0.5)*162),"never at post-hole pace"))) | P11: =IF(B11<>"Expansion","",IF((SUMIFS(Seasons!$E$2:$E$2865,Seasons!$A$2:$A$2865,A11)-SUMIFS(Seasons!$D$2:$D$2865,Seasons!$A$2:$A$2865,A11))<=0,"n/a (all-time .500+)",IF(G11/((SUMIFS(Seasons!$E$2:$E$2865,Seasons!$A$2:$A$2865,A11)-SUMIFS(Seasons!$D$2:$D$2865,Seasons!$A$2:$A$2865,A11))/2)>1,">100%",G11/((SUMIFS(Seasons!$E$2:$E$2865,Seasons!$A$2:$A$2865,A11)-SUMIFS(Seasons!$D$2:$D$2865,Seasons!$A$2:$A$2865,A11))/2))))
A12: SFG | B12: =Franchise_Totals!C8 -> Established | C12: =_xlfn.MINIFS(Seasons!$B$2:$B$2865,Seasons!$A$2:$A$2865,A12) -> 1883 | D12: =COUNTIFS(Seasons!$A$2:$A$2865,A12) -> 143 | E12: =SUMIFS(Seasons!$D$2:$D$2865,Seasons!$A$2:$A$2865,A12)/(SUMIFS(Seasons!$D$2:$D$2865,Seasons!$A$2:$A$2865,A12)+SUMIFS(Seasons!$E$2:$E$2865,Seasons!$A$2:$A$2865,A12)) -> 0.53503361 | F12: =IF(B12<>"Expansion","",SUMIFS(Seasons!$D$2:$D$2865,Seasons!$A$2:$A$2865,A12,Seasons!$B$2:$B$2865,"<"&(C12+$E$3))/(SUMIFS(Seasons!$D$2:$D$2865,Seasons!$A$2:$A$2865,A12,Seasons!$B$2:$B$2865,"<"&(C12+$E$3))+SUMIFS(Seasons!$E$2:$E$2865,Seasons!$A$2:$A$2865,A12,Seasons!$B$2:$B$2865,"<"&(C12+$E$3)))) | G12: =IF(B12<>"Expansion","",(SUMIFS(Seasons!$E$2:$E$2865,Seasons!$A$2:$A$2865,A12,Seasons!$B$2:$B$2865,"<"&(C12+$E$3))-SUMIFS(Seasons!$D$2:$D$2865,Seasons!$A$2:$A$2865,A12,Seasons!$B$2:$B$2865,"<"&(C12+$E$3)))/2) | H12: =IF(B12<>"Expansion","",SUMIFS(Seasons!$D$2:$D$2865,Seasons!$A$2:$A$2865,A12,Seasons!$B$2:$B$2865,">="&(C12+$E$3))/(SUMIFS(Seasons!$D$2:$D$2865,Seasons!$A$2:$A$2865,A12,Seasons!$B$2:$B$2865,">="&(C12+$E$3))+SUMIFS(Seasons!$E$2:$E$2865,Seasons!$A$2:$A$2865,A12,Seasons!$B$2:$B$2865,">="&(C12+$E$3)))) | I12: =IF(B12<>"Expansion","",SUMIFS(Seasons!$D$2:$D$2865,Seasons!$A$2:$A$2865,A12,Seasons!$B$2:$B$2865,"<"&(C12+10))/(SUMIFS(Seasons!$D$2:$D$2865,Seasons!$A$2:$A$2865,A12,Seasons!$B$2:$B$2865,"<"&(C12+10))+SUMIFS(Seasons!$E$2:$E$2865,Seasons!$A$2:$A$2865,A12,Seasons!$B$2:$B$2865,"<"&(C12+10)))) | J12: =IF(B12<>"Expansion","",SUMIFS(Seasons!$D$2:$D$2865,Seasons!$A$2:$A$2865,A12,Seasons!$B$2:$B$2865,">="&(C12+10))/(SUMIFS(Seasons!$D$2:$D$2865,Seasons!$A$2:$A$2865,A12,Seasons!$B$2:$B$2865,">="&(C12+10))+SUMIFS(Seasons!$E$2:$E$2865,Seasons!$A$2:$A$2865,A12,Seasons!$B$2:$B$2865,">="&(C12+10)))) | K12: =IF(B12="Expansion",J12,SUMIFS(Seasons!$D$2:$D$2865,Seasons!$A$2:$A$2865,A12,Seasons!$B$2:$B$2865,">=1961")/(SUMIFS(Seasons!$D$2:$D$2865,Seasons!$A$2:$A$2865,A12,Seasons!$B$2:$B$2865,">=1961")+SUMIFS(Seasons!$E$2:$E$2865,Seasons!$A$2:$A$2865,A12,Seasons!$B$2:$B$2865,">=1961"))) -> 0.51607576 | L12: =RANK(K12,$K$6:$K$35) -> 7 | M12: =E12-K12 -> 0.018957842 | N12: =IF(B12="Expansion",(H12-0.5)*162,"") | O12: =IF(B12<>"Expansion","",IF(E12>=0.5,"already erased",IF(H12>0.5,G12/((H12-0.5)*162),"never at post-hole pace"))) | P12: =IF(B12<>"Expansion","",IF((SUMIFS(Seasons!$E$2:$E$2865,Seasons!$A$2:$A$2865,A12)-SUMIFS(Seasons!$D$2:$D$2865,Seasons!$A$2:$A$2865,A12))<=0,"n/a (all-time .500+)",IF(G12/((SUMIFS(Seasons!$E$2:$E$2865,Seasons!$A$2:$A$2865,A12)-SUMIFS(Seasons!$D$2:$D$2865,Seasons!$A$2:$A$2865,A12))/2)>1,">100%",G12/((SUMIFS(Seasons!$E$2:$E$2865,Seasons!$A$2:$A$2865,A12)-SUMIFS(Seasons!$D$2:$D$2865,Seasons!$A$2:$A$2865,A12))/2))))
A13: LAD | B13: =Franchise_Totals!C9 -> Established | C13: =_xlfn.MINIFS(Seasons!$B$2:$B$2865,Seasons!$A$2:$A$2865,A13) -> 1884 | D13: =COUNTIFS(Seasons!$A$2:$A$2865,A13) -> 142 | E13: =SUMIFS(Seasons!$D$2:$D$2865,Seasons!$A$2:$A$2865,A13)/(SUMIFS(Seasons!$D$2:$D$2865,Seasons!$A$2:$A$2865,A13)+SUMIFS(Seasons!$E$2:$E$2865,Seasons!$A$2:$A$2865,A13)) -> 0.53203767 | F13: =IF(B13<>"Expansion","",SUMIFS(Seasons!$D$2:$D$2865,Seasons!$A$2:$A$2865,A13,Seasons!$B$2:$B$2865,"<"&(C13+$E$3))/(SUMIFS(Seasons!$D$2:$D$2865,Seasons!$A$2:$A$2865,A13,Seasons!$B$2:$B$2865,"<"&(C13+$E$3))+SUMIFS(Seasons!$E$2:$E$2865,Seasons!$A$2:$A$2865,A13,Seasons!$B$2:$B$2865,"<"&(C13+$E$3)))) | G13: =IF(B13<>"Expansion","",(SUMIFS(Seasons!$E$2:$E$2865,Seasons!$A$2:$A$2865,A13,Seasons!$B$2:$B$2865,"<"&(C13+$E$3))-SUMIFS(Seasons!$D$2:$D$2865,Seasons!$A$2:$A$2865,A13,Seasons!$B$2:$B$2865,"<"&(C13+$E$3)))/2) | H13: =IF(B13<>"Expansion","",SUMIFS(Seasons!$D$2:$D$2865,Seasons!$A$2:$A$2865,A13,Seasons!$B$2:$B$2865,">="&(C13+$E$3))/(SUMIFS(Seasons!$D$2:$D$2865,Seasons!$A$2:$A$2865,A13,Seasons!$B$2:$B$2865,">="&(C13+$E$3))+SUMIFS(Seasons!$E$2:$E$2865,Seasons!$A$2:$A$2865,A13,Seasons!$B$2:$B$2865,">="&(C13+$E$3)))) | I13: =IF(B13<>"Expansion","",SUMIFS(Seasons!$D$2:$D$2865,Seasons!$A$2:$A$2865,A13,Seasons!$B$2:$B$2865,"<"&(C13+10))/(SUMIFS(Seasons!$D$2:$D$2865,Seasons!$A$2:$A$2865,A13,Seasons!$B$2:$B$2865,"<"&(C13+10))+SUMIFS(Seasons!$E$2:$E$2865,Seasons!$A$2:$A$2865,A13,Seasons!$B$2:$B$2865,"<"&(C13+10)))) | J13: =IF(B13<>"Expansion","",SUMIFS(Seasons!$D$2:$D$2865,Seasons!$A$2:$A$2865,A13,Seasons!$B$2:$B$2865,">="&(C13+10))/(SUMIFS(Seasons!$D$2:$D$2865,Seasons!$A$2:$A$2865,A13,Seasons!$B$2:$B$2865,">="&(C13+10))+SUMIFS(Seasons!$E$2:$E$2865,Seasons!$A$2:$A$2865,A13,Seasons!$B$2:$B$2865,">="&(C13+10)))) | K13: =IF(B13="Expansion",J13,SUMIFS(Seasons!$D$2:$D$2865,Seasons!$A$2:$A$2865,A13,Seasons!$B$2:$B$2865,">=1961")/(SUMIFS(Seasons!$D$2:$D$2865,Seasons!$A$2:$A$2865,A13,Seasons!$B$2:$B$2865,">=1961")+SUMIFS(Seasons!$E$2:$E$2865,Seasons!$A$2:$A$2865,A13,Seasons!$B$2:$B$2865,">=1961"))) -> 0.54983486 | L13: =RANK(K13,$K$6:$K$35) -> 2 | M13: =E13-K13 -> -0.017797186 | N13: =IF(B13="Expansion",(H13-0.5)*162,"") | O13: =IF(B13<>"Expansion","",IF(E13>=0.5,"already erased",IF(H13>0.5,G13/((H13-0.5)*162),"never at post-hole pace"))) | P13: =IF(B13<>"Expansion","",IF((SUMIFS(Seasons!$E$2:$E$2865,Seasons!$A$2:$A$2865,A13)-SUMIFS(Seasons!$D$2:$D$2865,Seasons!$A$2:$A$2865,A13))<=0,"n/a (all-time .500+)",IF(G13/((SUMIFS(Seasons!$E$2:$E$2865,Seasons!$A$2:$A$2865,A13)-SUMIFS(Seasons!$D$2:$D$2865,Seasons!$A$2:$A$2865,A13))/2)>1,">100%",G13/((SUMIFS(Seasons!$E$2:$E$2865,Seasons!$A$2:$A$2865,A13)-SUMIFS(Seasons!$D$2:$D$2865,Seasons!$A$2:$A$2865,A13))/2))))
A14: BAL | B14: =Franchise_Totals!C10 -> Established | C14: =_xlfn.MINIFS(Seasons!$B$2:$B$2865,Seasons!$A$2:$A$2865,A14) -> 1901 | D14: =COUNTIFS(Seasons!$A$2:$A$2865,A14) -> 125 | E14: =SUMIFS(Seasons!$D$2:$D$2865,Seasons!$A$2:$A$2865,A14)/(SUMIFS(Seasons!$D$2:$D$2865,Seasons!$A$2:$A$2865,A14)+SUMIFS(Seasons!$E$2:$E$2865,Seasons!$A$2:$A$2865,A14)) -> 0.4748012 | F14: =IF(B14<>"Expansion","",SUMIFS(Seasons!$D$2:$D$2865,Seasons!$A$2:$A$2865,A14,Seasons!$B$2:$B$2865,"<"&(C14+$E$3))/(SUMIFS(Seasons!$D$2:$D$2865,Seasons!$A$2:$A$2865,A14,Seasons!$B$2:$B$2865,"<"&(C14+$E$3))+SUMIFS(Seasons!$E$2:$E$2865,Seasons!$A$2:$A$2865,A14,Seasons!$B$2:$B$2865,"<"&(C14+$E$3)))) | G14: =IF(B14<>"Expansion","",(SUMIFS(Seasons!$E$2:$E$2865,Seasons!$A$2:$A$2865,A14,Seasons!$B$2:$B$2865,"<"&(C14+$E$3))-SUMIFS(Seasons!$D$2:$D$2865,Seasons!$A$2:$A$2865,A14,Seasons!$B$2:$B$2865,"<"&(C14+$E$3)))/2) | H14: =IF(B14<>"Expansion","",SUMIFS(Seasons!$D$2:$D$2865,Seasons!$A$2:$A$2865,A14,Seasons!$B$2:$B$2865,">="&(C14+$E$3))/(SUMIFS(Seasons!$D$2:$D$2865,Seasons!$A$2:$A$2865,A14,Seasons!$B$2:$B$2865,">="&(C14+$E$3))+SUMIFS(Seasons!$E$2:$E$2865,Seasons!$A$2:$A$2865,A14,Seasons!$B$2:$B$2865,">="&(C14+$E$3)))) | I14: =IF(B14<>"Expansion","",SUMIFS(Seasons!$D$2:$D$2865,Seasons!$A$2:$A$2865,A14,Seasons!$B$2:$B$2865,"<"&(C14+10))/(SUMIFS(Seasons!$D$2:$D$2865,Seasons!$A$2:$A$2865,A14,Seasons!$B$2:$B$2865,"<"&(C14+10))+SUMIFS(Seasons!$E$2:$E$2865,Seasons!$A$2:$A$2865,A14,Seasons!$B$2:$B$2865,"<"&(C14+10)))) | J14: =IF(B14<>"Expansion","",SUMIFS(Seasons!$D$2:$D$2865,Seasons!$A$2:$A$2865,A14,Seasons!$B$2:$B$2865,">="&(C14+10))/(SUMIFS(Seasons!$D$2:$D$2865,Seasons!$A$2:$A$2865,A14,Seasons!$B$2:$B$2865,">="&(C14+10))+SUMIFS(Seasons!$E$2:$E$2865,Seasons!$A$2:$A$2865,A14,Seasons!$B$2:$B$2865,">="&(C14+10)))) | K14: =IF(B14="Expansion",J14,SUMIFS(Seasons!$D$2:$D$2865,Seasons!$A$2:$A$2865,A14,Seasons!$B$2:$B$2865,">=1961")/(SUMIFS(Seasons!$D$2:$D$2865,Seasons!$A$2:$A$2865,A14,Seasons!$B$2:$B$2865,">=1961")+SUMIFS(Seasons!$E$2:$E$2865,Seasons!$A$2:$A$2865,A14,Seasons!$B$2:$B$2865,">=1961"))) -> 0.50997567 | L14: =RANK(K14,$K$6:$K$35) -> 11 | M14: =E14-K14 -> -0.035174471 | N14: =IF(B14="Expansion",(H14-0.5)*162,"") | O14: =IF(B14<>"Expansion","",IF(E14>=0.5,"already erased",IF(H14>0.5,G14/((H14-0.5)*162),"never at post-hole pace"))) | P14: =IF(B14<>"Expansion","",IF((SUMIFS(Seasons!$E$2:$E$2865,Seasons!$A$2:$A$2865,A14)-SUMIFS(Seasons!$D$2:$D$2865,Seasons!$A$2:$A$2865,A14))<=0,"n/a (all-time .500+)",IF(G14/((SUMIFS(Seasons!$E$2:$E$2865,Seasons!$A$2:$A$2865,A14)-SUMIFS(Seasons!$D$2:$D$2865,Seasons!$A$2:$A$2865,A14))/2)>1,">100%",G14/((SUMIFS(Seasons!$E$2:$E$2865,Seasons!$A$2:$A$2865,A14)-SUMIFS(Seasons!$D$2:$D$2865,Seasons!$A$2:$A$2865,A14))/2))))
A15: BOS | B15: =Franchise_Totals!C11 -> Established | C15: =_xlfn.MINIFS(Seasons!$B$2:$B$2865,Seasons!$A$2:$A$2865,A15) -> 1901 | D15: =COUNTIFS(Seasons!$A$2:$A$2865,A15) -> 125 | E15: =SUMIFS(Seasons!$D$2:$D$2865,Seasons!$A$2:$A$2865,A15)/(SUMIFS(Seasons!$D$2:$D$2865,Seasons!$A$2:$A$2865,A15)+SUMIFS(Seasons!$E$2:$E$2865,Seasons!$A$2:$A$2865,A15)) -> 0.51826625 | F15: =IF(B15<>"Expansion","",SUMIFS(Seasons!$D$2:$D$2865,Seasons!$A$2:$A$2865,A15,Seasons!$B$2:$B$2865,"<"&(C15+$E$3))/(SUMIFS(Seasons!$D$2:$D$2865,Seasons!$A$2:$A$2865,A15,Seasons!$B$2:$B$2865,"<"&(C15+$E$3))+SUMIFS(Seasons!$E$2:$E$2865,Seasons!$A$2:$A$2865,A15,Seasons!$B$2:$B$2865,"<"&(C15+$E$3)))) | G15: =IF(B15<>"Expansion","",(SUMIFS(Seasons!$E$2:$E$2865,Seasons!$A$2:$A$2865,A15,Seasons!$B$2:$B$2865,"<"&(C15+$E$3))-SUMIFS(Seasons!$D$2:$D$2865,Seasons!$A$2:$A$2865,A15,Seasons!$B$2:$B$2865,"<"&(C15+$E$3)))/2) | H15: =IF(B15<>"Expansion","",SUMIFS(Seasons!$D$2:$D$2865,Seasons!$A$2:$A$2865,A15,Seasons!$B$2:$B$2865,">="&(C15+$E$3))/(SUMIFS(Seasons!$D$2:$D$2865,Seasons!$A$2:$A$2865,A15,Seasons!$B$2:$B$2865,">="&(C15+$E$3))+SUMIFS(Seasons!$E$2:$E$2865,Seasons!$A$2:$A$2865,A15,Seasons!$B$2:$B$2865,">="&(C15+$E$3)))) | I15: =IF(B15<>"Expansion","",SUMIFS(Seasons!$D$2:$D$2865,Seasons!$A$2:$A$2865,A15,Seasons!$B$2:$B$2865,"<"&(C15+10))/(SUMIFS(Seasons!$D$2:$D$2865,Seasons!$A$2:$A$2865,A15,Seasons!$B$2:$B$2865,"<"&(C15+10))+SUMIFS(Seasons!$E$2:$E$2865,Seasons!$A$2:$A$2865,A15,Seasons!$B$2:$B$2865,"<"&(C15+10)))) | J15: =IF(B15<>"Expansion","",SUMIFS(Seasons!$D$2:$D$2865,Seasons!$A$2:$A$2865,A15,Seasons!$B$2:$B$2865,">="&(C15+10))/(SUMIFS(Seasons!$D$2:$D$2865,Seasons!$A$2:$A$2865,A15,Seasons!$B$2:$B$2865,">="&(C15+10))+SUMIFS(Seasons!$E$2:$E$2865,Seasons!$A$2:$A$2865,A15,Seasons!$B$2:$B$2865,">="&(C15+10)))) | K15: =IF(B15="Expansion",J15,SUMIFS(Seasons!$D$2:$D$2865,Seasons!$A$2:$A$2865,A15,Seasons!$B$2:$B$2865,">=1961")/(SUMIFS(Seasons!$D$2:$D$2865,Seasons!$A$2:$A$2865,A15,Seasons!$B$2:$B$2865,">=1961")+SUMIFS(Seasons!$E$2:$E$2865,Seasons!$A$2:$A$2865,A15,Seasons!$B$2:$B$2865,">=1961"))) -> 0.5308522 | L15: =RANK(K15,$K$6:$K$35) -> 4 | M15: =E15-K15 -> -0.012585947 | N15: =IF(B15="Expansion",(H15-0.5)*162,"") | O15: =IF(B15<>"Expansion","",IF(E15>=0.5,"already erased",IF(H15>0.5,G15/((H15-0.5)*162),"never at post-hole pace"))) | P15: =IF(B15<>"Expansion","",IF((SUMIFS(Seasons!$E$2:$E$2865,Seasons!$A$2:$A$2865,A15)-SUMIFS(Seasons!$D$2:$D$2865,Seasons!$A$2:$A$2865,A15))<=0,"n/a (all-time .500+)",IF(G15/((SUMIFS(Seasons!$E$2:$E$2865,Seasons!$A$2:$A$2865,A15)-SUMIFS(Seasons!$D$2:$D$2865,Seasons!$A$2:$A$2865,A15))/2)>1,">100%",G15/((SUMIFS(Seasons!$E$2:$E$2865,Seasons!$A$2:$A$2865,A15)-SUMIFS(Seasons!$D$2:$D$2865,Seasons!$A$2:$A$2865,A15))/2))))
A16: CHW | B16: =Franchise_Totals!C12 -> Established | C16: =_xlfn.MINIFS(Seasons!$B$2:$B$2865,Seasons!$A$2:$A$2865,A16) -> 1901 | D16: =COUNTIFS(Seasons!$A$2:$A$2865,A16) -> 125 | E16: =SUMIFS(Seasons!$D$2:$D$2865,Seasons!$A$2:$A$2865,A16)/(SUMIFS(Seasons!$D$2:$D$2865,Seasons!$A$2:$A$2865,A16)+SUMIFS(Seasons!$E$2:$E$2865,Seasons!$A$2:$A$2865,A16)) -> 0.49845105 | F16: =IF(B16<>"Expansion","",SUMIFS(Seasons!$D$2:$D$2865,Seasons!$A$2:$A$2865,A16,Seasons!$B$2:$B$2865,"<"&(C16+$E$3))/(SUMIFS(Seasons!$D$2:$D$2865,Seasons!$A$2:$A$2865,A16,Seasons!$B$2:$B$2865,"<"&(C16+$E$3))+SUMIFS(Seasons!$E$2:$E$2865,Seasons!$A$2:$A$2865,A16,Seasons!$B$2:$B$2865,"<"&(C16+$E$3)))) | G16: =IF(B16<>"Expansion","",(SUMIFS(Seasons!$E$2:$E$2865,Seasons!$A$2:$A$2865,A16,Seasons!$B$2:$B$2865,"<"&(C16+$E$3))-SUMIFS(Seasons!$D$2:$D$2865,Seasons!$A$2:$A$2865,A16,Seasons!$B$2:$B$2865,"<"&(C16+$E$3)))/2) | H16: =IF(B16<>"Expansion","",SUMIFS(Seasons!$D$2:$D$2865,Seasons!$A$2:$A$2865,A16,Seasons!$B$2:$B$2865,">="&(C16+$E$3))/(SUMIFS(Seasons!$D$2:$D$2865,Seasons!$A$2:$A$2865,A16,Seasons!$B$2:$B$2865,">="&(C16+$E$3))+SUMIFS(Seasons!$E$2:$E$2865,Seasons!$A$2:$A$2865,A16,Seasons!$B$2:$B$2865,">="&(C16+$E$3)))) | I16: =IF(B16<>"Expansion","",SUMIFS(Seasons!$D$2:$D$2865,Seasons!$A$2:$A$2865,A16,Seasons!$B$2:$B$2865,"<"&(C16+10))/(SUMIFS(Seasons!$D$2:$D$2865,Seasons!$A$2:$A$2865,A16,Seasons!$B$2:$B$2865,"<"&(C16+10))+SUMIFS(Seasons!$E$2:$E$2865,Seasons!$A$2:$A$2865,A16,Seasons!$B$2:$B$2865,"<"&(C16+10)))) | J16: =IF(B16<>"Expansion","",SUMIFS(Seasons!$D$2:$D$2865,Seasons!$A$2:$A$2865,A16,Seasons!$B$2:$B$2865,">="&(C16+10))/(SUMIFS(Seasons!$D$2:$D$2865,Seasons!$A$2:$A$2865,A16,Seasons!$B$2:$B$2865,">="&(C16+10))+SUMIFS(Seasons!$E$2:$E$2865,Seasons!$A$2:$A$2865,A16,Seasons!$B$2:$B$2865,">="&(C16+10)))) | K16: =IF(B16="Expansion",J16,SUMIFS(Seasons!$D$2:$D$2865,Seasons!$A$2:$A$2865,A16,Seasons!$B$2:$B$2865,">=1961")/(SUMIFS(Seasons!$D$2:$D$2865,Seasons!$A$2:$A$2865,A16,Seasons!$B$2:$B$2865,">=1961")+SUMIFS(Seasons!$E$2:$E$2865,Seasons!$A$2:$A$2865,A16,Seasons!$B$2:$B$2865,">=1961"))) -> 0.49222093 | L16: =RANK(K16,$K$6:$K$35) -> 21 | M16: =E16-K16 -> 0.0062301276 | N16: =IF(B16="Expansion",(H16-0.5)*162,"") | O16: =IF(B16<>"Expansion","",IF(E16>=0.5,"already erased",IF(H16>0.5,G16/((H16-0.5)*162),"never at post-hole pace"))) | P16: =IF(B16<>"Expansion","",IF((SUMIFS(Seasons!$E$2:$E$2865,Seasons!$A$2:$A$2865,A16)-SUMIFS(Seasons!$D$2:$D$2865,Seasons!$A$2:$A$2865,A16))<=0,"n/a (all-time .500+)",IF(G16/((SUMIFS(Seasons!$E$2:$E$2865,Seasons!$A$2:$A$2865,A16)-SUMIFS(Seasons!$D$2:$D$2865,Seasons!$A$2:$A$2865,A16))/2)>1,">100%",G16/((SUMIFS(Seasons!$E$2:$E$2865,Seasons!$A$2:$A$2865,A16)-SUMIFS(Seasons!$D$2:$D$2865,Seasons!$A$2:$A$2865,A16))/2))))
A17: CLE | B17: =Franchise_Totals!C13 -> Established | C17: =_xlfn.MINIFS(Seasons!$B$2:$B$2865,Seasons!$A$2:$A$2865,A17) -> 1901 | D17: =COUNTIFS(Seasons!$A$2:$A$2865,A17) -> 125 | E17: =SUMIFS(Seasons!$D$2:$D$2865,Seasons!$A$2:$A$2865,A17)/(SUMIFS(Seasons!$D$2:$D$2865,Seasons!$A$2:$A$2865,A17)+SUMIFS(Seasons!$E$2:$E$2865,Seasons!$A$2:$A$2865,A17)) -> 0.51282051 | F17: =IF(B17<>"Expansion","",SUMIFS(Seasons!$D$2:$D$2865,Seasons!$A$2:$A$2865,A17,Seasons!$B$2:$B$2865,"<"&(C17+$E$3))/(SUMIFS(Seasons!$D$2:$D$2865,Seasons!$A$2:$A$2865,A17,Seasons!$B$2:$B$2865,"<"&(C17+$E$3))+SUMIFS(Seasons!$E$2:$E$2865,Seasons!$A$2:$A$2865,A17,Seasons!$B$2:$B$2865,"<"&(C17+$E$3)))) | G17: =IF(B17<>"Expansion","",(SUMIFS(Seasons!$E$2:$E$2865,Seasons!$A$2:$A$2865,A17,Seasons!$B$2:$B$2865,"<"&(C17+$E$3))-SUMIFS(Seasons!$D$2:$D$2865,Seasons!$A$2:$A$2865,A17,Seasons!$B$2:$B$2865,"<"&(C17+$E$3)))/2) | H17: =IF(B17<>"Expansion","",SUMIFS(Seasons!$D$2:$D$2865,Seasons!$A$2:$A$2865,A17,Seasons!$B$2:$B$2865,">="&(C17+$E$3))/(SUMIFS(Seasons!$D$2:$D$2865,Seasons!$A$2:$A$2865,A17,Seasons!$B$2:$B$2865,">="&(C17+$E$3))+SUMIFS(Seasons!$E$2:$E$2865,Seasons!$A$2:$A$2865,A17,Seasons!$B$2:$B$2865,">="&(C17+$E$3)))) | I17: =IF(B17<>"Expansion","",SUMIFS(Seasons!$D$2:$D$2865,Seasons!$A$2:$A$2865,A17,Seasons!$B$2:$B$2865,"<"&(C17+10))/(SUMIFS(Seasons!$D$2:$D$2865,Seasons!$A$2:$A$2865,A17,Seasons!$B$2:$B$2865,"<"&(C17+10))+SUMIFS(Seasons!$E$2:$E$2865,Seasons!$A$2:$A$2865,A17,Seasons!$B$2:$B$2865,"<"&(C17+10)))) | J17: =IF(B17<>"Expansion","",SUMIFS(Seasons!$D$2:$D$2865,Seasons!$A$2:$A$2865,A17,Seasons!$B$2:$B$2865,">="&(C17+10))/(SUMIFS(Seasons!$D$2:$D$2865,Seasons!$A$2:$A$2865,A17,Seasons!$B$2:$B$2865,">="&(C17+10))+SUMIFS(Seasons!$E$2:$E$2865,Seasons!$A$2:$A$2865,A17,Seasons!$B$2:$B$2865,">="&(C17+10)))) | K17: =IF(B17="Expansion",J17,SUMIFS(Seasons!$D$2:$D$2865,Seasons!$A$2:$A$2865,A17,Seasons!$B$2:$B$2865,">=1961")/(SUMIFS(Seasons!$D$2:$D$2865,Seasons!$A$2:$A$2865,A17,Seasons!$B$2:$B$2865,">=1961")+SUMIFS(Seasons!$E$2:$E$2865,Seasons!$A$2:$A$2865,A17,Seasons!$B$2:$B$2865,">=1961"))) -> 0.49742092 | L17: =RANK(K17,$K$6:$K$35) -> 17 | M17: =E17-K17 -> 0.015399588 | N17: =IF(B17="Expansion",(H17-0.5)*162,"") | O17: =IF(B17<>"Expansion","",IF(E17>=0.5,"already erased",IF(H17>0.5,G17/((H17-0.5)*162),"never at post-hole pace"))) | P17: =IF(B17<>"Expansion","",IF((SUMIFS(Seasons!$E$2:$E$2865,Seasons!$A$2:$A$2865,A17)-SUMIFS(Seasons!$D$2:$D$2865,Seasons!$A$2:$A$2865,A17))<=0,"n/a (all-time .500+)",IF(G17/((SUMIFS(Seasons!$E$2:$E$2865,Seasons!$A$2:$A$2865,A17)-SUMIFS(Seasons!$D$2:$D$2865,Seasons!$A$2:$A$2865,A17))/2)>1,">100%",G17/((SUMIFS(Seasons!$E$2:$E$2865,Seasons!$A$2:$A$2865,A17)-SUMIFS(Seasons!$D$2:$D$2865,Seasons!$A$2:$A$2865,A17))/2))))
... A35: TBD | B35: =Franchise_Totals!C31 -> Expansion | C35: =_xlfn.MINIFS(Seasons!$B$2:$B$2865,Seasons!$A$2:$A$2865,A35) -> 1998 | D35: =COUNTIFS(Seasons!$A$2:$A$2865,A35) -> 28 | E35: =SUMIFS(Seasons!$D$2:$D$2865,Seasons!$A$2:$A$2865,A35)/(SUMIFS(Seasons!$D$2:$D$2865,Seasons!$A$2:$A$2865,A35)+SUMIFS(Seasons!$E$2:$E$2865,Seasons!$A$2:$A$2865,A35)) -> 0.48916968 | F35: =IF(B35<>"Expansion","",SUMIFS(Seasons!$D$2:$D$2865,Seasons!$A$2:$A$2865,A35,Seasons!$B$2:$B$2865,"<"&(C35+$E$3))/(SUMIFS(Seasons!$D$2:$D$2865,Seasons!$A$2:$A$2865,A35,Seasons!$B$2:$B$2865,"<"&(C35+$E$3))+SUMIFS(Seasons!$E$2:$E$2865,Seasons!$A$2:$A$2865,A35,Seasons!$B$2:$B$2865,"<"&(C35+$E$3)))) -> 0.39356436 | G35: =IF(B35<>"Expansion","",(SUMIFS(Seasons!$E$2:$E$2865,Seasons!$A$2:$A$2865,A35,Seasons!$B$2:$B$2865,"<"&(C35+$E$3))-SUMIFS(Seasons!$D$2:$D$2865,Seasons!$A$2:$A$2865,A35,Seasons!$B$2:$B$2865,"<"&(C35+$E$3)))/2) -> 86 | H35: =IF(B35<>"Expansion","",SUMIFS(Seasons!$D$2:$D$2865,Seasons!$A$2:$A$2865,A35,Seasons!$B$2:$B$2865,">="&(C35+$E$3))/(SUMIFS(Seasons!$D$2:$D$2865,Seasons!$A$2:$A$2865,A35,Seasons!$B$2:$B$2865,">="&(C35+$E$3))+SUMIFS(Seasons!$E$2:$E$2865,Seasons!$A$2:$A$2865,A35,Seasons!$B$2:$B$2865,">="&(C35+$E$3)))) -> 0.51048565 | I35: =IF(B35<>"Expansion","",SUMIFS(Seasons!$D$2:$D$2865,Seasons!$A$2:$A$2865,A35,Seasons!$B$2:$B$2865,"<"&(C35+10))/(SUMIFS(Seasons!$D$2:$D$2865,Seasons!$A$2:$A$2865,A35,Seasons!$B$2:$B$2865,"<"&(C35+10))+SUMIFS(Seasons!$E$2:$E$2865,Seasons!$A$2:$A$2865,A35,Seasons!$B$2:$B$2865,"<"&(C35+10)))) -> 0.39888683 | J35: =IF(B35<>"Expansion","",SUMIFS(Seasons!$D$2:$D$2865,Seasons!$A$2:$A$2865,A35,Seasons!$B$2:$B$2865,">="&(C35+10))/(SUMIFS(Seasons!$D$2:$D$2865,Seasons!$A$2:$A$2865,A35,Seasons!$B$2:$B$2865,">="&(C35+10))+SUMIFS(Seasons!$E$2:$E$2865,Seasons!$A$2:$A$2865,A35,Seasons!$B$2:$B$2865,">="&(C35+10)))) -> 0.5410302 | K35: =IF(B35="Expansion",J35,SUMIFS(Seasons!$D$2:$D$2865,Seasons!$A$2:$A$2865,A35,Seasons!$B$2:$B$2865,">=1961")/(SUMIFS(Seasons!$D$2:$D$2865,Seasons!$A$2:$A$2865,A35,Seasons!$B$2:$B$2865,">=1961")+SUMIFS(Seasons!$E$2:$E$2865,Seasons!$A$2:$A$2865,A35,Seasons!$B$2:$B$2865,">=1961"))) -> 0.5410302 | L35: =RANK(K35,$K$6:$K$35) -> 3 | M35: =E35-K35 -> -0.05186052 | N35: =IF(B35="Expansion",(H35-0.5)*162,"") -> 1.6986755 | O35: =IF(B35<>"Expansion","",IF(E35>=0.5,"already erased",IF(H35>0.5,G35/((H35-0.5)*162),"never at post-hole pace"))) -> 50.62768 | P35: =IF(B35<>"Expansion","",IF((SUMIFS(Seasons!$E$2:$E$2865,Seasons!$A$2:$A$2865,A35)-SUMIFS(Seasons!$D$2:$D$2865,Seasons!$A$2:$A$2865,A35))<=0,"n/a (all-time .500+)",IF(G35/((SUMIFS(Seasons!$E$2:$E$2865,Seasons!$A$2:$A$2865,A35)-SUMIFS(Seasons!$D$2:$D$2865,Seasons!$A$2:$A$2865,A35))/2)>1,">100%",G35/((SUMIFS(Seasons!$E$2:$E$2865,Seasons!$A$2:$A$2865,A35)-SUMIFS(Seasons!$D$2:$D$2865,Seasons!$A$2:$A$2865,A35))/2)))) -> >100%
A37: Expansion clubs (average) | E37: =AVERAGEIF($B$6:$B$35,"Expansion",E6:E35) -> 0.48189737 | F37: =AVERAGEIF($B$6:$B$35,"Expansion",F6:F35) -> 0.42338469 | H37: =AVERAGEIF($B$6:$B$35,"Expansion",H6:H35) -> 0.48762859 | I37: =AVERAGEIF($B$6:$B$35,"Expansion",I6:I35) -> 0.44590774 | J37: =AVERAGEIF($B$6:$B$35,"Expansion",J6:J35) -> 0.49127427 | K37: =AVERAGEIF($B$6:$B$35,"Expansion",K6:K35) -> 0.49127427 | M37: =AVERAGEIF($B$6:$B$35,"Expansion",M6:M35) -> -0.0093769064
A38: Established clubs (average) | E38: =AVERAGEIF($B$6:$B$35,"Established",E6:E35) -> 0.50794291 | K38: =AVERAGEIF($B$6:$B$35,"Established",K6:K35) -> 0.511456 | M38: =AVERAGEIF($B$6:$B$35,"Established",M6:M35) -> -0.0035130881
A40: Expansion clubs at or above .500 after the first 10 seasons | E40: =COUNTIFS($B$6:$B$35,"Expansion",$J$6:$J$35,">=0.5") -> 4
A41: Expansion clubs above the established-club average (1961-2025) after the first 10 seasons | E41: =COUNTIFS($B$6:$B$35,"Expansion",$J$6:$J$35,">"&$K$38) -> 2
A42: Note: established-club 1961-2025 average is K38; a club ranked high here has no start-up penalty baked in. Column P divides the first-N hole by the club's total all-time shortfall; blank/n.a. when the all-time record is not below .500.

Sheet Output_Rates
A1: Postseason output per 100 seasons
A2: Counts from the Seasons sheet (Databank flags, 2025 and earlier). 2 windows: division era (1969-2025) and wild-card era (1995-2025). Pre-1969 only pennant winners reached the postseason, so the first window is the fairest across all 30 clubs.
A4: Franchise | B4: Group | C4: Seasons 1969-2025 | D4: Postseason apps | E4: Pennants | F4: WS titles | G4: Playoffs /100 seasons | H4: Pennants /100 | I4: Titles /100 | J4: Seasons 1995-2025 | K4: Playoffs 1995-2025 | L4: Playoffs /100 (1995-) | M4: Titles 1995-2025
A5: ATL | B5: Established | C5: =COUNTIFS(Seasons!$A$2:$A$2865,A5,Seasons!$B$2:$B$2865,">=1969") -> 57 | D5: =SUMIFS(Seasons!$L$2:$L$2865,Seasons!$A$2:$A$2865,A5,Seasons!$B$2:$B$2865,">=1969") -> 26 | E5: =SUMIFS(Seasons!$M$2:$M$2865,Seasons!$A$2:$A$2865,A5,Seasons!$B$2:$B$2865,">=1969") -> 6 | F5: =SUMIFS(Seasons!$N$2:$N$2865,Seasons!$A$2:$A$2865,A5,Seasons!$B$2:$B$2865,">=1969") -> 2 | G5: =D5/C5*100 -> 45.614035 | H5: =E5/C5*100 -> 10.526316 | I5: =F5/C5*100 -> 3.5087719 | J5: =COUNTIFS(Seasons!$A$2:$A$2865,A5,Seasons!$B$2:$B$2865,">=1995") -> 31 | K5: =SUMIFS(Seasons!$L$2:$L$2865,Seasons!$A$2:$A$2865,A5,Seasons!$B$2:$B$2865,">=1995") -> 21 | L5: =K5/J5*100 -> 67.741935 | M5: =SUMIFS(Seasons!$N$2:$N$2865,Seasons!$A$2:$A$2865,A5,Seasons!$B$2:$B$2865,">=1995") -> 2
A6: CHC | B6: Established | C6: =COUNTIFS(Seasons!$A$2:$A$2865,A6,Seasons!$B$2:$B$2865,">=1969") -> 57 | D6: =SUMIFS(Seasons!$L$2:$L$2865,Seasons!$A$2:$A$2865,A6,Seasons!$B$2:$B$2865,">=1969") -> 12 | E6: =SUMIFS(Seasons!$M$2:$M$2865,Seasons!$A$2:$A$2865,A6,Seasons!$B$2:$B$2865,">=1969") -> 1 | F6: =SUMIFS(Seasons!$N$2:$N$2865,Seasons!$A$2:$A$2865,A6,Seasons!$B$2:$B$2865,">=1969") -> 1 | G6: =D6/C6*100 -> 21.052632 | H6: =E6/C6*100 -> 1.754386 | I6: =F6/C6*100 -> 1.754386 | J6: =COUNTIFS(Seasons!$A$2:$A$2865,A6,Seasons!$B$2:$B$2865,">=1995") -> 31 | K6: =SUMIFS(Seasons!$L$2:$L$2865,Seasons!$A$2:$A$2865,A6,Seasons!$B$2:$B$2865,">=1995") -> 10 | L6: =K6/J6*100 -> 32.258065 | M6: =SUMIFS(Seasons!$N$2:$N$2865,Seasons!$A$2:$A$2865,A6,Seasons!$B$2:$B$2865,">=1995") -> 1
A7: CIN | B7: Established | C7: =COUNTIFS(Seasons!$A$2:$A$2865,A7,Seasons!$B$2:$B$2865,">=1969") -> 57 | D7: =SUMIFS(Seasons!$L$2:$L$2865,Seasons!$A$2:$A$2865,A7,Seasons!$B$2:$B$2865,">=1969") -> 13 | E7: =SUMIFS(Seasons!$M$2:$M$2865,Seasons!$A$2:$A$2865,A7,Seasons!$B$2:$B$2865,">=1969") -> 5 | F7: =SUMIFS(Seasons!$N$2:$N$2865,Seasons!$A$2:$A$2865,A7,Seasons!$B$2:$B$2865,">=1969") -> 3 | G7: =D7/C7*100 -> 22.807018 | H7: =E7/C7*100 -> 8.7719298 | I7: =F7/C7*100 -> 5.2631579 | J7: =COUNTIFS(Seasons!$A$2:$A$2865,A7,Seasons!$B$2:$B$2865,">=1995") -> 31 | K7: =SUMIFS(Seasons!$L$2:$L$2865,Seasons!$A$2:$A$2865,A7,Seasons!$B$2:$B$2865,">=1995") -> 6 | L7: =K7/J7*100 -> 19.354839 | M7: =SUMIFS(Seasons!$N$2:$N$2865,Seasons!$A$2:$A$2865,A7,Seasons!$B$2:$B$2865,">=1995") -> 0
A8: PIT | B8: Established | C8: =COUNTIFS(Seasons!$A$2:$A$2865,A8,Seasons!$B$2:$B$2865,">=1969") -> 57 | D8: =SUMIFS(Seasons!$L$2:$L$2865,Seasons!$A$2:$A$2865,A8,Seasons!$B$2:$B$2865,">=1969") -> 12 | E8: =SUMIFS(Seasons!$M$2:$M$2865,Seasons!$A$2:$A$2865,A8,Seasons!$B$2:$B$2865,">=1969") -> 2 | F8: =SUMIFS(Seasons!$N$2:$N$2865,Seasons!$A$2:$A$2865,A8,Seasons!$B$2:$B$2865,">=1969") -> 2 | G8: =D8/C8*100 -> 21.052632 | H8: =E8/C8*100 -> 3.5087719 | I8: =F8/C8*100 -> 3.5087719 | J8: =COUNTIFS(Seasons!$A$2:$A$2865,A8,Seasons!$B$2:$B$2865,">=1995") -> 31 | K8: =SUMIFS(Seasons!$L$2:$L$2865,Seasons!$A$2:$A$2865,A8,Seasons!$B$2:$B$2865,">=1995") -> 3 | L8: =K8/J8*100 -> 9.6774194 | M8: =SUMIFS(Seasons!$N$2:$N$2865,Seasons!$A$2:$A$2865,A8,Seasons!$B$2:$B$2865,">=1995") -> 0
A9: STL | B9: Established | C9: =COUNTIFS(Seasons!$A$2:$A$2865,A9,Seasons!$B$2:$B$2865,">=1969") -> 57 | D9: =SUMIFS(Seasons!$L$2:$L$2865,Seasons!$A$2:$A$2865,A9,Seasons!$B$2:$B$2865,">=1969") -> 20 | E9: =SUMIFS(Seasons!$M$2:$M$2865,Seasons!$A$2:$A$2865,A9,Seasons!$B$2:$B$2865,">=1969") -> 7 | F9: =SUMIFS(Seasons!$N$2:$N$2865,Seasons!$A$2:$A$2865,A9,Seasons!$B$2:$B$2865,">=1969") -> 3 | G9: =D9/C9*100 -> 35.087719 | H9: =E9/C9*100 -> 12.280702 | I9: =F9/C9*100 -> 5.2631579 | J9: =COUNTIFS(Seasons!$A$2:$A$2865,A9,Seasons!$B$2:$B$2865,">=1995") -> 31 | K9: =SUMIFS(Seasons!$L$2:$L$2865,Seasons!$A$2:$A$2865,A9,Seasons!$B$2:$B$2865,">=1995") -> 17 | L9: =K9/J9*100 -> 54.83871 | M9: =SUMIFS(Seasons!$N$2:$N$2865,Seasons!$A$2:$A$2865,A9,Seasons!$B$2:$B$2865,">=1995") -> 2
A10: PHI | B10: Established | C10: =COUNTIFS(Seasons!$A$2:$A$2865,A10,Seasons!$B$2:$B$2865,">=1969") -> 57 | D10: =SUMIFS(Seasons!$L$2:$L$2865,Seasons!$A$2:$A$2865,A10,Seasons!$B$2:$B$2865,">=1969") -> 16 | E10: =SUMIFS(Seasons!$M$2:$M$2865,Seasons!$A$2:$A$2865,A10,Seasons!$B$2:$B$2865,">=1969") -> 6 | F10: =SUMIFS(Seasons!$N$2:$N$2865,Seasons!$A$2:$A$2865,A10,Seasons!$B$2:$B$2865,">=1969") -> 2 | G10: =D10/C10*100 -> 28.070175 | H10: =E10/C10*100 -> 10.526316 | I10: =F10/C10*100 -> 3.5087719 | J10: =COUNTIFS(Seasons!$A$2:$A$2865,A10,Seasons!$B$2:$B$2865,">=1995") -> 31 | K10: =SUMIFS(Seasons!$L$2:$L$2865,Seasons!$A$2:$A$2865,A10,Seasons!$B$2:$B$2865,">=1995") -> 9 | L10: =K10/J10*100 -> 29.032258 | M10: =SUMIFS(Seasons!$N$2:$N$2865,Seasons!$A$2:$A$2865,A10,Seasons!$B$2:$B$2865,">=1995") -> 1
A11: SFG | B11: Established | C11: =COUNTIFS(Seasons!$A$2:$A$2865,A11,Seasons!$B$2:$B$2865,">=1969") -> 57 | D11: =SUMIFS(Seasons!$L$2:$L$2865,Seasons!$A$2:$A$2865,A11,Seasons!$B$2:$B$2865,">=1969") -> 12 | E11: =SUMIFS(Seasons!$M$2:$M$2865,Seasons!$A$2:$A$2865,A11,Seasons!$B$2:$B$2865,">=1969") -> 5 | F11: =SUMIFS(Seasons!$N$2:$N$2865,Seasons!$A$2:$A$2865,A11,Seasons!$B$2:$B$2865,">=1969") -> 3 | G11: =D11/C11*100 -> 21.052632 | H11: =E11/C11*100 -> 8.7719298 | I11: =F11/C11*100 -> 5.2631579 | J11: =COUNTIFS(Seasons!$A$2:$A$2865,A11,Seasons!$B$2:$B$2865,">=1995") -> 31 | K11: =SUMIFS(Seasons!$L$2:$L$2865,Seasons!$A$2:$A$2865,A11,Seasons!$B$2:$B$2865,">=1995") -> 9 | L11: =K11/J11*100 -> 29.032258 | M11: =SUMIFS(Seasons!$N$2:$N$2865,Seasons!$A$2:$A$2865,A11,Seasons!$B$2:$B$2865,">=1995") -> 3
A12: LAD | B12: Established | C12: =COUNTIFS(Seasons!$A$2:$A$2865,A12,Seasons!$B$2:$B$2865,">=1969") -> 57 | D12: =SUMIFS(Seasons!$L$2:$L$2865,Seasons!$A$2:$A$2865,A12,Seasons!$B$2:$B$2865,">=1969") -> 26 | E12: =SUMIFS(Seasons!$M$2:$M$2865,Seasons!$A$2:$A$2865,A12,Seasons!$B$2:$B$2865,">=1969") -> 10 | F12: =SUMIFS(Seasons!$N$2:$N$2865,Seasons!$A$2:$A$2865,A12,Seasons!$B$2:$B$2865,">=1969") -> 5 | G12: =D12/C12*100 -> 45.614035 | H12: =E12/C12*100 -> 17.54386 | I12: =F12/C12*100 -> 8.7719298 | J12: =COUNTIFS(Seasons!$A$2:$A$2865,A12,Seasons!$B$2:$B$2865,">=1995") -> 31 | K12: =SUMIFS(Seasons!$L$2:$L$2865,Seasons!$A$2:$A$2865,A12,Seasons!$B$2:$B$2865,">=1995") -> 19 | L12: =K12/J12*100 -> 61.290323 | M12: =SUMIFS(Seasons!$N$2:$N$2865,Seasons!$A$2:$A$2865,A12,Seasons!$B$2:$B$2865,">=1995") -> 3
A13: BAL | B13: Established | C13: =COUNTIFS(Seasons!$A$2:$A$2865,A13,Seasons!$B$2:$B$2865,">=1969") -> 57 | D13: =SUMIFS(Seasons!$L$2:$L$2865,Seasons!$A$2:$A$2865,A13,Seasons!$B$2:$B$2865,">=1969") -> 14 | E13: =SUMIFS(Seasons!$M$2:$M$2865,Seasons!$A$2:$A$2865,A13,Seasons!$B$2:$B$2865,">=1969") -> 5 | F13: =SUMIFS(Seasons!$N$2:$N$2865,Seasons!$A$2:$A$2865,A13,Seasons!$B$2:$B$2865,">=1969") -> 2 | G13: =D13/C13*100 -> 24.561404 | H13: =E13/C13*100 -> 8.7719298 | I13: =F13/C13*100 -> 3.5087719 | J13: =COUNTIFS(Seasons!$A$2:$A$2865,A13,Seasons!$B$2:$B$2865,">=1995") -> 31 | K13: =SUMIFS(Seasons!$L$2:$L$2865,Seasons!$A$2:$A$2865,A13,Seasons!$B$2:$B$2865,">=1995") -> 7 | L13: =K13/J13*100 -> 22.580645 | M13: =SUMIFS(Seasons!$N$2:$N$2865,Seasons!$A$2:$A$2865,A13,Seasons!$B$2:$B$2865,">=1995") -> 0
