Workbook

Sheet Decade_Top5
A1: Most successful clubs of each decade, adjusted for market size, start-up status and payroll
A2: Ranked by wins per 162 games above expectation (Decade_Index). Raw column shows the unadjusted win% vs league. Payroll-adjusted rows exist for 1990-2025 (see Payroll_Sources for 2017-2025 definitions). Min. 5 seasons in the period.
A4: Period | B4: Rank | C4: Franchise | D4: Adjusted: wins/162 above expectation | E4: Raw: wins/162 vs league | F4: Postseason apps | G4: WS titles
A5: 1900s | B5: 1 | C5: =IFERROR(INDEX(Decade_Index!$B$25:$B$534,MATCH($A5&"|"&$B5,Decade_Index!$P$25:$P$534,0)),"") -> PIT | D5: =IFERROR(INDEX(Decade_Index!$J$25:$J$534,MATCH($A5&"|"&$B5,Decade_Index!$P$25:$P$534,0)),"") -> 25.580417 | E5: =IFERROR(INDEX(Decade_Index!$K$25:$K$534,MATCH($A5&"|"&$B5,Decade_Index!$P$25:$P$534,0)),"") -> 23.143594 | F5: =IFERROR(INDEX(Decade_Index!$L$25:$L$534,MATCH($A5&"|"&$B5,Decade_Index!$P$25:$P$534,0)),"") -> 4 | G5: =IFERROR(INDEX(Decade_Index!$M$25:$M$534,MATCH($A5&"|"&$B5,Decade_Index!$P$25:$P$534,0)),"") -> 1
A6: 1900s | B6: 2 | C6: =IFERROR(INDEX(Decade_Index!$B$25:$B$534,MATCH($A6&"|"&$B6,Decade_Index!$P$25:$P$534,0)),"") -> CHC | D6: =IFERROR(INDEX(Decade_Index!$J$25:$J$534,MATCH($A6&"|"&$B6,Decade_Index!$P$25:$P$534,0)),"") -> 12.774184 | E6: =IFERROR(INDEX(Decade_Index!$K$25:$K$534,MATCH($A6&"|"&$B6,Decade_Index!$P$25:$P$534,0)),"") -> 17.335566 | F6: =IFERROR(INDEX(Decade_Index!$L$25:$L$534,MATCH($A6&"|"&$B6,Decade_Index!$P$25:$P$534,0)),"") -> 3 | G6: =IFERROR(INDEX(Decade_Index!$M$25:$M$534,MATCH($A6&"|"&$B6,Decade_Index!$P$25:$P$534,0)),"") -> 2
A7: 1900s | B7: 3 | C7: =IFERROR(INDEX(Decade_Index!$B$25:$B$534,MATCH($A7&"|"&$B7,Decade_Index!$P$25:$P$534,0)),"") -> BOS | D7: =IFERROR(INDEX(Decade_Index!$J$25:$J$534,MATCH($A7&"|"&$B7,Decade_Index!$P$25:$P$534,0)),"") -> 8.6916831 | E7: =IFERROR(INDEX(Decade_Index!$K$25:$K$534,MATCH($A7&"|"&$B7,Decade_Index!$P$25:$P$534,0)),"") -> 3.7570385 | F7: =IFERROR(INDEX(Decade_Index!$L$25:$L$534,MATCH($A7&"|"&$B7,Decade_Index!$P$25:$P$534,0)),"") -> 2 | G7: =IFERROR(INDEX(Decade_Index!$M$25:$M$534,MATCH($A7&"|"&$B7,Decade_Index!$P$25:$P$534,0)),"") -> 1
A8: 1900s | B8: 4 | C8: =IFERROR(INDEX(Decade_Index!$B$25:$B$534,MATCH($A8&"|"&$B8,Decade_Index!$P$25:$P$534,0)),"") -> OAK | D8: =IFERROR(INDEX(Decade_Index!$J$25:$J$534,MATCH($A8&"|"&$B8,Decade_Index!$P$25:$P$534,0)),"") -> 8.2660127 | E8: =IFERROR(INDEX(Decade_Index!$K$25:$K$534,MATCH($A8&"|"&$B8,Decade_Index!$P$25:$P$534,0)),"") -> 10.270572 | F8: =IFERROR(INDEX(Decade_Index!$L$25:$L$534,MATCH($A8&"|"&$B8,Decade_Index!$P$25:$P$534,0)),"") -> 2 | G8: =IFERROR(INDEX(Decade_Index!$M$25:$M$534,MATCH($A8&"|"&$B8,Decade_Index!$P$25:$P$534,0)),"") -> 0
A9: 1900s | B9: 5 | C9: =IFERROR(INDEX(Decade_Index!$B$25:$B$534,MATCH($A9&"|"&$B9,Decade_Index!$P$25:$P$534,0)),"") -> DET | D9: =IFERROR(INDEX(Decade_Index!$J$25:$J$534,MATCH($A9&"|"&$B9,Decade_Index!$P$25:$P$534,0)),"") -> 6.207089 | E9: =IFERROR(INDEX(Decade_Index!$K$25:$K$534,MATCH($A9&"|"&$B9,Decade_Index!$P$25:$P$534,0)),"") -> 2.7128186 | F9: =IFERROR(INDEX(Decade_Index!$L$25:$L$534,MATCH($A9&"|"&$B9,Decade_Index!$P$25:$P$534,0)),"") -> 3 | G9: =IFERROR(INDEX(Decade_Index!$M$25:$M$534,MATCH($A9&"|"&$B9,Decade_Index!$P$25:$P$534,0)),"") -> 0
A10: 1910s | B10: 1 | C10: =IFERROR(INDEX(Decade_Index!$B$25:$B$534,MATCH($A10&"|"&$B10,Decade_Index!$P$25:$P$534,0)),"") -> BOS | D10: =IFERROR(INDEX(Decade_Index!$J$25:$J$534,MATCH($A10&"|"&$B10,Decade_Index!$P$25:$P$534,0)),"") -> 16.015153 | E10: =IFERROR(INDEX(Decade_Index!$K$25:$K$534,MATCH($A10&"|"&$B10,Decade_Index!$P$25:$P$534,0)),"") -> 12.645468 | F10: =IFERROR(INDEX(Decade_Index!$L$25:$L$534,MATCH($A10&"|"&$B10,Decade_Index!$P$25:$P$534,0)),"") -> 4 | G10: =IFERROR(INDEX(Decade_Index!$M$25:$M$534,MATCH($A10&"|"&$B10,Decade_Index!$P$25:$P$534,0)),"") -> 4
A11: 1910s | B11: 2 | C11: =IFERROR(INDEX(Decade_Index!$B$25:$B$534,MATCH($A11&"|"&$B11,Decade_Index!$P$25:$P$534,0)),"") -> SFG | D11: =IFERROR(INDEX(Decade_Index!$J$25:$J$534,MATCH($A11&"|"&$B11,Decade_Index!$P$25:$P$534,0)),"") -> 11.375039 | E11: =IFERROR(INDEX(Decade_Index!$K$25:$K$534,MATCH($A11&"|"&$B11,Decade_Index!$P$25:$P$534,0)),"") -> 15.882285 | F11: =IFERROR(INDEX(Decade_Index!$L$25:$L$534,MATCH($A11&"|"&$B11,Decade_Index!$P$25:$P$534,0)),"") -> 4 | G11: =IFERROR(INDEX(Decade_Index!$M$25:$M$534,MATCH($A11&"|"&$B11,Decade_Index!$P$25:$P$534,0)),"") -> 0
A12: 1910s | B12: 3 | C12: =IFERROR(INDEX(Decade_Index!$B$25:$B$534,MATCH($A12&"|"&$B12,Decade_Index!$P$25:$P$534,0)),"") -> CHC | D12: =IFERROR(INDEX(Decade_Index!$J$25:$J$534,MATCH($A12&"|"&$B12,Decade_Index!$P$25:$P$534,0)),"") -> 6.0609866 | E12: =IFERROR(INDEX(Decade_Index!$K$25:$K$534,MATCH($A12&"|"&$B12,Decade_Index!$P$25:$P$534,0)),"") -> 8.8086363 | F12: =IFERROR(INDEX(Decade_Index!$L$25:$L$534,MATCH($A12&"|"&$B12,Decade_Index!$P$25:$P$534,0)),"") -> 2 | G12: =IFERROR(INDEX(Decade_Index!$M$25:$M$534,MATCH($A12&"|"&$B12,Decade_Index!$P$25:$P$534,0)),"") -> 0
A13: 1910s | B13: 4 | C13: =IFERROR(INDEX(Decade_Index!$B$25:$B$534,MATCH($A13&"|"&$B13,Decade_Index!$P$25:$P$534,0)),"") -> DET | D13: =IFERROR(INDEX(Decade_Index!$J$25:$J$534,MATCH($A13&"|"&$B13,Decade_Index!$P$25:$P$534,0)),"") -> 4.7147464 | E13: =IFERROR(INDEX(Decade_Index!$K$25:$K$534,MATCH($A13&"|"&$B13,Decade_Index!$P$25:$P$534,0)),"") -> 4.4368793 | F13: =IFERROR(INDEX(Decade_Index!$L$25:$L$534,MATCH($A13&"|"&$B13,Decade_Index!$P$25:$P$534,0)),"") -> 0 | G13: =IFERROR(INDEX(Decade_Index!$M$25:$M$534,MATCH($A13&"|"&$B13,Decade_Index!$P$25:$P$534,0)),"") -> 0
A14: 1910s | B14: 5 | C14: =IFERROR(INDEX(Decade_Index!$B$25:$B$534,MATCH($A14&"|"&$B14,Decade_Index!$P$25:$P$534,0)),"") -> MIN | D14: =IFERROR(INDEX(Decade_Index!$J$25:$J$534,MATCH($A14&"|"&$B14,Decade_Index!$P$25:$P$534,0)),"") -> 4.0319582 | E14: =IFERROR(INDEX(Decade_Index!$K$25:$K$534,MATCH($A14&"|"&$B14,Decade_Index!$P$25:$P$534,0)),"") -> 0.97937004 | F14: =IFERROR(INDEX(Decade_Index!$L$25:$L$534,MATCH($A14&"|"&$B14,Decade_Index!$P$25:$P$534,0)),"") -> 0 | G14: =IFERROR(INDEX(Decade_Index!$M$25:$M$534,MATCH($A14&"|"&$B14,Decade_Index!$P$25:$P$534,0)),"") -> 0
A15: 1920s | B15: 1 | C15: =IFERROR(INDEX(Decade_Index!$B$25:$B$534,MATCH($A15&"|"&$B15,Decade_Index!$P$25:$P$534,0)),"") -> PIT | D15: =IFERROR(INDEX(Decade_Index!$J$25:$J$534,MATCH($A15&"|"&$B15,Decade_Index!$P$25:$P$534,0)),"") -> 13.465974 | E15: =IFERROR(INDEX(Decade_Index!$K$25:$K$534,MATCH($A15&"|"&$B15,Decade_Index!$P$25:$P$534,0)),"") -> 11.681886 | F15: =IFERROR(INDEX(Decade_Index!$L$25:$L$534,MATCH($A15&"|"&$B15,Decade_Index!$P$25:$P$534,0)),"") -> 2 | G15: =IFERROR(INDEX(Decade_Index!$M$25:$M$534,MATCH($A15&"|"&$B15,Decade_Index!$P$25:$P$534,0)),"") -> 1
A16: 1920s | B16: 2 | C16: =IFERROR(INDEX(Decade_Index!$B$25:$B$534,MATCH($A16&"|"&$B16,Decade_Index!$P$25:$P$534,0)),"") -> NYY | D16: =IFERROR(INDEX(Decade_Index!$J$25:$J$534,MATCH($A16&"|"&$B16,Decade_Index!$P$25:$P$534,0)),"") -> 11.74974 | E16: =IFERROR(INDEX(Decade_Index!$K$25:$K$534,MATCH($A16&"|"&$B16,Decade_Index!$P$25:$P$534,0)),"") -> 17.474024 | F16: =IFERROR(INDEX(Decade_Index!$L$25:$L$534,MATCH($A16&"|"&$B16,Decade_Index!$P$25:$P$534,0)),"") -> 6 | G16: =IFERROR(INDEX(Decade_Index!$M$25:$M$534,MATCH($A16&"|"&$B16,Decade_Index!$P$25:$P$534,0)),"") -> 3
... A89: 2020s payroll-adj | B89: 5 | C89: =IFERROR(INDEX(Decade_Index!$B$25:$B$534,MATCH($A89&"|"&$B89,Decade_Index!$P$25:$P$534,0)),"") -> HOU | D89: =IFERROR(INDEX(Decade_Index!$J$25:$J$534,MATCH($A89&"|"&$B89,Decade_Index!$P$25:$P$534,0)),"") -> 6.7644528 | E89: =IFERROR(INDEX(Decade_Index!$K$25:$K$534,MATCH($A89&"|"&$B89,Decade_Index!$P$25:$P$534,0)),"") -> 9.8096601 | F89: =IFERROR(INDEX(Decade_Index!$L$25:$L$534,MATCH($A89&"|"&$B89,Decade_Index!$P$25:$P$534,0)),"") -> 5 | G89: =IFERROR(INDEX(Decade_Index!$M$25:$M$534,MATCH($A89&"|"&$B89,Decade_Index!$P$25:$P$534,0)),"") -> 1

Sheet Decade_Index
A1: Decade index: wins above what a club's market, start-up status and payroll predict
A2: For each period, win% vs the league average is regressed on relative market size and an expansion first-10-seasons flag (all periods), and, for 1990-2016, relative payroll. Index = (average actual - average predicted) x 162 = wins per 162 games above expectation. Clubs need at least 5 seasons in the period. Payroll covers 1985-2025 (Lahman Salaries to 2016; press-reported payrolls 2017-2025, see Payroll_Sources); the 1980s cannot be payroll-adjusted.
A4: Period | B4: Start | C4: End | D4: First row | E4: Last row | F4: Model | G4: Size coef | H4: Expansion first-10 coef | I4: Payroll coef | J4: Intercept
A5: 1900s | B5: 1900 | C5: 1909 | D5: 2 | E5: 143 | F5: =SLOPE(Market_Panel!$M$2:$M$143,Market_Panel!$Z$2:$Z$143) -> 0.051208442 | G5: 0 | H5: 0 | I5: =INTERCEPT(Market_Panel!$M$2:$M$143,Market_Panel!$Z$2:$Z$143) -> -2.9105511e-18 | J5: Market size only
A6: 1910s | B6: 1910 | C6: 1919 | D6: 144 | E6: 303 | F6: =SLOPE(Market_Panel!$M$144:$M$303,Market_Panel!$Z$144:$Z$303) -> 0.030759975 | G6: 0 | H6: 0 | I6: =INTERCEPT(Market_Panel!$M$144:$M$303,Market_Panel!$Z$144:$Z$303) -> -5.6327207e-18 | J6: Market size only
A7: 1920s | B7: 1920 | C7: 1929 | D7: 304 | E7: 463 | F7: =SLOPE(Market_Panel!$M$304:$M$463,Market_Panel!$Z$304:$Z$463) -> 0.038813383 | G7: 0 | H7: 0 | I7: =INTERCEPT(Market_Panel!$M$304:$M$463,Market_Panel!$Z$304:$Z$463) -> -8.6736174e-18 | J7: Market size only
A8: 1930s | B8: 1930 | C8: 1939 | D8: 464 | E8: 623 | F8: =SLOPE(Market_Panel!$M$464:$M$623,Market_Panel!$Z$464:$Z$623) -> 0.044878731 | G8: 0 | H8: 0 | I8: =INTERCEPT(Market_Panel!$M$464:$M$623,Market_Panel!$Z$464:$Z$623) -> -6.6102803e-18 | J8: Market size only
A9: 1940s | B9: 1940 | C9: 1949 | D9: 624 | E9: 783 | F9: =SLOPE(Market_Panel!$M$624:$M$783,Market_Panel!$Z$624:$Z$783) -> 0.0081355809 | G9: 0 | H9: 0 | I9: =INTERCEPT(Market_Panel!$M$624:$M$783,Market_Panel!$Z$624:$Z$783) -> 1.5354926e-18 | J9: Market size only
A10: 1950s | B10: 1950 | C10: 1959 | D10: 784 | E10: 943 | F10: =SLOPE(Market_Panel!$M$784:$M$943,Market_Panel!$Z$784:$Z$943) -> 0.046577811 | G10: 0 | H10: 0 | I10: =INTERCEPT(Market_Panel!$M$784:$M$943,Market_Panel!$Z$784:$Z$943) -> -9.3081165e-18 | J10: Market size only
A11: 1960s | B11: 1960 | C11: 1969 | D11: 944 | E11: 1141 | F11: =INDEX(LINEST(Market_Panel!$M$944:$M$1141,Market_Panel!$Z$944:$AA$1141),1,2) -> 0.0035490325 | G11: =INDEX(LINEST(Market_Panel!$M$944:$M$1141,Market_Panel!$Z$944:$AA$1141),1,1) -> -0.10034199 | H11: 0 | I11: =INDEX(LINEST(Market_Panel!$M$944:$M$1141,Market_Panel!$Z$944:$AA$1141),1,3) -> 0.019257553 | J11: Market + expansion first-10
A12: 1970s | B12: 1970 | C12: 1979 | D12: 1142 | E12: 1387 | F12: =INDEX(LINEST(Market_Panel!$M$1142:$M$1387,Market_Panel!$Z$1142:$AA$1387),1,2) -> -0.0081553666 | G12: =INDEX(LINEST(Market_Panel!$M$1142:$M$1387,Market_Panel!$Z$1142:$AA$1387),1,1) -> -0.061723904 | H12: 0 | I12: =INDEX(LINEST(Market_Panel!$M$1142:$M$1387,Market_Panel!$Z$1142:$AA$1387),1,3) -> 0.012043689 | J12: Market + expansion first-10
A13: 1980s | B13: 1980 | C13: 1989 | D13: 1388 | E13: 1647 | F13: =INDEX(LINEST(Market_Panel!$M$1388:$M$1647,Market_Panel!$Z$1388:$AA$1647),1,2) -> 0.014060468 | G13: =INDEX(LINEST(Market_Panel!$M$1388:$M$1647,Market_Panel!$Z$1388:$AA$1647),1,1) -> -0.037336307 | H13: 0 | I13: =INDEX(LINEST(Market_Panel!$M$1388:$M$1647,Market_Panel!$Z$1388:$AA$1647),1,3) -> 0.0020104165 | J13: Market + expansion first-10
A14: 1990s | B14: 1990 | C14: 1999 | D14: 1648 | E14: 1925 | F14: =INDEX(LINEST(Market_Panel!$M$1648:$M$1925,Market_Panel!$Z$1648:$AA$1925),1,2) -> 0.002066921 | G14: =INDEX(LINEST(Market_Panel!$M$1648:$M$1925,Market_Panel!$Z$1648:$AA$1925),1,1) -> -0.041715288 | H14: 0 | I14: =INDEX(LINEST(Market_Panel!$M$1648:$M$1925,Market_Panel!$Z$1648:$AA$1925),1,3) -> 0.0027009898 | J14: Market + expansion first-10
A15: 2000s | B15: 2000 | C15: 2009 | D15: 1926 | E15: 2225 | F15: =INDEX(LINEST(Market_Panel!$M$1926:$M$2225,Market_Panel!$Z$1926:$AA$2225),1,2) -> 0.01792551 | G15: =INDEX(LINEST(Market_Panel!$M$1926:$M$2225,Market_Panel!$Z$1926:$AA$2225),1,1) -> -0.039463634 | H15: 0 | I15: =INDEX(LINEST(Market_Panel!$M$1926:$M$2225,Market_Panel!$Z$1926:$AA$2225),1,3) -> 0.0028939998 | J15: Market + expansion first-10
A16: 2010s | B16: 2010 | C16: 2019 | D16: 2226 | E16: 2525 | F16: =SLOPE(Market_Panel!$M$2226:$M$2525,Market_Panel!$Z$2226:$Z$2525) -> 0.0047971914 | G16: 0 | H16: 0 | I16: =INTERCEPT(Market_Panel!$M$2226:$M$2525,Market_Panel!$Z$2226:$Z$2525) -> -1.0749188e-17 | J16: Market size only
A17: 2020s | B17: 2020 | C17: 2025 | D17: 2526 | E17: 2705 | F17: =SLOPE(Market_Panel!$M$2526:$M$2705,Market_Panel!$Z$2526:$Z$2705) -> 0.020994858 | G17: 0 | H17: 0 | I17: =INTERCEPT(Market_Panel!$M$2526:$M$2705,Market_Panel!$Z$2526:$Z$2705) -> 1.6450156e-17 | J17: Market size only
A18: 1990s payroll-adj | B18: 1990 | C18: 1999 | D18: 1648 | E18: 1925 | F18: =INDEX(LINEST(Market_Panel!$M$1648:$M$1925,Market_Panel!$AB$1648:$AD$1925),1,3) -> -0.0045365493 | G18: =INDEX(LINEST(Market_Panel!$M$1648:$M$1925,Market_Panel!$AB$1648:$AD$1925),1,1) -> -0.035523891 | H18: =INDEX(LINEST(Market_Panel!$M$1648:$M$1925,Market_Panel!$AB$1648:$AD$1925),1,2) -> 0.073507677 | I18: =INDEX(LINEST(Market_Panel!$M$1648:$M$1925,Market_Panel!$AB$1648:$AD$1925),1,4) -> 0.0023001081 | J18: Market + payroll + expansion first-10
A19: 2000s payroll-adj | B19: 2000 | C19: 2009 | D19: 1926 | E19: 2225 | F19: =INDEX(LINEST(Market_Panel!$M$1926:$M$2225,Market_Panel!$AB$1926:$AD$2225),1,3) -> -0.0014377943 | G19: =INDEX(LINEST(Market_Panel!$M$1926:$M$2225,Market_Panel!$AB$1926:$AD$2225),1,1) -> -0.026791449 | H19: =INDEX(LINEST(Market_Panel!$M$1926:$M$2225,Market_Panel!$AB$1926:$AD$2225),1,2) -> 0.070584385 | I19: =INDEX(LINEST(Market_Panel!$M$1926:$M$2225,Market_Panel!$AB$1926:$AD$2225),1,4) -> 0.0019647063 | J19: Market + payroll + expansion first-10
A20: 2010s payroll-adj | B20: 2010 | C20: 2019 | D20: 2226 | E20: 2525 | F20: =INDEX(LINEST(Market_Panel!$M$2226:$M$2525,Market_Panel!$AB$2226:$AC$2525),1,2) -> -0.0071383964 | G20: 0 | H20: =INDEX(LINEST(Market_Panel!$M$2226:$M$2525,Market_Panel!$AB$2226:$AC$2525),1,1) -> 0.071980107 | I20: =INDEX(LINEST(Market_Panel!$M$2226:$M$2525,Market_Panel!$AB$2226:$AC$2525),1,3) -> -2.8420534e-17 | J20: Market + payroll
A21: 2020s payroll-adj | B21: 2020 | C21: 2025 | D21: 2526 | E21: 2705 | F21: =INDEX(LINEST(Market_Panel!$M$2526:$M$2705,Market_Panel!$AB$2526:$AC$2705),1,2) -> -0.012275869 | G21: 0 | H21: =INDEX(LINEST(Market_Panel!$M$2526:$M$2705,Market_Panel!$AB$2526:$AC$2705),1,1) -> 0.084069461 | I21: =INDEX(LINEST(Market_Panel!$M$2526:$M$2705,Market_Panel!$AB$2526:$AC$2705),1,3) -> -1.185731e-17 | J21: Market + payroll
A23: Club-by-period table
A24: Period | B24: Franchise | C24: Group | D24: Seasons in period | E24: Avg win% vs league | F24: Avg relative size | G24: Avg expansion first-10 | H24: Avg relative payroll | I24: Expected win% vs league | J24: Wins/162 above expectation (INDEX) | K24: Raw wins/162 vs league | L24: Postseason apps | M24: WS titles | N24: Eligible index | O24: Rank in period | P24: Key
A25: 1900s | B25: ATL | C25: Established | D25: =COUNTIFS(Market_Panel!$A$2:$A$2705,B25,Market_Panel!$B$2:$B$2705,">="&$B$5,Market_Panel!$B$2:$B$2705,"<="&$C$5) -> 9 | E25: =IF(D25=0,"",AVERAGEIFS(Market_Panel!$M$2:$M$2705,Market_Panel!$A$2:$A$2705,B25,Market_Panel!$B$2:$B$2705,">="&$B$5,Market_Panel!$B$2:$B$2705,"<="&$C$5)) -> -0.10491402 | F25: =IF(D25=0,"",AVERAGEIFS(Market_Panel!$P$2:$P$2705,Market_Panel!$A$2:$A$2705,B25,Market_Panel!$B$2:$B$2705,">="&$B$5,Market_Panel!$B$2:$B$2705,"<="&$C$5)) -> -0.59483882 | G25: =IF(D25=0,"",AVERAGEIFS(Market_Panel!$R$2:$R$2705,Market_Panel!$A$2:$A$2705,B25,Market_Panel!$B$2:$B$2705,">="&$B$5,Market_Panel!$B$2:$B$2705,"<="&$C$5)) -> 0 | H25: =IF(OR(D25=0,$H$5=0),0,AVERAGEIFS(Market_Panel!$Y$2:$Y$2705,Market_Panel!$A$2:$A$2705,B25,Market_Panel!$B$2:$B$2705,">="&$B$5,Market_Panel!$B$2:$B$2705,"<="&$C$5)) -> 0 | I25: =IF(D25=0,"",$I$5+$F$5*F25+$G$5*G25+$H$5*H25) -> -0.030460769 | J25: =IF(D25<5,"",(E25-I25)*162) -> -12.061427 | K25: =IF(D25=0,"",E25*162) -> -16.996072 | L25: =SUMIFS(Seasons!$L$2:$L$2865,Seasons!$A$2:$A$2865,B25,Seasons!$B$2:$B$2865,">="&$B$5,Seasons!$B$2:$B$2865,"<="&$C$5) -> 0 | M25: =SUMIFS(Seasons!$N$2:$N$2865,Seasons!$A$2:$A$2865,B25,Seasons!$B$2:$B$2865,">="&$B$5,Seasons!$B$2:$B$2865,"<="&$C$5) -> 0 | N25: =IF(J25="",-1000000,J25+ROW()*0.000000001) -> -12.061427 | O25: =IF(J25="","",SUMPRODUCT(($A$25:$A$534=A25)*($N$25:$N$534>N25))+1) -> 13 | P25: =A25&"|"&O25 -> 1900s|13
A26: 1900s | B26: CHC | C26: Established | D26: =COUNTIFS(Market_Panel!$A$2:$A$2705,B26,Market_Panel!$B$2:$B$2705,">="&$B$5,Market_Panel!$B$2:$B$2705,"<="&$C$5) -> 9 | E26: =IF(D26=0,"",AVERAGEIFS(Market_Panel!$M$2:$M$2705,Market_Panel!$A$2:$A$2705,B26,Market_Panel!$B$2:$B$2705,">="&$B$5,Market_Panel!$B$2:$B$2705,"<="&$C$5)) -> 0.10700967 | F26: =IF(D26=0,"",AVERAGEIFS(Market_Panel!$P$2:$P$2705,Market_Panel!$A$2:$A$2705,B26,Market_Panel!$B$2:$B$2705,">="&$B$5,Market_Panel!$B$2:$B$2705,"<="&$C$5)) -> 0.54984454 | G26: =IF(D26=0,"",AVERAGEIFS(Market_Panel!$R$2:$R$2705,Market_Panel!$A$2:$A$2705,B26,Market_Panel!$B$2:$B$2705,">="&$B$5,Market_Panel!$B$2:$B$2705,"<="&$C$5)) -> 0 | H26: =IF(OR(D26=0,$H$5=0),0,AVERAGEIFS(Market_Panel!$Y$2:$Y$2705,Market_Panel!$A$2:$A$2705,B26,Market_Panel!$B$2:$B$2705,">="&$B$5,Market_Panel!$B$2:$B$2705,"<="&$C$5)) -> 0 | I26: =IF(D26=0,"",$I$5+$F$5*F26+$G$5*G26+$H$5*H26) -> 0.028156682 | J26: =IF(D26<5,"",(E26-I26)*162) -> 12.774184 | K26: =IF(D26=0,"",E26*162) -> 17.335566 | L26: =SUMIFS(Seasons!$L$2:$L$2865,Seasons!$A$2:$A$2865,B26,Seasons!$B$2:$B$2865,">="&$B$5,Seasons!$B$2:$B$2865,"<="&$C$5) -> 3 | M26: =SUMIFS(Seasons!$N$2:$N$2865,Seasons!$A$2:$A$2865,B26,Seasons!$B$2:$B$2865,">="&$B$5,Seasons!$B$2:$B$2865,"<="&$C$5) -> 2 | N26: =IF(J26="",-1000000,J26+ROW()*0.000000001) -> 12.774184 | O26: =IF(J26="","",SUMPRODUCT(($A$25:$A$534=A26)*($N$25:$N$534>N26))+1) -> 2 | P26: =A26&"|"&O26 -> 1900s|2
A27: 1900s | B27: CIN | C27: Established | D27: =COUNTIFS(Market_Panel!$A$2:$A$2705,B27,Market_Panel!$B$2:$B$2705,">="&$B$5,Market_Panel!$B$2:$B$2705,"<="&$C$5) -> 9 | E27: =IF(D27=0,"",AVERAGEIFS(Market_Panel!$M$2:$M$2705,Market_Panel!$A$2:$A$2705,B27,Market_Panel!$B$2:$B$2705,">="&$B$5,Market_Panel!$B$2:$B$2705,"<="&$C$5)) -> -0.019680762 | F27: =IF(D27=0,"",AVERAGEIFS(Market_Panel!$P$2:$P$2705,Market_Panel!$A$2:$A$2705,B27,Market_Panel!$B$2:$B$2705,">="&$B$5,Market_Panel!$B$2:$B$2705,"<="&$C$5)) -> -0.47921789 | G27: =IF(D27=0,"",AVERAGEIFS(Market_Panel!$R$2:$R$2705,Market_Panel!$A$2:$A$2705,B27,Market_Panel!$B$2:$B$2705,">="&$B$5,Market_Panel!$B$2:$B$2705,"<="&$C$5)) -> 0 | H27: =IF(OR(D27=0,$H$5=0),0,AVERAGEIFS(Market_Panel!$Y$2:$Y$2705,Market_Panel!$A$2:$A$2705,B27,Market_Panel!$B$2:$B$2705,">="&$B$5,Market_Panel!$B$2:$B$2705,"<="&$C$5)) -> 0 | I27: =IF(D27=0,"",$I$5+$F$5*F27+$G$5*G27+$H$5*H27) -> -0.024540001 | J27: =IF(D27<5,"",(E27-I27)*162) -> 0.78719673 | K27: =IF(D27=0,"",E27*162) -> -3.1882835 | L27: =SUMIFS(Seasons!$L$2:$L$2865,Seasons!$A$2:$A$2865,B27,Seasons!$B$2:$B$2865,">="&$B$5,Seasons!$B$2:$B$2865,"<="&$C$5) -> 0 | M27: =SUMIFS(Seasons!$N$2:$N$2865,Seasons!$A$2:$A$2865,B27,Seasons!$B$2:$B$2865,">="&$B$5,Seasons!$B$2:$B$2865,"<="&$C$5) -> 0 | N27: =IF(J27="",-1000000,J27+ROW()*0.000000001) -> 0.78719675 | O27: =IF(J27="","",SUMPRODUCT(($A$25:$A$534=A27)*($N$25:$N$534>N27))+1) -> 9 | P27: =A27&"|"&O27 -> 1900s|9
A28: 1900s | B28: PIT | C28: Established | D28: =COUNTIFS(Market_Panel!$A$2:$A$2705,B28,Market_Panel!$B$2:$B$2705,">="&$B$5,Market_Panel!$B$2:$B$2705,"<="&$C$5) -> 9 | E28: =IF(D28=0,"",AVERAGEIFS(Market_Panel!$M$2:$M$2705,Market_Panel!$A$2:$A$2705,B28,Market_Panel!$B$2:$B$2705,">="&$B$5,Market_Panel!$B$2:$B$2705,"<="&$C$5)) -> 0.14286169 | F28: =IF(D28=0,"",AVERAGEIFS(Market_Panel!$P$2:$P$2705,Market_Panel!$A$2:$A$2705,B28,Market_Panel!$B$2:$B$2705,">="&$B$5,Market_Panel!$B$2:$B$2705,"<="&$C$5)) -> -0.29374295 | G28: =IF(D28=0,"",AVERAGEIFS(Market_Panel!$R$2:$R$2705,Market_Panel!$A$2:$A$2705,B28,Market_Panel!$B$2:$B$2705,">="&$B$5,Market_Panel!$B$2:$B$2705,"<="&$C$5)) -> 0 | H28: =IF(OR(D28=0,$H$5=0),0,AVERAGEIFS(Market_Panel!$Y$2:$Y$2705,Market_Panel!$A$2:$A$2705,B28,Market_Panel!$B$2:$B$2705,">="&$B$5,Market_Panel!$B$2:$B$2705,"<="&$C$5)) -> 0 | I28: =IF(D28=0,"",$I$5+$F$5*F28+$G$5*G28+$H$5*H28) -> -0.015042119 | J28: =IF(D28<5,"",(E28-I28)*162) -> 25.580417 | K28: =IF(D28=0,"",E28*162) -> 23.143594 | L28: =SUMIFS(Seasons!$L$2:$L$2865,Seasons!$A$2:$A$2865,B28,Seasons!$B$2:$B$2865,">="&$B$5,Seasons!$B$2:$B$2865,"<="&$C$5) -> 4 | M28: =SUMIFS(Seasons!$N$2:$N$2865,Seasons!$A$2:$A$2865,B28,Seasons!$B$2:$B$2865,">="&$B$5,Seasons!$B$2:$B$2865,"<="&$C$5) -> 1 | N28: =IF(J28="",-1000000,J28+ROW()*0.000000001) -> 25.580417 | O28: =IF(J28="","",SUMPRODUCT(($A$25:$A$534=A28)*($N$25:$N$534>N28))+1) -> 1 | P28: =A28&"|"&O28 -> 1900s|1
A29: 1900s | B29: STL | C29: Established | D29: =COUNTIFS(Market_Panel!$A$2:$A$2705,B29,Market_Panel!$B$2:$B$2705,">="&$B$5,Market_Panel!$B$2:$B$2705,"<="&$C$5) -> 9 | E29: =IF(D29=0,"",AVERAGEIFS(Market_Panel!$M$2:$M$2705,Market_Panel!$A$2:$A$2705,B29,Market_Panel!$B$2:$B$2705,">="&$B$5,Market_Panel!$B$2:$B$2705,"<="&$C$5)) -> -0.112151 | F29: =IF(D29=0,"",AVERAGEIFS(Market_Panel!$P$2:$P$2705,Market_Panel!$A$2:$A$2705,B29,Market_Panel!$B$2:$B$2705,">="&$B$5,Market_Panel!$B$2:$B$2705,"<="&$C$5)) -> -0.4930817 | G29: =IF(D29=0,"",AVERAGEIFS(Market_Panel!$R$2:$R$2705,Market_Panel!$A$2:$A$2705,B29,Market_Panel!$B$2:$B$2705,">="&$B$5,Market_Panel!$B$2:$B$2705,"<="&$C$5)) -> 0 | H29: =IF(OR(D29=0,$H$5=0),0,AVERAGEIFS(Market_Panel!$Y$2:$Y$2705,Market_Panel!$A$2:$A$2705,B29,Market_Panel!$B$2:$B$2705,">="&$B$5,Market_Panel!$B$2:$B$2705,"<="&$C$5)) -> 0 | I29: =IF(D29=0,"",$I$5+$F$5*F29+$G$5*G29+$H$5*H29) -> -0.025249945 | J29: =IF(D29<5,"",(E29-I29)*162) -> -14.077971 | K29: =IF(D29=0,"",E29*162) -> -18.168462 | L29: =SUMIFS(Seasons!$L$2:$L$2865,Seasons!$A$2:$A$2865,B29,Seasons!$B$2:$B$2865,">="&$B$5,Seasons!$B$2:$B$2865,"<="&$C$5) -> 0 | M29: =SUMIFS(Seasons!$N$2:$N$2865,Seasons!$A$2:$A$2865,B29,Seasons!$B$2:$B$2865,">="&$B$5,Seasons!$B$2:$B$2865,"<="&$C$5) -> 0 | N29: =IF(J29="",-1000000,J29+ROW()*0.000000001) -> -14.077971 | O29: =IF(J29="","",SUMPRODUCT(($A$25:$A$534=A29)*($N$25:$N$534>N29))+1) -> 14 | P29: =A29&"|"&O29 -> 1900s|14
A30: 1900s | B30: PHI | C30: Established | D30: =COUNTIFS(Market_Panel!$A$2:$A$2705,B30,Market_Panel!$B$2:$B$2705,">="&$B$5,Market_Panel!$B$2:$B$2705,"<="&$C$5) -> 9 | E30: =IF(D30=0,"",AVERAGEIFS(Market_Panel!$M$2:$M$2705,Market_Panel!$A$2:$A$2705,B30,Market_Panel!$B$2:$B$2705,">="&$B$5,Market_Panel!$B$2:$B$2705,"<="&$C$5)) -> -0.022619564 | F30: =IF(D30=0,"",AVERAGEIFS(Market_Panel!$P$2:$P$2705,Market_Panel!$A$2:$A$2705,B30,Market_Panel!$B$2:$B$2705,">="&$B$5,Market_Panel!$B$2:$B$2705,"<="&$C$5)) -> 0.24163641 | G30: =IF(D30=0,"",AVERAGEIFS(Market_Panel!$R$2:$R$2705,Market_Panel!$A$2:$A$2705,B30,Market_Panel!$B$2:$B$2705,">="&$B$5,Market_Panel!$B$2:$B$2705,"<="&$C$5)) -> 0 | H30: =IF(OR(D30=0,$H$5=0),0,AVERAGEIFS(Market_Panel!$Y$2:$Y$2705,Market_Panel!$A$2:$A$2705,B30,Market_Panel!$B$2:$B$2705,">="&$B$5,Market_Panel!$B$2:$B$2705,"<="&$C$5)) -> 0 | I30: =IF(D30=0,"",$I$5+$F$5*F30+$G$5*G30+$H$5*H30) -> 0.012373824 | J30: =IF(D30<5,"",(E30-I30)*162) -> -5.6689288 | K30: =IF(D30=0,"",E30*162) -> -3.6643693 | L30: =SUMIFS(Seasons!$L$2:$L$2865,Seasons!$A$2:$A$2865,B30,Seasons!$B$2:$B$2865,">="&$B$5,Seasons!$B$2:$B$2865,"<="&$C$5) -> 0 | M30: =SUMIFS(Seasons!$N$2:$N$2865,Seasons!$A$2:$A$2865,B30,Seasons!$B$2:$B$2865,">="&$B$5,Seasons!$B$2:$B$2865,"<="&$C$5) -> 0 | N30: =IF(J30="",-1000000,J30+ROW()*0.000000001) -> -5.6689288 | O30: =IF(J30="","",SUMPRODUCT(($A$25:$A$534=A30)*($N$25:$N$534>N30))+1) -> 11 | P30: =A30&"|"&O30 -> 1900s|11
A31: 1900s | B31: SFG | C31: Established | D31: =COUNTIFS(Market_Panel!$A$2:$A$2705,B31,Market_Panel!$B$2:$B$2705,">="&$B$5,Market_Panel!$B$2:$B$2705,"<="&$C$5) -> 9 | E31: =IF(D31=0,"",AVERAGEIFS(Market_Panel!$M$2:$M$2705,Market_Panel!$A$2:$A$2705,B31,Market_Panel!$B$2:$B$2705,">="&$B$5,Market_Panel!$B$2:$B$2705,"<="&$C$5)) -> 0.068165524 | F31: =IF(D31=0,"",AVERAGEIFS(Market_Panel!$P$2:$P$2705,Market_Panel!$A$2:$A$2705,B31,Market_Panel!$B$2:$B$2705,">="&$B$5,Market_Panel!$B$2:$B$2705,"<="&$C$5)) -> 0.97689049 | G31: =IF(D31=0,"",AVERAGEIFS(Market_Panel!$R$2:$R$2705,Market_Panel!$A$2:$A$2705,B31,Market_Panel!$B$2:$B$2705,">="&$B$5,Market_Panel!$B$2:$B$2705,"<="&$C$5)) -> 0 | H31: =IF(OR(D31=0,$H$5=0),0,AVERAGEIFS(Market_Panel!$Y$2:$Y$2705,Market_Panel!$A$2:$A$2705,B31,Market_Panel!$B$2:$B$2705,">="&$B$5,Market_Panel!$B$2:$B$2705,"<="&$C$5)) -> 0 | I31: =IF(D31=0,"",$I$5+$F$5*F31+$G$5*G31+$H$5*H31) -> 0.05002504 | J31: =IF(D31<5,"",(E31-I31)*162) -> 2.9387584 | K31: =IF(D31=0,"",E31*162) -> 11.042815 | L31: =SUMIFS(Seasons!$L$2:$L$2865,Seasons!$A$2:$A$2865,B31,Seasons!$B$2:$B$2865,">="&$B$5,Seasons!$B$2:$B$2865,"<="&$C$5) -> 2 | M31: =SUMIFS(Seasons!$N$2:$N$2865,Seasons!$A$2:$A$2865,B31,Seasons!$B$2:$B$2865,">="&$B$5,Seasons!$B$2:$B$2865,"<="&$C$5) -> 1 | N31: =IF(J31="",-1000000,J31+ROW()*0.000000001) -> 2.9387585 | O31: =IF(J31="","",SUMPRODUCT(($A$25:$A$534=A31)*($N$25:$N$534>N31))+1) -> 8 | P31: =A31&"|"&O31 -> 1900s|8
A32: 1900s | B32: LAD | C32: Established | D32: =COUNTIFS(Market_Panel!$A$2:$A$2705,B32,Market_Panel!$B$2:$B$2705,">="&$B$5,Market_Panel!$B$2:$B$2705,"<="&$C$5) -> 9 | E32: =IF(D32=0,"",AVERAGEIFS(Market_Panel!$M$2:$M$2705,Market_Panel!$A$2:$A$2705,B32,Market_Panel!$B$2:$B$2705,">="&$B$5,Market_Panel!$B$2:$B$2705,"<="&$C$5)) -> -0.067745642 | F32: =IF(D32=0,"",AVERAGEIFS(Market_Panel!$P$2:$P$2705,Market_Panel!$A$2:$A$2705,B32,Market_Panel!$B$2:$B$2705,">="&$B$5,Market_Panel!$B$2:$B$2705,"<="&$C$5)) -> 0.97689049 | G32: =IF(D32=0,"",AVERAGEIFS(Market_Panel!$R$2:$R$2705,Market_Panel!$A$2:$A$2705,B32,Market_Panel!$B$2:$B$2705,">="&$B$5,Market_Panel!$B$2:$B$2705,"<="&$C$5)) -> 0 | H32: =IF(OR(D32=0,$H$5=0),0,AVERAGEIFS(Market_Panel!$Y$2:$Y$2705,Market_Panel!$A$2:$A$2705,B32,Market_Panel!$B$2:$B$2705,">="&$B$5,Market_Panel!$B$2:$B$2705,"<="&$C$5)) -> 0 | I32: =IF(D32=0,"",$I$5+$F$5*F32+$G$5*G32+$H$5*H32) -> 0.05002504 | J32: =IF(D32<5,"",(E32-I32)*162) -> -19.07885 | K32: =IF(D32=0,"",E32*162) -> -10.974794 | L32: =SUMIFS(Seasons!$L$2:$L$2865,Seasons!$A$2:$A$2865,B32,Seasons!$B$2:$B$2865,">="&$B$5,Seasons!$B$2:$B$2865,"<="&$C$5) -> 1 | M32: =SUMIFS(Seasons!$N$2:$N$2865,Seasons!$A$2:$A$2865,B32,Seasons!$B$2:$B$2865,">="&$B$5,Seasons!$B$2:$B$2865,"<="&$C$5) -> 0 | N32: =IF(J32="",-1000000,J32+ROW()*0.000000001) -> -19.07885 | O32: =IF(J32="","",SUMPRODUCT(($A$25:$A$534=A32)*($N$25:$N$534>N32))+1) -> 16 | P32: =A32&"|"&O32 -> 1900s|16
A33: 1900s | B33: BAL | C33: Established | D33: =COUNTIFS(Market_Panel!$A$2:$A$2705,B33,Market_Panel!$B$2:$B$2705,">="&$B$5,Market_Panel!$B$2:$B$2705,"<="&$C$5) -> 9 | E33: =IF(D33=0,"",AVERAGEIFS(Market_Panel!$M$2:$M$2705,Market_Panel!$A$2:$A$2705,B33,Market_Panel!$B$2:$B$2705,">="&$B$5,Market_Panel!$B$2:$B$2705,"<="&$C$5)) -> -0.046531744 | F33: =IF(D33=0,"",AVERAGEIFS(Market_Panel!$P$2:$P$2705,Market_Panel!$A$2:$A$2705,B33,Market_Panel!$B$2:$B$2705,">="&$B$5,Market_Panel!$B$2:$B$2705,"<="&$C$5)) -> -0.56996185 | G33: =IF(D33=0,"",AVERAGEIFS(Market_Panel!$R$2:$R$2705,Market_Panel!$A$2:$A$2705,B33,Market_Panel!$B$2:$B$2705,">="&$B$5,Market_Panel!$B$2:$B$2705,"<="&$C$5)) -> 0 | H33: =IF(OR(D33=0,$H$5=0),0,AVERAGEIFS(Market_Panel!$Y$2:$Y$2705,Market_Panel!$A$2:$A$2705,B33,Market_Panel!$B$2:$B$2705,">="&$B$5,Market_Panel!$B$2:$B$2705,"<="&$C$5)) -> 0 | I33: =IF(D33=0,"",$I$5+$F$5*F33+$G$5*G33+$H$5*H33) -> -0.029186858 | J33: =IF(D33<5,"",(E33-I33)*162) -> -2.8098715 | K33: =IF(D33=0,"",E33*162) -> -7.5381425 | L33: =SUMIFS(Seasons!$L$2:$L$2865,Seasons!$A$2:$A$2865,B33,Seasons!$B$2:$B$2865,">="&$B$5,Seasons!$B$2:$B$2865,"<="&$C$5) -> 0 | M33: =SUMIFS(Seasons!$N$2:$N$2865,Seasons!$A$2:$A$2865,B33,Seasons!$B$2:$B$2865,">="&$B$5,Seasons!$B$2:$B$2865,"<="&$C$5) -> 0 | N33: =IF(J33="",-1000000,J33+ROW()*0.000000001) -> -2.8098715 | O33: =IF(J33="","",SUMPRODUCT(($A$25:$A$534=A33)*($N$25:$N$534>N33))+1) -> 10 | P33: =A33&"|"&O33 -> 1900s|10
A34: 1900s | B34: BOS | C34: Established | D34: =COUNTIFS(Market_Panel!$A$2:$A$2705,B34,Market_Panel!$B$2:$B$2705,">="&$B$5,Market_Panel!$B$2:$B$2705,"<="&$C$5) -> 9 | E34: =IF(D34=0,"",AVERAGEIFS(Market_Panel!$M$2:$M$2705,Market_Panel!$A$2:$A$2705,B34,Market_Panel!$B$2:$B$2705,">="&$B$5,Market_Panel!$B$2:$B$2705,"<="&$C$5)) -> 0.023191596 | F34: =IF(D34=0,"",AVERAGEIFS(Market_Panel!$P$2:$P$2705,Market_Panel!$A$2:$A$2705,B34,Market_Panel!$B$2:$B$2705,">="&$B$5,Market_Panel!$B$2:$B$2705,"<="&$C$5)) -> -0.59483882 | G34: =IF(D34=0,"",AVERAGEIFS(Market_Panel!$R$2:$R$2705,Market_Panel!$A$2:$A$2705,B34,Market_Panel!$B$2:$B$2705,">="&$B$5,Market_Panel!$B$2:$B$2705,"<="&$C$5)) -> 0 | H34: =IF(OR(D34=0,$H$5=0),0,AVERAGEIFS(Market_Panel!$Y$2:$Y$2705,Market_Panel!$A$2:$A$2705,B34,Market_Panel!$B$2:$B$2705,">="&$B$5,Market_Panel!$B$2:$B$2705,"<="&$C$5)) -> 0 | I34: =IF(D34=0,"",$I$5+$F$5*F34+$G$5*G34+$H$5*H34) -> -0.030460769 | J34: =IF(D34<5,"",(E34-I34)*162) -> 8.6916831 | K34: =IF(D34=0,"",E34*162) -> 3.7570385 | L34: =SUMIFS(Seasons!$L$2:$L$2865,Seasons!$A$2:$A$2865,B34,Seasons!$B$2:$B$2865,">="&$B$5,Seasons!$B$2:$B$2865,"<="&$C$5) -> 2 | M34: =SUMIFS(Seasons!$N$2:$N$2865,Seasons!$A$2:$A$2865,B34,Seasons!$B$2:$B$2865,">="&$B$5,Seasons!$B$2:$B$2865,"<="&$C$5) -> 1 | N34: =IF(J34="",-1000000,J34+ROW()*0.000000001) -> 8.6916831 | O34: =IF(J34="","",SUMPRODUCT(($A$25:$A$534=A34)*($N$25:$N$534>N34))+1) -> 3 | P34: =A34&"|"&O34 -> 1900s|3
A35: 1900s | B35: CHW | C35: Established | D35: =COUNTIFS(Market_Panel!$A$2:$A$2705,B35,Market_Panel!$B$2:$B$2705,">="&$B$5,Market_Panel!$B$2:$B$2705,"<="&$C$5) -> 9 | E35: =IF(D35=0,"",AVERAGEIFS(Market_Panel!$M$2:$M$2705,Market_Panel!$A$2:$A$2705,B35,Market_Panel!$B$2:$B$2705,">="&$B$5,Market_Panel!$B$2:$B$2705,"<="&$C$5)) -> 0.062246678 | F35: =IF(D35=0,"",AVERAGEIFS(Market_Panel!$P$2:$P$2705,Market_Panel!$A$2:$A$2705,B35,Market_Panel!$B$2:$B$2705,">="&$B$5,Market_Panel!$B$2:$B$2705,"<="&$C$5)) -> 0.54984454 | G35: =IF(D35=0,"",AVERAGEIFS(Market_Panel!$R$2:$R$2705,Market_Panel!$A$2:$A$2705,B35,Market_Panel!$B$2:$B$2705,">="&$B$5,Market_Panel!$B$2:$B$2705,"<="&$C$5)) -> 0 | H35: =IF(OR(D35=0,$H$5=0),0,AVERAGEIFS(Market_Panel!$Y$2:$Y$2705,Market_Panel!$A$2:$A$2705,B35,Market_Panel!$B$2:$B$2705,">="&$B$5,Market_Panel!$B$2:$B$2705,"<="&$C$5)) -> 0 | I35: =IF(D35=0,"",$I$5+$F$5*F35+$G$5*G35+$H$5*H35) -> 0.028156682 | J35: =IF(D35<5,"",(E35-I35)*162) -> 5.5225793 | K35: =IF(D35=0,"",E35*162) -> 10.083962 | L35: =SUMIFS(Seasons!$L$2:$L$2865,Seasons!$A$2:$A$2865,B35,Seasons!$B$2:$B$2865,">="&$B$5,Seasons!$B$2:$B$2865,"<="&$C$5) -> 2 | M35: =SUMIFS(Seasons!$N$2:$N$2865,Seasons!$A$2:$A$2865,B35,Seasons!$B$2:$B$2865,">="&$B$5,Seasons!$B$2:$B$2865,"<="&$C$5) -> 1 | N35: =IF(J35="",-1000000,J35+ROW()*0.000000001) -> 5.5225794 | O35: =IF(J35="","",SUMPRODUCT(($A$25:$A$534=A35)*($N$25:$N$534>N35))+1) -> 6 | P35: =A35&"|"&O35 -> 1900s|6
A36: 1900s | B36: CLE | C36: Established | D36: =COUNTIFS(Market_Panel!$A$2:$A$2705,B36,Market_Panel!$B$2:$B$2705,">="&$B$5,Market_Panel!$B$2:$B$2705,"<="&$C$5) -> 9 | E36: =IF(D36=0,"",AVERAGEIFS(Market_Panel!$M$2:$M$2705,Market_Panel!$A$2:$A$2705,B36,Market_Panel!$B$2:$B$2705,">="&$B$5,Market_Panel!$B$2:$B$2705,"<="&$C$5)) -> 0.022135547 | F36: =IF(D36=0,"",AVERAGEIFS(Market_Panel!$P$2:$P$2705,Market_Panel!$A$2:$A$2705,B36,Market_Panel!$B$2:$B$2705,">="&$B$5,Market_Panel!$B$2:$B$2705,"<="&$C$5)) -> -0.1835645 | G36: =IF(D36=0,"",AVERAGEIFS(Market_Panel!$R$2:$R$2705,Market_Panel!$A$2:$A$2705,B36,Market_Panel!$B$2:$B$2705,">="&$B$5,Market_Panel!$B$2:$B$2705,"<="&$C$5)) -> 0 | H36: =IF(OR(D36=0,$H$5=0),0,AVERAGEIFS(Market_Panel!$Y$2:$Y$2705,Market_Panel!$A$2:$A$2705,B36,Market_Panel!$B$2:$B$2705,">="&$B$5,Market_Panel!$B$2:$B$2705,"<="&$C$5)) -> 0 | I36: =IF(D36=0,"",$I$5+$F$5*F36+$G$5*G36+$H$5*H36) -> -0.0094000522 | J36: =IF(D36<5,"",(E36-I36)*162) -> 5.108767 | K36: =IF(D36=0,"",E36*162) -> 3.5859586 | L36: =SUMIFS(Seasons!$L$2:$L$2865,Seasons!$A$2:$A$2865,B36,Seasons!$B$2:$B$2865,">="&$B$5,Seasons!$B$2:$B$2865,"<="&$C$5) -> 0 | M36: =SUMIFS(Seasons!$N$2:$N$2865,Seasons!$A$2:$A$2865,B36,Seasons!$B$2:$B$2865,">="&$B$5,Seasons!$B$2:$B$2865,"<="&$C$5) -> 0 | N36: =IF(J36="",-1000000,J36+ROW()*0.000000001) -> 5.1087671 | O36: =IF(J36="","",SUMPRODUCT(($A$25:$A$534=A36)*($N$25:$N$534>N36))+1) -> 7 | P36: =A36&"|"&O36 -> 1900s|7
... A54: 1900s | B54: TBD | C54: Expansion | D54: =COUNTIFS(Market_Panel!$A$2:$A$2705,B54,Market_Panel!$B$2:$B$2705,">="&$B$5,Market_Panel!$B$2:$B$2705,"<="&$C$5) -> 0 | E54: =IF(D54=0,"",AVERAGEIFS(Market_Panel!$M$2:$M$2705,Market_Panel!$A$2:$A$2705,B54,Market_Panel!$B$2:$B$2705,">="&$B$5,Market_Panel!$B$2:$B$2705,"<="&$C$5)) | F54: =IF(D54=0,"",AVERAGEIFS(Market_Panel!$P$2:$P$2705,Market_Panel!$A$2:$A$2705,B54,Market_Panel!$B$2:$B$2705,">="&$B$5,Market_Panel!$B$2:$B$2705,"<="&$C$5)) | G54: =IF(D54=0,"",AVERAGEIFS(Market_Panel!$R$2:$R$2705,Market_Panel!$A$2:$A$2705,B54,Market_Panel!$B$2:$B$2705,">="&$B$5,Market_Panel!$B$2:$B$2705,"<="&$C$5)) | H54: =IF(OR(D54=0,$H$5=0),0,AVERAGEIFS(Market_Panel!$Y$2:$Y$2705,Market_Panel!$A$2:$A$2705,B54,Market_Panel!$B$2:$B$2705,">="&$B$5,Market_Panel!$B$2:$B$2705,"<="&$C$5)) -> 0 | I54: =IF(D54=0,"",$I$5+$F$5*F54+$G$5*G54+$H$5*H54) | J54: =IF(D54<5,"",(E54-I54)*162) | K54: =IF(D54=0,"",E54*162) | L54: =SUMIFS(Seasons!$L$2:$L$2865,Seasons!$A$2:$A$2865,B54,Seasons!$B$2:$B$2865,">="&$B$5,Seasons!$B$2:$B$2865,"<="&$C$5) -> 0 | M54: =SUMIFS(Seasons!$N$2:$N$2865,Seasons!$A$2:$A$2865,B54,Seasons!$B$2:$B$2865,">="&$B$5,Seasons!$B$2:$B$2865,"<="&$C$5) -> 0 | N54: =IF(J54="",-1000000,J54+ROW()*0.000000001) -> -1000000 | O54: =IF(J54="","",SUMPRODUCT(($A$25:$A$534=A54)*($N$25:$N$534>N54))+1) | P54: =A54&"|"&O54 -> 1900s|
A55: 1910s | B55: ATL | C55: Established | D55: =COUNTIFS(Market_Panel!$A$2:$A$2705,B55,Market_Panel!$B$2:$B$2705,">="&$B$6,Market_Panel!$B$2:$B$2705,"<="&$C$6) -> 10 | E55: =IF(D55=0,"",AVERAGEIFS(Market_Panel!$M$2:$M$2705,Market_Panel!$A$2:$A$2705,B55,Market_Panel!$B$2:$B$2705,">="&$B$6,Market_Panel!$B$2:$B$2705,"<="&$C$6)) -> -0.051108066 | F55: =IF(D55=0,"",AVERAGEIFS(Market_Panel!$P$2:$P$2705,Market_Panel!$A$2:$A$2705,B55,Market_Panel!$B$2:$B$2705,">="&$B$6,Market_Panel!$B$2:$B$2705,"<="&$C$6)) -> -0.67622051 | G55: =IF(D55=0,"",AVERAGEIFS(Market_Panel!$R$2:$R$2705,Market_Panel!$A$2:$A$2705,B55,Market_Panel!$B$2:$B$2705,">="&$B$6,Market_Panel!$B$2:$B$2705,"<="&$C$6)) -> 0 | H55: =IF(OR(D55=0,$H$6=0),0,AVERAGEIFS(Market_Panel!$Y$2:$Y$2705,Market_Panel!$A$2:$A$2705,B55,Market_Panel!$B$2:$B$2705,">="&$B$6,Market_Panel!$B$2:$B$2705,"<="&$C$6)) -> 0 | I55: =IF(D55=0,"",$I$6+$F$6*F55+$G$6*G55+$H$6*H55) -> -0.020800526 | J55: =IF(D55<5,"",(E55-I55)*162) -> -4.9098214 | K55: =IF(D55=0,"",E55*162) -> -8.2795066 | L55: =SUMIFS(Seasons!$L$2:$L$2865,Seasons!$A$2:$A$2865,B55,Seasons!$B$2:$B$2865,">="&$B$6,Seasons!$B$2:$B$2865,"<="&$C$6) -> 1 | M55: =SUMIFS(Seasons!$N$2:$N$2865,Seasons!$A$2:$A$2865,B55,Seasons!$B$2:$B$2865,">="&$B$6,Seasons!$B$2:$B$2865,"<="&$C$6) -> 1 | N55: =IF(J55="",-1000000,J55+ROW()*0.000000001) -> -4.9098214 | O55: =IF(J55="","",SUMPRODUCT(($A$25:$A$534=A55)*($N$25:$N$534>N55))+1) -> 12 | P55: =A55&"|"&O55 -> 1910s|12
A56: 1910s | B56: CHC | C56: Established | D56: =COUNTIFS(Market_Panel!$A$2:$A$2705,B56,Market_Panel!$B$2:$B$2705,">="&$B$6,Market_Panel!$B$2:$B$2705,"<="&$C$6) -> 10 | E56: =IF(D56=0,"",AVERAGEIFS(Market_Panel!$M$2:$M$2705,Market_Panel!$A$2:$A$2705,B56,Market_Panel!$B$2:$B$2705,">="&$B$6,Market_Panel!$B$2:$B$2705,"<="&$C$6)) -> 0.054374298 | F56: =IF(D56=0,"",AVERAGEIFS(Market_Panel!$P$2:$P$2705,Market_Panel!$A$2:$A$2705,B56,Market_Panel!$B$2:$B$2705,">="&$B$6,Market_Panel!$B$2:$B$2705,"<="&$C$6)) -> 0.55139189 | G56: =IF(D56=0,"",AVERAGEIFS(Market_Panel!$R$2:$R$2705,Market_Panel!$A$2:$A$2705,B56,Market_Panel!$B$2:$B$2705,">="&$B$6,Market_Panel!$B$2:$B$2705,"<="&$C$6)) -> 0 | H56: =IF(OR(D56=0,$H$6=0),0,AVERAGEIFS(Market_Panel!$Y$2:$Y$2705,Market_Panel!$A$2:$A$2705,B56,Market_Panel!$B$2:$B$2705,">="&$B$6,Market_Panel!$B$2:$B$2705,"<="&$C$6)) -> 0 | I56: =IF(D56=0,"",$I$6+$F$6*F56+$G$6*G56+$H$6*H56) -> 0.016960801 | J56: =IF(D56<5,"",(E56-I56)*162) -> 6.0609866 | K56: =IF(D56=0,"",E56*162) -> 8.8086363 | L56: =SUMIFS(Seasons!$L$2:$L$2865,Seasons!$A$2:$A$2865,B56,Seasons!$B$2:$B$2865,">="&$B$6,Seasons!$B$2:$B$2865,"<="&$C$6) -> 2 | M56: =SUMIFS(Seasons!$N$2:$N$2865,Seasons!$A$2:$A$2865,B56,Seasons!$B$2:$B$2865,">="&$B$6,Seasons!$B$2:$B$2865,"<="&$C$6) -> 0 | N56: =IF(J56="",-1000000,J56+ROW()*0.000000001) -> 6.0609866 | O56: =IF(J56="","",SUMPRODUCT(($A$25:$A$534=A56)*($N$25:$N$534>N56))+1) -> 3 | P56: =A56&"|"&O56 -> 1910s|3
A57: 1910s | B57: CIN | C57: Established | D57: =COUNTIFS(Market_Panel!$A$2:$A$2705,B57,Market_Panel!$B$2:$B$2705,">="&$B$6,Market_Panel!$B$2:$B$2705,"<="&$C$6) -> 10 | E57: =IF(D57=0,"",AVERAGEIFS(Market_Panel!$M$2:$M$2705,Market_Panel!$A$2:$A$2705,B57,Market_Panel!$B$2:$B$2705,">="&$B$6,Market_Panel!$B$2:$B$2705,"<="&$C$6)) -> -0.018044704 | F57: =IF(D57=0,"",AVERAGEIFS(Market_Panel!$P$2:$P$2705,Market_Panel!$A$2:$A$2705,B57,Market_Panel!$B$2:$B$2705,">="&$B$6,Market_Panel!$B$2:$B$2705,"<="&$C$6)) -> -0.6000475 | G57: =IF(D57=0,"",AVERAGEIFS(Market_Panel!$R$2:$R$2705,Market_Panel!$A$2:$A$2705,B57,Market_Panel!$B$2:$B$2705,">="&$B$6,Market_Panel!$B$2:$B$2705,"<="&$C$6)) -> 0 | H57: =IF(OR(D57=0,$H$6=0),0,AVERAGEIFS(Market_Panel!$Y$2:$Y$2705,Market_Panel!$A$2:$A$2705,B57,Market_Panel!$B$2:$B$2705,">="&$B$6,Market_Panel!$B$2:$B$2705,"<="&$C$6)) -> 0 | I57: =IF(D57=0,"",$I$6+$F$6*F57+$G$6*G57+$H$6*H57) -> -0.018457446 | J57: =IF(D57<5,"",(E57-I57)*162) -> 0.066864223 | K57: =IF(D57=0,"",E57*162) -> -2.923242 | L57: =SUMIFS(Seasons!$L$2:$L$2865,Seasons!$A$2:$A$2865,B57,Seasons!$B$2:$B$2865,">="&$B$6,Seasons!$B$2:$B$2865,"<="&$C$6) -> 1 | M57: =SUMIFS(Seasons!$N$2:$N$2865,Seasons!$A$2:$A$2865,B57,Seasons!$B$2:$B$2865,">="&$B$6,Seasons!$B$2:$B$2865,"<="&$C$6) -> 1 | N57: =IF(J57="",-1000000,J57+ROW()*0.000000001) -> 0.06686428 | O57: =IF(J57="","",SUMPRODUCT(($A$25:$A$534=A57)*($N$25:$N$534>N57))+1) -> 10 | P57: =A57&"|"&O57 -> 1910s|10
A58: 1910s | B58: PIT | C58: Established | D58: =COUNTIFS(Market_Panel!$A$2:$A$2705,B58,Market_Panel!$B$2:$B$2705,">="&$B$6,Market_Panel!$B$2:$B$2705,"<="&$C$6) -> 10 | E58: =IF(D58=0,"",AVERAGEIFS(Market_Panel!$M$2:$M$2705,Market_Panel!$A$2:$A$2705,B58,Market_Panel!$B$2:$B$2705,">="&$B$6,Market_Panel!$B$2:$B$2705,"<="&$C$6)) -> -0.0040197531 | F58: =IF(D58=0,"",AVERAGEIFS(Market_Panel!$P$2:$P$2705,Market_Panel!$A$2:$A$2705,B58,Market_Panel!$B$2:$B$2705,">="&$B$6,Market_Panel!$B$2:$B$2705,"<="&$C$6)) -> -0.21651411 | G58: =IF(D58=0,"",AVERAGEIFS(Market_Panel!$R$2:$R$2705,Market_Panel!$A$2:$A$2705,B58,Market_Panel!$B$2:$B$2705,">="&$B$6,Market_Panel!$B$2:$B$2705,"<="&$C$6)) -> 0 | H58: =IF(OR(D58=0,$H$6=0),0,AVERAGEIFS(Market_Panel!$Y$2:$Y$2705,Market_Panel!$A$2:$A$2705,B58,Market_Panel!$B$2:$B$2705,">="&$B$6,Market_Panel!$B$2:$B$2705,"<="&$C$6)) -> 0 | I58: =IF(D58=0,"",$I$6+$F$6*F58+$G$6*G58+$H$6*H58) -> -0.0066599687 | J58: =IF(D58<5,"",(E58-I58)*162) -> 0.42771492 | K58: =IF(D58=0,"",E58*162) -> -0.6512 | L58: =SUMIFS(Seasons!$L$2:$L$2865,Seasons!$A$2:$A$2865,B58,Seasons!$B$2:$B$2865,">="&$B$6,Seasons!$B$2:$B$2865,"<="&$C$6) -> 0 | M58: =SUMIFS(Seasons!$N$2:$N$2865,Seasons!$A$2:$A$2865,B58,Seasons!$B$2:$B$2865,">="&$B$6,Seasons!$B$2:$B$2865,"<="&$C$6) -> 0 | N58: =IF(J58="",-1000000,J58+ROW()*0.000000001) -> 0.42771498 | O58: =IF(J58="","",SUMPRODUCT(($A$25:$A$534=A58)*($N$25:$N$534>N58))+1) -> 8 | P58: =A58&"|"&O58 -> 1910s|8
A59: 1910s | B59: STL | C59: Established | D59: =COUNTIFS(Market_Panel!$A$2:$A$2705,B59,Market_Panel!$B$2:$B$2705,">="&$B$6,Market_Panel!$B$2:$B$2705,"<="&$C$6) -> 10 | E59: =IF(D59=0,"",AVERAGEIFS(Market_Panel!$M$2:$M$2705,Market_Panel!$A$2:$A$2705,B59,Market_Panel!$B$2:$B$2705,">="&$B$6,Market_Panel!$B$2:$B$2705,"<="&$C$6)) -> -0.061171202 | F59: =IF(D59=0,"",AVERAGEIFS(Market_Panel!$P$2:$P$2705,Market_Panel!$A$2:$A$2705,B59,Market_Panel!$B$2:$B$2705,">="&$B$6,Market_Panel!$B$2:$B$2705,"<="&$C$6)) -> -0.64819802 | G59: =IF(D59=0,"",AVERAGEIFS(Market_Panel!$R$2:$R$2705,Market_Panel!$A$2:$A$2705,B59,Market_Panel!$B$2:$B$2705,">="&$B$6,Market_Panel!$B$2:$B$2705,"<="&$C$6)) -> 0 | H59: =IF(OR(D59=0,$H$6=0),0,AVERAGEIFS(Market_Panel!$Y$2:$Y$2705,Market_Panel!$A$2:$A$2705,B59,Market_Panel!$B$2:$B$2705,">="&$B$6,Market_Panel!$B$2:$B$2705,"<="&$C$6)) -> 0 | I59: =IF(D59=0,"",$I$6+$F$6*F59+$G$6*G59+$H$6*H59) -> -0.019938555 | J59: =IF(D59<5,"",(E59-I59)*162) -> -6.6796888 | K59: =IF(D59=0,"",E59*162) -> -9.9097347 | L59: =SUMIFS(Seasons!$L$2:$L$2865,Seasons!$A$2:$A$2865,B59,Seasons!$B$2:$B$2865,">="&$B$6,Seasons!$B$2:$B$2865,"<="&$C$6) -> 0 | M59: =SUMIFS(Seasons!$N$2:$N$2865,Seasons!$A$2:$A$2865,B59,Seasons!$B$2:$B$2865,">="&$B$6,Seasons!$B$2:$B$2865,"<="&$C$6) -> 0 | N59: =IF(J59="",-1000000,J59+ROW()*0.000000001) -> -6.6796888 | O59: =IF(J59="","",SUMPRODUCT(($A$25:$A$534=A59)*($N$25:$N$534>N59))+1) -> 13 | P59: =A59&"|"&O59 -> 1910s|13
...

Sheet Survivorship
A1: Survivorship: how much of the established clubs' edge is selection?
A2: Pooled win-loss records of the 30 surviving franchises by era, from the Seasons sheet, against the folded clubs on the Defunct sheet. The league as a whole is .500 by construction, so any survivor edge must be offset by someone else's losses.
A4: Group / era | B4: From | C4: To | D4: Wins | E4: Losses | F4: Win% | G4: Team-seasons
A5: All 30 survivors, 1871-1900 | B5: 1871 | C5: 1900 | D5: =SUMIFS(Seasons!$D$2:$D$2865,Seasons!$B$2:$B$2865,">="&B5,Seasons!$B$2:$B$2865,"<="&C5) -> 10733 | E5: =SUMIFS(Seasons!$E$2:$E$2865,Seasons!$B$2:$B$2865,">="&B5,Seasons!$B$2:$B$2865,"<="&C5) -> 9244 | F5: =D5/(D5+E5) -> 0.53726786 | G5: =COUNTIFS(Seasons!$B$2:$B$2865,">="&B5,Seasons!$B$2:$B$2865,"<="&C5) -> 160
A6: All 30 survivors, 1901-1960 (closed 16-club league) | B6: 1901 | C6: 1960 | D6: =SUMIFS(Seasons!$D$2:$D$2865,Seasons!$B$2:$B$2865,">="&B6,Seasons!$B$2:$B$2865,"<="&C6) -> 72658 | E6: =SUMIFS(Seasons!$E$2:$E$2865,Seasons!$B$2:$B$2865,">="&B6,Seasons!$B$2:$B$2865,"<="&C6) -> 72623 | F6: =D6/(D6+E6) -> 0.50012046 | G6: =COUNTIFS(Seasons!$B$2:$B$2865,">="&B6,Seasons!$B$2:$B$2865,"<="&C6) -> 958
A7: 16 older clubs, 1961-2025 | B7: 1961 | C7: 2025 | D7: =SUMIFS(Seasons!$D$2:$D$2865,Seasons!$A$2:$A$2865,"ATL",Seasons!$B$2:$B$2865,">="&B7,Seasons!$B$2:$B$2865,"<="&C7)+SUMIFS(Seasons!$D$2:$D$2865,Seasons!$A$2:$A$2865,"CHC",Seasons!$B$2:$B$2865,">="&B7,Seasons!$B$2:$B$2865,"<="&C7)+SUMIFS(Seasons!$D$2:$D$2865,Seasons!$A$2:$A$2865,"CIN",Seasons!$B$2:$B$2865,">="&B7,Seasons!$B$2:$B$2865,"<="&C7)+SUMIFS(Seasons!$D$2:$D$2865,Seasons!$A$2:$A$2865,"PIT",Seasons!$B$2:$B$2865,">="&B7,Seasons!$B$2:$B$2865,"<="&C7)+SUMIFS(Seasons!$D$2:$D$2865,Seasons!$A$2:$A$2865,"STL",Seasons!$B$2:$B$2865,">="&B7,Seasons!$B$2:$B$2865,"<="&C7)+SUMIFS(Seasons!$D$2:$D$2865,Seasons!$A$2:$A$2865,"PHI",Seasons!$B$2:$B$2865,">="&B7,Seasons!$B$2:$B$2865,"<="&C7)+SUMIFS(Seasons!$D$2:$D$2865,Seasons!$A$2:$A$2865,"SFG",Seasons!$B$2:$B$2865,">="&B7,Seasons!$B$2:$B$2865,"<="&C7)+SUMIFS(Seasons!$D$2:$D$2865,Seasons!$A$2:$A$2865,"LAD",Seasons!$B$2:$B$2865,">="&B7,Seasons!$B$2:$B$2865,"<="&C7)+SUMIFS(Seasons!$D$2:$D$2865,Seasons!$A$2:$A$2865,"BAL",Seasons!$B$2:$B$2865,">="&B7,Seasons!$B$2:$B$2865,"<="&C7)+SUMIFS(Seasons!$D$2:$D$2865,Seasons!$A$2:$A$2865,"BOS",Seasons!$B$2:$B$2865,">="&B7,Seasons!$B$2:$B$2865,"<="&C7)+SUMIFS(Seasons!$D$2:$D$2865,Seasons!$A$2:$A$2865,"CHW",Seasons!$B$2:$B$2865,">="&B7,Seasons!$B$2:$B$2865,"<="&C7)+SUMIFS(Seasons!$D$2:$D$2865,Seasons!$A$2:$A$2865,"CLE",Seasons!$B$2:$B$2865,">="&B7,Seasons!$B$2:$B$2865,"<="&C7)+SUMIFS(Seasons!$D$2:$D$2865,Seasons!$A$2:$A$2865,"DET",Seasons!$B$2:$B$2865,">="&B7,Seasons!$B$2:$B$2865,"<="&C7)+SUMIFS(Seasons!$D$2:$D$2865,Seasons!$A$2:$A$2865,"MIN",Seasons!$B$2:$B$2865,">="&B7,Seasons!$B$2:$B$2865,"<="&C7)+SUMIFS(Seasons!$D$2:$D$2865,Seasons!$A$2:$A$2865,"OAK",Seasons!$B$2:$B$2865,">="&B7,Seasons!$B$2:$B$2865,"<="&C7)+SUMIFS(Seasons!$D$2:$D$2865,Seasons!$A$2:$A$2865,"NYY",Seasons!$B$2:$B$2865,">="&B7,Seasons!$B$2:$B$2865,"<="&C7) -> 84160 | E7: =SUMIFS(Seasons!$E$2:$E$2865,Seasons!$A$2:$A$2865,"ATL",Seasons!$B$2:$B$2865,">="&B7,Seasons!$B$2:$B$2865,"<="&C7)+SUMIFS(Seasons!$E$2:$E$2865,Seasons!$A$2:$A$2865,"CHC",Seasons!$B$2:$B$2865,">="&B7,Seasons!$B$2:$B$2865,"<="&C7)+SUMIFS(Seasons!$E$2:$E$2865,Seasons!$A$2:$A$2865,"CIN",Seasons!$B$2:$B$2865,">="&B7,Seasons!$B$2:$B$2865,"<="&C7)+SUMIFS(Seasons!$E$2:$E$2865,Seasons!$A$2:$A$2865,"PIT",Seasons!$B$2:$B$2865,">="&B7,Seasons!$B$2:$B$2865,"<="&C7)+SUMIFS(Seasons!$E$2:$E$2865,Seasons!$A$2:$A$2865,"STL",Seasons!$B$2:$B$2865,">="&B7,Seasons!$B$2:$B$2865,"<="&C7)+SUMIFS(Seasons!$E$2:$E$2865,Seasons!$A$2:$A$2865,"PHI",Seasons!$B$2:$B$2865,">="&B7,Seasons!$B$2:$B$2865,"<="&C7)+SUMIFS(Seasons!$E$2:$E$2865,Seasons!$A$2:$A$2865,"SFG",Seasons!$B$2:$B$2865,">="&B7,Seasons!$B$2:$B$2865,"<="&C7)+SUMIFS(Seasons!$E$2:$E$2865,Seasons!$A$2:$A$2865,"LAD",Seasons!$B$2:$B$2865,">="&B7,Seasons!$B$2:$B$2865,"<="&C7)+SUMIFS(Seasons!$E$2:$E$2865,Seasons!$A$2:$A$2865,"BAL",Seasons!$B$2:$B$2865,">="&B7,Seasons!$B$2:$B$2865,"<="&C7)+SUMIFS(Seasons!$E$2:$E$2865,Seasons!$A$2:$A$2865,"BOS",Seasons!$B$2:$B$2865,">="&B7,Seasons!$B$2:$B$2865,"<="&C7)+SUMIFS(Seasons!$E$2:$E$2865,Seasons!$A$2:$A$2865,"CHW",Seasons!$B$2:$B$2865,">="&B7,Seasons!$B$2:$B$2865,"<="&C7)+SUMIFS(Seasons!$E$2:$E$2865,Seasons!$A$2:$A$2865,"CLE",Seasons!$B$2:$B$2865,">="&B7,Seasons!$B$2:$B$2865,"<="&C7)+SUMIFS(Seasons!$E$2:$E$2865,Seasons!$A$2:$A$2865,"DET",Seasons!$B$2:$B$2865,">="&B7,Seasons!$B$2:$B$2865,"<="&C7)+SUMIFS(Seasons!$E$2:$E$2865,Seasons!$A$2:$A$2865,"MIN",Seasons!$B$2:$B$2865,">="&B7,Seasons!$B$2:$B$2865,"<="&C7)+SUMIFS(Seasons!$E$2:$E$2865,Seasons!$A$2:$A$2865,"OAK",Seasons!$B$2:$B$2865,">="&B7,Seasons!$B$2:$B$2865,"<="&C7)+SUMIFS(Seasons!$E$2:$E$2865,Seasons!$A$2:$A$2865,"NYY",Seasons!$B$2:$B$2865,">="&B7,Seasons!$B$2:$B$2865,"<="&C7) -> 80389 | F7: =D7/(D7+E7) -> 0.51145859 | G7: =COUNTIFS(Seasons!$A$2:$A$2865,"ATL",Seasons!$B$2:$B$2865,">="&B7,Seasons!$B$2:$B$2865,"<="&C7)+COUNTIFS(Seasons!$A$2:$A$2865,"CHC",Seasons!$B$2:$B$2865,">="&B7,Seasons!$B$2:$B$2865,"<="&C7)+COUNTIFS(Seasons!$A$2:$A$2865,"CIN",Seasons!$B$2:$B$2865,">="&B7,Seasons!$B$2:$B$2865,"<="&C7)+COUNTIFS(Seasons!$A$2:$A$2865,"PIT",Seasons!$B$2:$B$2865,">="&B7,Seasons!$B$2:$B$2865,"<="&C7)+COUNTIFS(Seasons!$A$2:$A$2865,"STL",Seasons!$B$2:$B$2865,">="&B7,Seasons!$B$2:$B$2865,"<="&C7)+COUNTIFS(Seasons!$A$2:$A$2865,"PHI",Seasons!$B$2:$B$2865,">="&B7,Seasons!$B$2:$B$2865,"<="&C7)+COUNTIFS(Seasons!$A$2:$A$2865,"SFG",Seasons!$B$2:$B$2865,">="&B7,Seasons!$B$2:$B$2865,"<="&C7)+COUNTIFS(Seasons!$A$2:$A$2865,"LAD",Seasons!$B$2:$B$2865,">="&B7,Seasons!$B$2:$B$2865,"<="&C7)+COUNTIFS(Seasons!$A$2:$A$2865,"BAL",Seasons!$B$2:$B$2865,">="&B7,Seasons!$B$2:$B$2865,"<="&C7)+COUNTIFS(Seasons!$A$2:$A$2865,"BOS",Seasons!$B$2:$B$2865,">="&B7,Seasons!$B$2:$B$2865,"<="&C7)+COUNTIFS(Seasons!$A$2:$A$2865,"CHW",Seasons!$B$2:$B$2865,">="&B7,Seasons!$B$2:$B$2865,"<="&C7)+COUNTIFS(Seasons!$A$2:$A$2865,"CLE",Seasons!$B$2:$B$2865,">="&B7,Seasons!$B$2:$B$2865,"<="&C7)+COUNTIFS(Seasons!$A$2:$A$2865,"DET",Seasons!$B$2:$B$2865,">="&B7,Seasons!$B$2:$B$2865,"<="&C7)+COUNTIFS(Seasons!$A$2:$A$2865,"MIN",Seasons!$B$2:$B$2865,">="&B7,Seasons!$B$2:$B$2865,"<="&C7)+COUNTIFS(Seasons!$A$2:$A$2865,"OAK",Seasons!$B$2:$B$2865,">="&B7,Seasons!$B$2:$B$2865,"<="&C7)+COUNTIFS(Seasons!$A$2:$A$2865,"NYY",Seasons!$B$2:$B$2865,">="&B7,Seasons!$B$2:$B$2865,"<="&C7) -> 1040
A8: 14 expansion clubs, 1961-2025 | B8: 1961 | C8: 2025 | D8: =SUMIFS(Seasons!$D$2:$D$2865,Seasons!$A$2:$A$2865,"ANA",Seasons!$B$2:$B$2865,">="&B8,Seasons!$B$2:$B$2865,"<="&C8)+SUMIFS(Seasons!$D$2:$D$2865,Seasons!$A$2:$A$2865,"TEX",Seasons!$B$2:$B$2865,">="&B8,Seasons!$B$2:$B$2865,"<="&C8)+SUMIFS(Seasons!$D$2:$D$2865,Seasons!$A$2:$A$2865,"HOU",Seasons!$B$2:$B$2865,">="&B8,Seasons!$B$2:$B$2865,"<="&C8)+SUMIFS(Seasons!$D$2:$D$2865,Seasons!$A$2:$A$2865,"NYM",Seasons!$B$2:$B$2865,">="&B8,Seasons!$B$2:$B$2865,"<="&C8)+SUMIFS(Seasons!$D$2:$D$2865,Seasons!$A$2:$A$2865,"KCR",Seasons!$B$2:$B$2865,">="&B8,Seasons!$B$2:$B$2865,"<="&C8)+SUMIFS(Seasons!$D$2:$D$2865,Seasons!$A$2:$A$2865,"MIL",Seasons!$B$2:$B$2865,">="&B8,Seasons!$B$2:$B$2865,"<="&C8)+SUMIFS(Seasons!$D$2:$D$2865,Seasons!$A$2:$A$2865,"SDP",Seasons!$B$2:$B$2865,">="&B8,Seasons!$B$2:$B$2865,"<="&C8)+SUMIFS(Seasons!$D$2:$D$2865,Seasons!$A$2:$A$2865,"WSN",Seasons!$B$2:$B$2865,">="&B8,Seasons!$B$2:$B$2865,"<="&C8)+SUMIFS(Seasons!$D$2:$D$2865,Seasons!$A$2:$A$2865,"SEA",Seasons!$B$2:$B$2865,">="&B8,Seasons!$B$2:$B$2865,"<="&C8)+SUMIFS(Seasons!$D$2:$D$2865,Seasons!$A$2:$A$2865,"TOR",Seasons!$B$2:$B$2865,">="&B8,Seasons!$B$2:$B$2865,"<="&C8)+SUMIFS(Seasons!$D$2:$D$2865,Seasons!$A$2:$A$2865,"COL",Seasons!$B$2:$B$2865,">="&B8,Seasons!$B$2:$B$2865,"<="&C8)+SUMIFS(Seasons!$D$2:$D$2865,Seasons!$A$2:$A$2865,"FLA",Seasons!$B$2:$B$2865,">="&B8,Seasons!$B$2:$B$2865,"<="&C8)+SUMIFS(Seasons!$D$2:$D$2865,Seasons!$A$2:$A$2865,"ARI",Seasons!$B$2:$B$2865,">="&B8,Seasons!$B$2:$B$2865,"<="&C8)+SUMIFS(Seasons!$D$2:$D$2865,Seasons!$A$2:$A$2865,"TBD",Seasons!$B$2:$B$2865,">="&B8,Seasons!$B$2:$B$2865,"<="&C8) -> 53855 | E8: =SUMIFS(Seasons!$E$2:$E$2865,Seasons!$A$2:$A$2865,"ANA",Seasons!$B$2:$B$2865,">="&B8,Seasons!$B$2:$B$2865,"<="&C8)+SUMIFS(Seasons!$E$2:$E$2865,Seasons!$A$2:$A$2865,"TEX",Seasons!$B$2:$B$2865,">="&B8,Seasons!$B$2:$B$2865,"<="&C8)+SUMIFS(Seasons!$E$2:$E$2865,Seasons!$A$2:$A$2865,"HOU",Seasons!$B$2:$B$2865,">="&B8,Seasons!$B$2:$B$2865,"<="&C8)+SUMIFS(Seasons!$E$2:$E$2865,Seasons!$A$2:$A$2865,"NYM",Seasons!$B$2:$B$2865,">="&B8,Seasons!$B$2:$B$2865,"<="&C8)+SUMIFS(Seasons!$E$2:$E$2865,Seasons!$A$2:$A$2865,"KCR",Seasons!$B$2:$B$2865,">="&B8,Seasons!$B$2:$B$2865,"<="&C8)+SUMIFS(Seasons!$E$2:$E$2865,Seasons!$A$2:$A$2865,"MIL",Seasons!$B$2:$B$2865,">="&B8,Seasons!$B$2:$B$2865,"<="&C8)+SUMIFS(Seasons!$E$2:$E$2865,Seasons!$A$2:$A$2865,"SDP",Seasons!$B$2:$B$2865,">="&B8,Seasons!$B$2:$B$2865,"<="&C8)+SUMIFS(Seasons!$E$2:$E$2865,Seasons!$A$2:$A$2865,"WSN",Seasons!$B$2:$B$2865,">="&B8,Seasons!$B$2:$B$2865,"<="&C8)+SUMIFS(Seasons!$E$2:$E$2865,Seasons!$A$2:$A$2865,"SEA",Seasons!$B$2:$B$2865,">="&B8,Seasons!$B$2:$B$2865,"<="&C8)+SUMIFS(Seasons!$E$2:$E$2865,Seasons!$A$2:$A$2865,"TOR",Seasons!$B$2:$B$2865,">="&B8,Seasons!$B$2:$B$2865,"<="&C8)+SUMIFS(Seasons!$E$2:$E$2865,Seasons!$A$2:$A$2865,"COL",Seasons!$B$2:$B$2865,">="&B8,Seasons!$B$2:$B$2865,"<="&C8)+SUMIFS(Seasons!$E$2:$E$2865,Seasons!$A$2:$A$2865,"FLA",Seasons!$B$2:$B$2865,">="&B8,Seasons!$B$2:$B$2865,"<="&C8)+SUMIFS(Seasons!$E$2:$E$2865,Seasons!$A$2:$A$2865,"ARI",Seasons!$B$2:$B$2865,">="&B8,Seasons!$B$2:$B$2865,"<="&C8)+SUMIFS(Seasons!$E$2:$E$2865,Seasons!$A$2:$A$2865,"TBD",Seasons!$B$2:$B$2865,">="&B8,Seasons!$B$2:$B$2865,"<="&C8) -> 57626 | F8: =D8/(D8+E8) -> 0.4830868 | G8: =COUNTIFS(Seasons!$A$2:$A$2865,"ANA",Seasons!$B$2:$B$2865,">="&B8,Seasons!$B$2:$B$2865,"<="&C8)+COUNTIFS(Seasons!$A$2:$A$2865,"TEX",Seasons!$B$2:$B$2865,">="&B8,Seasons!$B$2:$B$2865,"<="&C8)+COUNTIFS(Seasons!$A$2:$A$2865,"HOU",Seasons!$B$2:$B$2865,">="&B8,Seasons!$B$2:$B$2865,"<="&C8)+COUNTIFS(Seasons!$A$2:$A$2865,"NYM",Seasons!$B$2:$B$2865,">="&B8,Seasons!$B$2:$B$2865,"<="&C8)+COUNTIFS(Seasons!$A$2:$A$2865,"KCR",Seasons!$B$2:$B$2865,">="&B8,Seasons!$B$2:$B$2865,"<="&C8)+COUNTIFS(Seasons!$A$2:$A$2865,"MIL",Seasons!$B$2:$B$2865,">="&B8,Seasons!$B$2:$B$2865,"<="&C8)+COUNTIFS(Seasons!$A$2:$A$2865,"SDP",Seasons!$B$2:$B$2865,">="&B8,Seasons!$B$2:$B$2865,"<="&C8)+COUNTIFS(Seasons!$A$2:$A$2865,"WSN",Seasons!$B$2:$B$2865,">="&B8,Seasons!$B$2:$B$2865,"<="&C8)+COUNTIFS(Seasons!$A$2:$A$2865,"SEA",Seasons!$B$2:$B$2865,">="&B8,Seasons!$B$2:$B$2865,"<="&C8)+COUNTIFS(Seasons!$A$2:$A$2865,"TOR",Seasons!$B$2:$B$2865,">="&B8,Seasons!$B$2:$B$2865,"<="&C8)+COUNTIFS(Seasons!$A$2:$A$2865,"COL",Seasons!$B$2:$B$2865,">="&B8,Seasons!$B$2:$B$2865,"<="&C8)+COUNTIFS(Seasons!$A$2:$A$2865,"FLA",Seasons!$B$2:$B$2865,">="&B8,Seasons!$B$2:$B$2865,"<="&C8)+COUNTIFS(Seasons!$A$2:$A$2865,"ARI",Seasons!$B$2:$B$2865,">="&B8,Seasons!$B$2:$B$2865,"<="&C8)+COUNTIFS(Seasons!$A$2:$A$2865,"TBD",Seasons!$B$2:$B$2865,">="&B8,Seasons!$B$2:$B$2865,"<="&C8) -> 706
A9: 65 folded clubs, 1871-1915 (Defunct sheet) | B9: 1871 | C9: 1915 | D9: =SUM(Defunct!G2:G66) -> 9843 | E9: =SUM(Defunct!H2:H66) -> 11332 | F9: =D9/(D9+E9) -> 0.46484061 | G9: =SUM(Defunct!F2:F66) -> 189
A11: Share of all games ever played (survivors + folded) that involved a folded club | F11: =D9/(D9+E9)*0+(D9+E9)/((D9+E9)+(D5+E5)+(D6+E6)+(D7+E7)+(D8+E8)) -> 0.045787447
A12: Note: games in 1871-1960 only; the 1961-2025 rows overlap nothing above. The 'share' figure is folded-club games over all games in the table.

Sheet Market_Findings
A1: Does market size explain MLB success? Win% vs relative market size
A2: Each team-season: win% minus that season's league average, against ln(market population per club) minus that season's average. Market = home city proper (decennial Census, interpolated); clubs sharing a city split it equally. 1901-2025.
A4: Sample | B4: Seasons | C4: Slope (win% per ln unit) | D4: Correlation | E4: Wins/162 for a market twice the size | F4: Rows
A5: All seasons, 1901-2025 | B5: =COUNT(Market_Panel!$M$2:$M$2705) -> 2704 | C5: =SLOPE(Market_Panel!$M$2:$M$2705,Market_Panel!$P$2:$P$2705) -> 0.017006011 | D5: =CORREL(Market_Panel!$M$2:$M$2705,Market_Panel!$P$2:$P$2705) -> 0.14277559 | E5: =C5*LN(2)*162 -> 1.9096023 | F5: Market_Panel rows 2-2705
A6: 1901-1960 (16-club, closed league) | B6: =COUNT(Market_Panel!$M$2:$M$959) -> 958 | C6: =SLOPE(Market_Panel!$M$2:$M$959,Market_Panel!$P$2:$P$959) -> 0.035575349 | D6: =CORREL(Market_Panel!$M$2:$M$959,Market_Panel!$P$2:$P$959) -> 0.23742532 | E6: =C6*LN(2)*162 -> 3.9947504 | F6: Market_Panel rows 2-959
A7: 1961-2025 (expansion era) | B7: =COUNT(Market_Panel!$M$960:$M$2705) -> 1746 | C7: =SLOPE(Market_Panel!$M$960:$M$2705,Market_Panel!$P$960:$P$2705) -> 0.0086531637 | D7: =CORREL(Market_Panel!$M$960:$M$2705,Market_Panel!$P$960:$P$2705) -> 0.084567944 | E7: =C7*LN(2)*162 -> 0.9716624 | F7: Market_Panel rows 960-2705
A8: 1990-2025 | B8: =COUNT(Market_Panel!$M$1648:$M$2705) -> 1058 | C8: =SLOPE(Market_Panel!$M$1648:$M$2705,Market_Panel!$P$1648:$P$2705) -> 0.012100029 | D8: =CORREL(Market_Panel!$M$1648:$M$2705,Market_Panel!$P$1648:$P$2705) -> 0.12379974 | E8: =C8*LN(2)*162 -> 1.3587104 | F8: Market_Panel rows 1648-2705
A10: Controlled model, 1961-2025 (LINEST: win% vs avg on relative size, expansion, expansion first 10 yrs, Yankees)
A11: Variable | B11: Model A coefficient | C11: Wins/162 (A) | D11: Model B coefficient (adds Yankees) | E11: Wins/162 (B)
A12: Relative market size (per ln unit) | B12: =INDEX(LINEST(Market_Panel!$M$960:$M$2705,Market_Panel!$P$960:$R$2705),1,3) -> 0.010901015 | C12: =B12*LN(2)*162 -> 1.2240733 | D12: =INDEX(LINEST(Market_Panel!$M$960:$M$2705,Market_Panel!$P$960:$S$2705),1,4) -> 0.0053516615 | E12: =D12*LN(2)*162 -> 0.60093723
A13: Expansion club | B13: =INDEX(LINEST(Market_Panel!$M$960:$M$2705,Market_Panel!$P$960:$R$2705),1,2) -> -0.023407169 | C13: =B13*162 -> -3.7919613 | D13: =INDEX(LINEST(Market_Panel!$M$960:$M$2705,Market_Panel!$P$960:$S$2705),1,3) -> -0.018644497 | E13: =D13*162 -> -3.0204085
A14: Expansion club, first 10 seasons (extra) | B14: =INDEX(LINEST(Market_Panel!$M$960:$M$2705,Market_Panel!$P$960:$R$2705),1,1) -> -0.042227859 | C14: =B14*162 -> -6.8409131 | D14: =INDEX(LINEST(Market_Panel!$M$960:$M$2705,Market_Panel!$P$960:$S$2705),1,2) -> -0.044444712 | E14: =D14*162 -> -7.2000433
A15: Yankees | B15: n/a | D15: =INDEX(LINEST(Market_Panel!$M$960:$M$2705,Market_Panel!$P$960:$S$2705),1,1) -> 0.04339145 | E15: =D15*162 -> 7.0294149
A16: Intercept | B16: =INDEX(LINEST(Market_Panel!$M$960:$M$2705,Market_Panel!$P$960:$R$2705),1,4) -> 0.012850722 | C16: =B16*162 -> 2.081817 | D16: =INDEX(LINEST(Market_Panel!$M$960:$M$2705,Market_Panel!$P$960:$S$2705),1,5) -> 0.0094873024 | E16: =D16*162 -> 1.536943
A17: Coefficients are in win% points (0.01 = 1 point = about 1.6 wins per 162 games). The relative-size row's wins column is for a market twice the size. Standard errors are not computed here; see Notes.
A19: Club table: current market (2020 metro) vs 1995-2025 performance
A20: Franchise | B20: Group | C20: Market (2020) | D20: 2020 metro pop | E20: Clubs in market | F20: Metro pop per club | G20: ln | H20: Avg win% vs avg, 1995-2025 | I20: Predicted from market | J20: Over/under market | K20: Avg win% vs avg, all seasons | L20: Avg relative size, all seasons
A21: ATL | B21: Established | C21: Atlanta | D21: =INDEX(Pop_Inputs!$O$2:$O$29,MATCH(C21,Pop_Inputs!$A$2:$A$29,0)) -> 6411149 | E21: =COUNTIF($C$21:$C$50,C21) -> 1 | F21: =D21/E21 -> 6411149 | G21: =LN(F21) -> 15.673549 | H21: =AVERAGEIFS(Market_Panel!$M$2:$M$2705,Market_Panel!$A$2:$A$2705,A21,Market_Panel!$B$2:$B$2705,">=1995") -> 0.056962514 | I21: =$C$53+$C$52*G21 -> 0.0098732204 | J21: =H21-I21 -> 0.047089293 | K21: =AVERAGEIFS(Market_Panel!$M$2:$M$2705,Market_Panel!$A$2:$A$2705,A21) -> -0.0096283989 | L21: =AVERAGEIFS(Market_Panel!$P$2:$P$2705,Market_Panel!$A$2:$A$2705,A21) -> -0.68551508
A22: CHC | B22: Established | C22: Chicago | D22: =INDEX(Pop_Inputs!$O$2:$O$29,MATCH(C22,Pop_Inputs!$A$2:$A$29,0)) -> 9618502 | E22: =COUNTIF($C$21:$C$50,C22) -> 2 | F22: =D22/E22 -> 4809251 | G22: =LN(F22) -> 15.386052 | H22: =AVERAGEIFS(Market_Panel!$M$2:$M$2705,Market_Panel!$A$2:$A$2705,A22,Market_Panel!$B$2:$B$2705,">=1995") -> -0.0016662497 | I22: =$C$53+$C$52*G22 -> 0.0030352511 | J22: =H22-I22 -> -0.0047015008 | K22: =AVERAGEIFS(Market_Panel!$M$2:$M$2705,Market_Panel!$A$2:$A$2705,A22) -> 0.0055478383 | L22: =AVERAGEIFS(Market_Panel!$P$2:$P$2705,Market_Panel!$A$2:$A$2705,A22) -> 0.54614014
A23: CIN | B23: Established | C23: Cincinnati | D23: =INDEX(Pop_Inputs!$O$2:$O$29,MATCH(C23,Pop_Inputs!$A$2:$A$29,0)) -> 2265051 | E23: =COUNTIF($C$21:$C$50,C23) -> 1 | F23: =D23/E23 -> 2265051 | G23: =LN(F23) -> 14.633108 | H23: =AVERAGEIFS(Market_Panel!$M$2:$M$2705,Market_Panel!$A$2:$A$2705,A23,Market_Panel!$B$2:$B$2705,">=1995") -> -0.017757797 | I23: =$C$53+$C$52*G23 -> -0.01487313 | J23: =H23-I23 -> -0.0028846673 | K23: =AVERAGEIFS(Market_Panel!$M$2:$M$2705,Market_Panel!$A$2:$A$2705,A23) -> -0.0010307849 | L23: =AVERAGEIFS(Market_Panel!$P$2:$P$2705,Market_Panel!$A$2:$A$2705,A23) -> -0.77301997
A24: PIT | B24: Established | C24: Pittsburgh | D24: =INDEX(Pop_Inputs!$O$2:$O$29,MATCH(C24,Pop_Inputs!$A$2:$A$29,0)) -> 2429917 | E24: =COUNTIF($C$21:$C$50,C24) -> 1 | F24: =D24/E24 -> 2429917 | G24: =LN(F24) -> 14.703368 | H24: =AVERAGEIFS(Market_Panel!$M$2:$M$2705,Market_Panel!$A$2:$A$2705,A24,Market_Panel!$B$2:$B$2705,">=1995") -> -0.054481867 | I24: =$C$53+$C$52*G24 -> -0.013202037 | J24: =H24-I24 -> -0.04127983 | K24: =AVERAGEIFS(Market_Panel!$M$2:$M$2705,Market_Panel!$A$2:$A$2705,A24) -> 0.0032907952 | L24: =AVERAGEIFS(Market_Panel!$P$2:$P$2705,Market_Panel!$A$2:$A$2705,A24) -> -0.58974549
A25: STL | B25: Established | C25: St. Louis | D25: =INDEX(Pop_Inputs!$O$2:$O$29,MATCH(C25,Pop_Inputs!$A$2:$A$29,0)) -> 2809299 | E25: =COUNTIF($C$21:$C$50,C25) -> 1 | F25: =D25/E25 -> 2809299 | G25: =LN(F25) -> 14.848446 | H25: =AVERAGEIFS(Market_Panel!$M$2:$M$2705,Market_Panel!$A$2:$A$2705,A25,Market_Panel!$B$2:$B$2705,">=1995") -> 0.037852754 | I25: =$C$53+$C$52*G25 -> -0.0097514351 | J25: =H25-I25 -> 0.047604189 | K25: =AVERAGEIFS(Market_Panel!$M$2:$M$2705,Market_Panel!$A$2:$A$2705,A25) -> 0.020841928 | L25: =AVERAGEIFS(Market_Panel!$P$2:$P$2705,Market_Panel!$A$2:$A$2705,A25) -> -0.71539602
